Workbook

Sheet uj sablon rangsorok
A1: Sorszám | B1: Elnevezés | C1: Összesen | D1: adatszolgálttaók száma | E1: rendben? | F1: ALD | G1: Arval | H1: Budapest Lízing | I1: CIB Lízing | J1: Cofidis | K1: Deutsche Leasing | L1: DLL | M1: Erste | N1: KH | O1: Leaseplan | P1: Lombard | Q1: Merkantil | R1: MKB Euroleasing | S1: Oberlizing | T1: OTP | U1: Raiffeisen Lízing | V1: Regio | W1: SME Property Leasing | X1: Sociate Generale L | Y1: Takaréklízing | Z1: Unicredit Leasing | AA1: CITY Leasing | AB1: Scania becslés | AC1: VFS | AD1: PEAC | AE1: 0 | AF1: 0 | AG1: 0 | AH1: 0 | AI1: 0 | AK1: Új üzlet / Portfólió / Visszavett | AL1: Tábla | AM1: Eszköz kategória 1 | AN1: Eszköz kategória 2 | AO1: Eszköz kategória 3 (csak SZGK: Flotta, Retail, stb.) | AP1: Ügyfél besorolás | AQ1: Finanszírozás típusa | AR1: Új / Használt | AS1: Deviza | AT1: Futamidő (hónap) | AU1: EXIM Export / Verseny | BC1: Információ | BD1: Belsõ azonosító
A2: 1. | BC2: Kedves Kollégák, Változás! 2018. I. negyedévétõl az adatszolgáltatás megújult! Kérjük az új kérdõívnek, vagy az új sablonnak megfelelõen végezzétek a feltöltést! Javasoljuk a levélben kiküldött sablon tervezet felhasználását is, ahol ellenõrzéseket is lehet végezni. Az adatmezõk melletti definiciókat folyamatosan töltjük, javítjuk, ezért kérlek kérdés esetén használjátok a kiküldött sablon tervezetet is, ahol az egyes mezõk leírása és az összegzõ, ellenõrzõ mezõk is segítséget nyújthatnak. Az adatszolgáltatásra minden hónapban 3 hét áll rendelkezésre, az eredményeket az adattisztítás után, 1-1,5 héttel késõbb publikáljuk. | BD2: 185
A3: 2. | BC3: Statisztikai adatgyûjtés - Alapelvek Deviza vagy deviza-alapú szerzõdések esetén a forintösszegeket a finanszírozók saját számviteli politikájában meghatározott (át)értékelési módjának megfelelõen jelentik. A finanszírozott összeg illetve tõkekintlévõség értékek nem tartalmazzák a jutalék-elõfinanszírozáshoz, készletfinanszírozáshoz, visszavett eszközökhöz illetve fedezetlen követeléshez nyújtott kölcsönök összegeit. A bruttó eszközérték, finanszírozott összeg, szerzõdésszám értékek nem tartalmazzák az ugyanazon ügyféllel átstruktúrált, újrakötött, ezáltal jogilag újnak számító szerzõdések adatait. | BD3: 186
A4: 3. | BC4: Definíciók Jutalék-elõfinanszírozás: A kereskedõvel kötött együttmûködési szerzõdés részeként vagy annak kiegészítéseként megkötött megállapodás, mely szerint meghatározott forgalomvállalás esetén a kereskedõ a kialkudott kamatfeltételek mellett elõre egy összegben megkapja az idõszakra tervezett jutalékot. Készletfinanszírozás: A kereskedõk számára új gépjármûvek importõrtõl vagy más beszállítótól történõ beszerzésére, vagy a kereskedés tulajdonába került használt gépjármûvekre a gépjármû harmadik fél részére történõ továbbértékesítéséig történõ finanszírozása, annak típusától függetlenül. Fedezetlen követeléshez nyújtott kölcsön: A tervezett futamidõ elõtt lezárt/felmondott lízingszerzõdések elszámolását követõen fennmaradó tartozások rendezésére a lízingszerzõdés szerinti szerzõdõnek nyújtott áthidaló kölcsön. Bruttó eszközérték: A vonatkozó idõszakban a társaság által finanszírozott eszközök teljes - a beszerzés idõpontjában érvényes, általános forgalmi adót is tartalmazó ? értéke. Finanszírozott érték / Kihelyezés: A fenti alapelveknek megfelelõen, a vonatkozó idõszakban a finanszírozó és ügyfél közötti szerzõdésben kikötött, folyósításra került, az ügyfél által elismert tõkerész forintban kifejezett értéke. Tõkekintlévõség: A fenti alapelveknek megfelelõen, a jelentés fordulónapja után esedékessé váló, már folyósított, de még nem lejárt ügyféllel szembeni tõkekövetelések összege. Tipikusan nem tartoznak ide a fordulónap elõtti esedékességû, de még meg nem fizetett tõke-, kamat-, késedelmi kamat és áfa összegek. Ebben a kategóriában jelentendõ azonban a zártvégû pénzügyi lízing indulásakor kiszámlázott áfa összege akkor, ha azt az ügy indításakor a lízingbevevõ teljes egészében nem térítette meg a lízingbeadónak. Ide tartozik operatív lízing esetén az International Financial Reporting Strandards (IFRS) 17. sztenderdje szerint meghatározott nettó lízing befektetés, az induláskor közvetlenül felmerülõ költségek ( pl. jutalék, jogi költség) kivételével. Ha az adat nem áll rendelkezésre, akkor a tagvállalat Számviteli politikában meghatárzott értékcsökkenéssel számított nettó tárgyi eszköz értéket kell bemutatni a fordulónapra vonatkozóan. Szerzõdésszám: A vonatkozó idõszakban megkötött és folyósított új szerzõdések darabszáma. Állományra vonatkozó adatszolgáltatás esetén (portfolió méret) az idõszak végén fennálló, már folyósított élõ szerzõdések darabszáma. Eszköz kategóriák Személygépjármû: 3,5 tonna illetve az alatti összteherbírású személy- és kishaszonjármûvek, kivéve ahol az szgk vagy kishaszon megjelölés külön szerepel. Ebben az esetben csak a szûkített (szgk vagy kishaszon) állományt kell beírni. Motorkerékpár: egy nyomon haladó, kétkerekû motoros közlekedési eszköz. Flotta: A személygépjármûvek finanszírozási szerzõdésektõl független kategóriája, melyekhez minimálisan ? a casco biztosításra vonatkozó szolgáltatás kivételével ? legalább egy egyéb szolgáltatás kapcsolódik. Ebbe a kategóriába csak a saját kezelésben lévõ gépjármûvekre vonatkozó szerzõdések kerülnek. Refinanszírozott Flotta: A személygépjármûvek finanszírozási szerzõdésektõl független kategóriája, melyekhez minimálisan ? a casco biztosításra vonatkozó szolgáltatás kivételével ? legalább egy egyéb szolgáltatás kapcsolódik. Ebbe a kategóriába csak a nem saját kezelésben lévõ gépjármûvekre vonatkozó szerzõdések adatai kerülnek. Irányelvként szabályozott fogalom, a tagvállalatok flottafinanszírozásként a saját besorolási rendjüknek megfelelõen jelenthetnek. Flotta - csak kezelt: finanszírozási szolgáltatás nélkül az ügyfél tulajdonában maradó gépjármûvekhez nyújtott flotta kezelési szolgáltatásra kötött szerzõdések Tehergépjármû: 3,5 tonna feletti összteherbírású gépjármûvek. Busz: 18 fõnél nagyobb számú személyek szállítására alkalmas jármû Új gépjármû: Gyártástól számított maximum 12 hónapos újonnan forgalomba helyezett gépjármû. Mezõgazdasági gép: Mezõgazdasági erõ- és munkagépek Építõipari gép: Építõipari erõ- és munkagépek IT, szoftver, irodagép: Személyi számítógép, laptop, szerver, nyomtató, fax, fénymásoló, scanner, egyéb irodai használatú gép, szoftver Egyéb gép: a mezõgazdasági, építõipari és IT, szoftver, irodagép kategóriába nem sorolható eszközök (úgy mint a teljesség igénye nélkül: nyomdaipari eszközök, csomagolástechnikai eszközök, fém és mûanyag megmunkálás eszközei, anyagmozgatásra szolgáló eszközök, mûszeripari eszközök, orvostechnikai eszközök, fa- és asztalosipari eszközök, egyéb eszközök) Vasút, hajó, repülõ: Vasúti, légi és vizi közlekedés jármûvei Ingatlanok besorolásai: Négy kategóriát különböztetünk meg az ügyfél és az ingatlan jellege szerint: Lakossági és vállalati ügyfeleknek nyújtott lakáscélú és nem lakás célú finanszírozás. Ügyfelek besorolása Mikro-, kis- és középvállalkozások (KKV): A Gazdasági és Közlekedési Minisztérium által definiált vállalkozások. A minõsítés kritériumait az alábbi táblázat tartlamazza: Nagyvállalat: A mikro-, kis- és középvállalati kritériumoknak meg nem felelõ vállalkozás. Lakosság: Természetes devizabelföldi vagy devizakülföldi személyek. Egyéb: A lakosság, KKV illetve nagyvállalat definíciókon kívül esõ ügyfelek (ti.:állam, önkormányzat, külképviselet, stb.) | BD4: 187
A5: 4. | B5: Személy és kishaszonjármû - finanszírozott összeg - Exim Export | E5: <5 | AK5: Új üzlet | AL5: Finanszírozott összeg | AM5: SZGK, Kishaszon, Motor | AN5: TOTAL | AU5: EXIM - EXPORT | BC5: Az adott évben január 1 és a statisztikai adatgyûjtési idõszak vége között az EXIM Bank refinanszírozása keretében személy és kishaszonjármûvekre kihelyezett finanszírozott összeg. | BD5: 915
A6: 5. | B6: Tehergépjármû - finanszírozott összeg - Exim Export | E6: <5 | AK6: Új üzlet | AL6: Finanszírozott összeg | AM6: TGK, Pótkocsi, Busz | AN6: TOTAL | AU6: EXIM - EXPORT | BC6: Az adott évben január 1 és a statisztikai adatgyûjtési idõszak vége között az Exim Bank refinanszírozása keretében tehergépjármûvekre kihelyezett finanszírozott összeg. | BD6: 916
A7: 6. | B7: Mezõgazdasági gép - finanszírozott összeg - Exim Export | E7: <5 | AK7: Új üzlet | AL7: Finanszírozott összeg | AM7: Gép | AN7: Mezőgazdasági gép | AU7: EXIM - EXPORT | BC7: Az adott évben január 1 és a statisztikai adatgyûjtési idõszak vége között az Exim Bank refinanszírozása keretében mezõgazdasági gépekre kihelyezett finanszírozott összeg. | BD7: 917
A8: 7. | B8: Építõipari gép - finanszírozott összeg - Exim Export | E8: <5 | AK8: Új üzlet | AL8: Finanszírozott összeg | AM8: Gép | AN8: Építőipari gép | AU8: EXIM - EXPORT | BC8: Az adott évben január 1 és a statisztikai adatgyûjtési idõszak vége között az Exim Bank refinanszírozása keretében építõipari gépekre kihelyezett finanszírozott összeg. | BD8: 918
A9: 8. | B9: IT-irodai gépek - finanszírozott összeg - Exim Export | E9: <5 | AK9: Új üzlet | AL9: Finanszírozott összeg | AM9: Gép | AN9: IT és irodai gépek | AU9: EXIM - EXPORT | BC9: Az adott évben január 1 és a statisztikai adatgyûjtési idõszak vége között az Exim Bank refinanszírozása keretében IT és irodai eszközökre kihelyezett finanszírozott összeg. | BD9: 919
A10: 9. | B10: Egyéb gépek - finanszírozott összeg - Exim Export | E10: <5 | AK10: Új üzlet | AL10: Finanszírozott összeg | AM10: Gép | AN10: Egyéb gép | AU10: EXIM - EXPORT | BC10: Az adott évben január 1 és a statisztikai adatgyûjtési idõszak vége között az Exim Bank refinanszírozása keretében általános gépekre kihelyezett finanszírozott összeg. | BD10: 920
A11: 10. | B11: Lakás - finanszírozott összeg - Exim Export | E11: <5 | AK11: Új üzlet | AL11: Finanszírozott összeg | AM11: Ingatlan | AN11: Lakás | AU11: EXIM - EXPORT | BC11: Az adott évben január 1 és a statisztikai adatgyûjtési idõszak vége között az Exim Bank refinanszírozása keretében lakásfinanszírozásra kihelyezett finanszírozott összeg. | BD11: 921
A12: 11. | B12: Ingatlan - finanszírozott összeg - Exim Export | E12: <5 | AK12: Új üzlet | AL12: Finanszírozott összeg | AM12: Ingatlan | AN12: Nem lakás | AU12: EXIM - EXPORT | BC12: Az adott évben január 1 és a statisztikai adatgyûjtési idõszak vége között az Exim Bank refinanszírozása keretében nem lakás célú ingatlanokra kihelyezett finanszírozott összeg. | BD12: 922
A13: 12. | B13: Hajó, vasút, repülõ - finanszírozott összeg - Exim Export | E13: <5 | AK13: Új üzlet | AL13: Finanszírozott összeg | AM13: Vasút, Hajó, Repülő | AN13: TOTAL | AU13: EXIM - EXPORT | BC13: Az adott évben január 1 és a statisztikai adatgyûjtési idõszak vége között az Exim Bank refinanszírozása keretében hajóra, vasútra, repülõgépre kihelyezett finanszírozott összeg. | BD13: 923
A14: 13. | B14: Személy és kishaszonjárm? - finanszírozott összeg - EXIM Versenyképességi | E14: <5 | AK14: Új üzlet | AL14: Finanszírozott összeg | AM14: SZGK, Kishaszon, Motor | AN14: TOTAL | AU14: EXIM - VERSENY | BD14: 989
A15: 14. | B15: Tehergépjárm? - finanszírozott összeg - EXIM Versenyképességi | E15: <5 | AK15: Új üzlet | AL15: Finanszírozott összeg | AM15: TGK, Pótkocsi, Busz | AN15: TOTAL | AU15: EXIM - VERSENY | BD15: 990
A16: 15. | B16: Mezõgazdasági gép - finanszírozott összeg - EXIM Versenyképességi | E16: <5 | AK16: Új üzlet | AL16: Finanszírozott összeg | AM16: Gép | AN16: Mezőgazdasági gép | AU16: EXIM - VERSENY | BD16: 991
A17: 16. | B17: Építõipari gép - finanszírozott összeg - EXIM Versenyképességi | E17: <5 | AK17: Új üzlet | AL17: Finanszírozott összeg | AM17: Gép | AN17: Építőipari gép | AU17: EXIM - VERSENY | BD17: 992
A18: 17. | B18: IT-irodai gépek - finanszírozott összeg - EXIM Versenyképességi | E18: <5 | AK18: Új üzlet | AL18: Finanszírozott összeg | AM18: Gép | AN18: IT és irodai gépek | AU18: EXIM - VERSENY | BD18: 993
A19: 18. | B19: Egyéb gépek - finanszírozott összeg - EXIM Versenyképességi | E19: <5 | AK19: Új üzlet | AL19: Finanszírozott összeg | AM19: Gép | AN19: Egyéb gép | AU19: EXIM - VERSENY | BD19: 994
A20: 19. | B20: Lakás - finanszírozott összeg - EXIM Versenyképességi | E20: <5 | AK20: Új üzlet | AL20: Finanszírozott összeg | AM20: Ingatlan | AN20: Lakás | AU20: EXIM - VERSENY | BD20: 995
A21: 20. | B21: Ingatlan - finanszírozott összeg - EXIM Versenyképességi | E21: <5 | AK21: Új üzlet | AL21: Finanszírozott összeg | AM21: Ingatlan | AN21: Nem lakás | AU21: EXIM - VERSENY | BD21: 996
A22: 21. | B22: Hajó, vasút, repülõ - finanszírozott összeg - EXIM Versenyképességi | E22: <5 | AK22: Új üzlet | AL22: Finanszírozott összeg | AM22: Vasút, Hajó, Repülő | AN22: TOTAL | AU22: EXIM - VERSENY | BD22: 997
A23: 22. | B23: Személy és kishaszonjárm? - finanszírozott összeg - NHP Fix | C23: 30138291335 | D23: 10 | E23: ok | H23: 3 | I23: 6 | K23: 9 | M23: 7 | N23: 5 | Q23: 1 | R23: 2 | U23: 8 | Y23: 10 | Z23: 4 | AK23: Új üzlet | AL23: Finanszírozott összeg | AM23: SZGK, Kishaszon, Motor | AN23: TOTAL | AU23: NHP Fix
A24: 23. | B24: Tehergépjárm? - finanszírozott összeg - NHP Fix | C24: 2.0132422e+10 | D24: 11 | E24: ok | H24: 1 | I24: 4 | K24: 11 | M24: 8 | N24: 3 | Q24: 2 | R24: 6 | S24: 5 | U24: 10 | Y24: 9 | Z24: 7 | AK24: Új üzlet | AL24: Finanszírozott összeg | AM24: TGK, Pótkocsi, Busz | AN24: TOTAL | AU24: NHP Fix
A25: 24. | B25: Mezõgazdasági gép - finanszírozott összeg - NHP Fix | C25: 6.0471389e+10 | D25: 11 | E25: ok | H25: 5 | I25: 4 | K25: 6 | M25: 9 | N25: 8 | Q25: 1 | R25: 2 | S25: 10 | U25: 11 | Y25: 7 | Z25: 3 | AK25: Új üzlet | AL25: Finanszírozott összeg | AM25: Gép | AN25: Mezőgazdasági gép | AU25: NHP Fix
A26: 25. | B26: Építõipari gép - finanszírozott összeg - NHP Fix | C26: 7184679454 | D26: 11 | E26: ok | H26: 3 | I26: 10 | K26: 5 | M26: 11 | N26: 7 | Q26: 2 | R26: 6 | S26: 4 | U26: 8 | Y26: 9 | Z26: 1 | AK26: Új üzlet | AL26: Finanszírozott összeg | AM26: Gép | AN26: Építőipari gép | AU26: NHP Fix
A27: 26. | B27: IT-irodai gépek - finanszírozott összeg - NHP Fix | C27: 2.5768533e+08 | D27: 5 | E27: ok | H27: 1 | I27: 3 | N27: 4 | Q27: 2 | Z27: 5 | AK27: Új üzlet | AL27: Finanszírozott összeg | AM27: Gép | AN27: IT és irodai gépek | AU27: NHP Fix
A28: 27. | B28: Egyéb gépek - finanszírozott összeg - NHP Fix | C28: 9.8880057e+09 | D28: 11 | E28: ok | H28: 3 | I28: 4 | K28: 1 | M28: 9 | N28: 10 | Q28: 2 | R28: 5 | S28: 7 | U28: 8 | Y28: 11 | Z28: 6 | AK28: Új üzlet | AL28: Finanszírozott összeg | AM28: Gép | AN28: Egyéb gép | AU28: NHP Fix
A29: 28. | B29: Lakás - finanszírozott összeg - NHP Fix | E29: <5 | AK29: Új üzlet | AL29: Finanszírozott összeg | AM29: Ingatlan | AN29: Lakás | AU29: NHP Fix
A30: 29. | B30: Ingatlan - finanszírozott összeg - NHP Fix | E30: <5 | AK30: Új üzlet | AL30: Finanszírozott összeg | AM30: Ingatlan | AN30: Nem lakás | AU30: NHP Fix
A31: 30. | B31: Hajó, vasút, repülõ - finanszírozott összeg - NHP Fix | E31: <5 | AK31: Új üzlet | AL31: Finanszírozott összeg | AM31: Vasút, Hajó, Repülő | AN31: TOTAL | AU31: NHP Fix
A32: 31. | BC32: 3,5 tonna összteherbírás alatti személy-, és kishaszongépjármû RETAIL, MOTOR, FLOTTA, REFINANSZIROZOTT és CSAK KEZELT FLOTTA statisztikai adatokKérjük, az adatokat az ÉV ELEJÉTÕL AZ IDÕSZAK UTOLSÓ NAPJÁIG KUMMULÁLTAN adják meg! Kérjük, az adatokat Ft-ban (NEM millió Ft-ban!), vesszõ, pont, szünet, és egyéb karakterek használata nélkül adják meg! Kérjük, az adatokat úgy adják meg, hogy a Retail, Motor, Flotta és Refinanszírozott Flotta sorban szereplõ adatok ÖSSZEGE adja ki a teljes gépjármû finanszírozási volument, tehát a négy mezõben közölt adatok között NE LEGYEN ÁTFEDÉS! A LEASEUROPE adatszolgáltatásnak megfelelõen kérjük, adja meg a szerzõdések futamideje szerint megbontott finanszírozási volumen adatokat is! | BD32: 30
A33: 32. | B33: Retail - SZGK - Új - Bruttó eszközérték | C33: 1.9975581e+11 | D33: 13 | E33: ok | H33: 2 | I33: 5 | J33: 8 | K33: 9 | L33: 6 | N33: 13 | Q33: 1 | R33: 3 | U33: 7 | V33: 11 | X33: 10 | Z33: 4 | AA33: 12 | AK33: Új üzlet | AL33: Bruttó eszközérték | AM33: SZGK, Kishaszon, Motor | AN33: SZGK | AO33: Retail | AR33: Új | BD33: 998
A34: 33. | B34: Retail - SZGK - Használt - Bruttó eszközérték | C34: 6.836332e+10 | D34: 13 | E34: ok | H34: 2 | I34: 5 | J34: 4 | K34: 13 | L34: 7 | N34: 12 | Q34: 1 | R34: 3 | U34: 8 | V34: 9 | X34: 11 | Z34: 6 | AA34: 10 | AK34: Új üzlet | AL34: Bruttó eszközérték | AM34: SZGK, Kishaszon, Motor | AN34: SZGK | AO34: Retail | AR34: Használt | BD34: 999
A35: 34. | B35: Retail - Kishaszon - Új - Bruttó eszközérték | C35: 5.4816571e+10 | D35: 10 | E35: ok | H35: 3 | I35: 6 | K35: 8 | L35: 7 | Q35: 1 | R35: 2 | U35: 5 | V35: 10 | Z35: 4 | AA35: 9 | AK35: Új üzlet | AL35: Bruttó eszközérték | AM35: SZGK, Kishaszon, Motor | AN35: Kishaszon | AO35: Retail | AR35: Új | BD35: 1000
A36: 35. | B36: Retail - Kishaszon - Használt - Bruttó eszközérték | C36: 8.2715233e+09 | D36: 10 | E36: ok | H36: 3 | I36: 4 | K36: 10 | L36: 9 | Q36: 1 | R36: 2 | U36: 6 | V36: 8 | Z36: 5 | AA36: 7 | AK36: Új üzlet | AL36: Bruttó eszközérték | AM36: SZGK, Kishaszon, Motor | AN36: Kishaszon | AO36: Retail | AR36: Használt | BD36: 1001
A37: 36. | B37: Retail - Új - Lakossági - Bruttó eszközérték | C37: 82127531847 | D37: 6 | E37: ok | H37: 3 | I37: 5 | J37: 6 | Q37: 1 | R37: 4 | Z37: 2 | AK37: Új üzlet | AL37: Bruttó eszközérték | AM37: SZGK, Kishaszon, Motor | AO37: Retail | AP37: Lakossági | AR37: Új | BD37: 1002
A38: 37. | B38: Retail - Új - Vállalati - Bruttó eszközérték | C38: 1.6888185e+11 | D38: 13 | E38: ok | H38: 2 | I38: 5 | J38: 12 | K38: 8 | M38: 7 | N38: 13 | Q38: 1 | R38: 3 | U38: 6 | V38: 11 | X38: 9 | Z38: 4 | AA38: 10 | AK38: Új üzlet | AL38: Bruttó eszközérték | AM38: SZGK, Kishaszon, Motor | AO38: Retail | AP38: Mikro, Kis, Közép, Nagy, Állami | AR38: Új | BD38: 1003
A39: 38. | B39: Retail - Használt - Lakossági - Bruttó eszközérték | C39: 32870263477 | D39: 6 | E39: ok | H39: 2 | I39: 5 | J39: 4 | Q39: 1 | R39: 3 | Z39: 6 | AK39: Új üzlet | AL39: Bruttó eszközérték | AM39: SZGK, Kishaszon, Motor | AO39: Retail | AP39: Lakossági | AR39: Használt | BD39: 1004
A40: 39. | B40: Retail - Használt - Vállalati - Bruttó eszközérték | C40: 4.419031e+10 | D40: 13 | E40: ok | H40: 3 | I40: 4 | J40: 8 | K40: 13 | M40: 5 | N40: 12 | Q40: 1 | R40: 2 | U40: 7 | V40: 9 | X40: 11 | Z40: 6 | AA40: 10 | AK40: Új üzlet | AL40: Bruttó eszközérték | AM40: SZGK, Kishaszon, Motor | AO40: Retail | AP40: Mikro, Kis, Közép, Nagy, Állami | AR40: Használt | BD40: 1005
A41: 40. | B41: Retail - Lakossági - Kölcsön - Bruttó eszközérték | E41: <5 | AK41: Új üzlet | AL41: Bruttó eszközérték | AM41: SZGK, Kishaszon, Motor | AO41: Retail | AP41: Lakossági | AQ41: Kölcsön | BD41: 1006
A42: 41. | B42: Retail - Lakossági - Zárt végû - Bruttó eszközérték | C42: 113110713679 | D42: 6 | E42: ok | H42: 2 | I42: 6 | J42: 5 | Q42: 1 | R42: 3 | Z42: 4 | AK42: Új üzlet | AL42: Bruttó eszközérték | AM42: SZGK, Kishaszon, Motor | AO42: Retail | AP42: Lakossági | AQ42: Zárt | BD42: 1007
A43: 42. | B43: Retail - Lakossági - Nyílt végû - Bruttó eszközérték | E43: <5 | AK43: Új üzlet | AL43: Bruttó eszközérték | AM43: SZGK, Kishaszon, Motor | AO43: Retail | AP43: Lakossági | AQ43: Nyílt | BD43: 1008
A44: 43. | B44: Retail - Lakossági - Operatív - Bruttó eszközérték | E44: <5 | AK44: Új üzlet | AL44: Bruttó eszközérték | AM44: SZGK, Kishaszon, Motor | AO44: Retail | AP44: Lakossági | AQ44: Operatív | BD44: 1009
A45: 44. | B45: Retail - Vállalati - Kölcsön - Bruttó eszközérték | E45: <5 | AK45: Új üzlet | AL45: Bruttó eszközérték | AM45: SZGK, Kishaszon, Motor | AO45: Retail | AP45: Mikro, Kis, Közép, Nagy, Állami | AQ45: Kölcsön | BD45: 1010
A46: 45. | B46: Retail - Vállalati - Zárt végû - Bruttó eszközérték | C46: 1.0008748e+11 | D46: 12 | E46: ok | H46: 3 | I46: 5 | J46: 8 | K46: 9 | M46: 7 | Q46: 1 | R46: 2 | U46: 6 | V46: 11 | X46: 12 | Z46: 4 | AA46: 10 | AK46: Új üzlet | AL46: Bruttó eszközérték | AM46: SZGK, Kishaszon, Motor | AO46: Retail | AP46: Mikro, Kis, Közép, Nagy, Állami | AQ46: Zárt | BD46: 1011
A47: 46. | B47: Retail - Vállalati - Nyílt végû - Bruttó eszközérték | C47: 1.1198897e+11 | D47: 12 | E47: ok | H47: 2 | I47: 5 | K47: 8 | M47: 7 | N47: 12 | Q47: 1 | R47: 3 | U47: 6 | V47: 10 | X47: 9 | Z47: 4 | AA47: 11 | AK47: Új üzlet | AL47: Bruttó eszközérték | AM47: SZGK, Kishaszon, Motor | AO47: Retail | AP47: Mikro, Kis, Közép, Nagy, Állami | AQ47: Nyílt | BD47: 1012
A48: 47. | B48: Retail - Vállalati - Operatív - Bruttó eszközérték | E48: <5 | AK48: Új üzlet | AL48: Bruttó eszközérték | AM48: SZGK, Kishaszon, Motor | AO48: Retail | AP48: Mikro, Kis, Közép, Nagy, Állami | AQ48: Operatív | BD48: 1013
A49: 48. | B49: Motor - új - bruttó eszközérték | C49: 2433584651 | D49: 5 | E49: ok | I49: 4 | J49: 3 | Q49: 2 | R49: 1 | Z49: 5 | AK49: Új üzlet | AL49: Bruttó eszközérték | AM49: SZGK, Kishaszon, Motor | AN49: Motor | AO49: Motor | AR49: Új | BD49: 594
A50: 49. | B50: Motor - használt - bruttó eszközérték | E50: <5 | AK50: Új üzlet | AL50: Bruttó eszközérték | AM50: SZGK, Kishaszon, Motor | AN50: Motor | AO50: Motor | AR50: Használt | BD50: 595
A51: 50. | B51: Flotta - új személygépjármû - bruttó eszközérték | C51: 5.8673976e+10 | D51: 5 | E51: ok | F51: 3 | I51: 5 | N51: 4 | O51: 2 | Q51: 1 | AK51: Új üzlet | AL51: Bruttó eszközérték | AM51: SZGK, Kishaszon, Motor | AO51: Flotta | AR51: Új | BC51: A kérdõív elején jelölt idõszakban folyósított 3,5 tonna alatti összteherbírású Flotta új személygépjármûvek finanszírozási szerzõdéseinek bruttó (ÁFÁ-val növelt) eszközértéke. | BD51: 208
A52: 51. | B52: Flotta - használt személygépjármû - bruttó eszközérték | E52: <5 | AK52: Új üzlet | AL52: Bruttó eszközérték | AM52: SZGK, Kishaszon, Motor | AO52: Flotta | AR52: Használt | BC52: A kérdõív elején jelölt idõszakban folyósított 3,5 tonna alatti összteherbírású Flotta használt személygépjármûvek finanszírozási szerzõdéseinek bruttó (ÁFÁ-val növelt) eszközértéke. | BD52: 209
A53: 52. | B53: Refinanszírozott flotta - új - bruttó eszközérték | E53: <5 | AK53: Új üzlet | AL53: Bruttó eszközérték | AM53: SZGK, Kishaszon, Motor | AO53: Refinanszírozott flotta | AR53: Új | BD53: 604
A54: 53. | B54: Refinanszírozott flotta - használt - bruttó eszközérték | E54: <5 | AK54: Új üzlet | AL54: Bruttó eszközérték | AM54: SZGK, Kishaszon, Motor | AO54: Refinanszírozott flotta | AR54: Használt | BD54: 605
A55: 54. | B55: SZGK - új - bruttó eszközérték | C55: 2.4349668e+11 | D55: 15 | E55: ok | F55: 5 | H55: 2 | I55: 6 | J55: 11 | K55: 12 | L55: 8 | N55: 7 | Q55: 1 | R55: 3 | S55: 9 | U55: 10 | V55: 14 | X55: 13 | Z55: 4 | AA55: 15 | AK55: Új üzlet | AL55: Bruttó eszközérték | AM55: SZGK, Kishaszon, Motor | AN55: SZGK | AR55: Új | BD55: 1014
A56: 55. | B56: SZGK - használt - bruttó eszközérték | C56: 7.2605853e+10 | D56: 14 | E56: ok | H56: 2 | I56: 5 | J56: 4 | K56: 14 | L56: 9 | N56: 6 | Q56: 1 | R56: 3 | S56: 7 | U56: 10 | V56: 11 | X56: 13 | Z56: 8 | AA56: 12 | AK56: Új üzlet | AL56: Bruttó eszközérték | AM56: SZGK, Kishaszon, Motor | AN56: SZGK | AR56: Használt | BD56: 1015
A57: 56. | B57: Kishaszon - új - bruttó eszközérték | C57: 6.2671511e+10 | D57: 12 | E57: ok | H57: 3 | I57: 8 | K57: 10 | L57: 9 | N57: 5 | Q57: 1 | R57: 2 | S57: 7 | U57: 6 | V57: 12 | Z57: 4 | AA57: 11 | AK57: Új üzlet | AL57: Bruttó eszközérték | AM57: SZGK, Kishaszon, Motor | AN57: Kishaszon | AR57: Új | BD57: 1016
A58: 57. | B58: Kishaszon - használt - bruttó eszközérték | C58: 8.5020421e+09 | D58: 12 | E58: ok | H58: 3 | I58: 4 | K58: 12 | L58: 11 | N58: 6 | Q58: 1 | R58: 2 | S58: 7 | U58: 8 | V58: 10 | Z58: 5 | AA58: 9 | AK58: Új üzlet | AL58: Bruttó eszközérték | AM58: SZGK, Kishaszon, Motor | AN58: Kishaszon | AR58: Használt | BD58: 1017
A59: 58. | B59: Retail - SZGK - Új - Finanszírozott összeg | C59: 1.130179e+11 | D59: 13 | E59: ok | H59: 2 | I59: 5 | J59: 8 | K59: 9 | L59: 6 | N59: 13 | Q59: 1 | R59: 3 | U59: 7 | V59: 11 | X59: 10 | Z59: 4 | AA59: 12 | AK59: Új üzlet | AL59: Finanszírozott összeg | AM59: SZGK, Kishaszon, Motor | AN59: SZGK | AO59: Retail | AR59: Új | BD59: 1018
A60: 59. | B60: Retail - SZGK - Használt - Finanszírozott összeg | C60: 3.9508189e+10 | D60: 13 | E60: ok | H60: 2 | I60: 5 | J60: 4 | K60: 11 | L60: 7 | N60: 12 | Q60: 1 | R60: 3 | U60: 8 | V60: 13 | X60: 10 | Z60: 6 | AA60: 9 | AK60: Új üzlet | AL60: Finanszírozott összeg | AM60: SZGK, Kishaszon, Motor | AN60: SZGK | AO60: Retail | AR60: Használt | BD60: 1019
A61: 60. | B61: Retail - Kishaszon - Új - Finanszírozott összeg | C61: 3.615693e+10 | D61: 10 | E61: ok | H61: 3 | I61: 6 | K61: 8 | L61: 7 | Q61: 1 | R61: 2 | U61: 5 | V61: 10 | Z61: 4 | AA61: 9 | AK61: Új üzlet | AL61: Finanszírozott összeg | AM61: SZGK, Kishaszon, Motor | AN61: Kishaszon | AO61: Retail | AR61: Új | BD61: 1021
A62: 61. | B62: Retail - Kishaszon - Használt - Finanszírozott összeg | C62: 5347912585 | D62: 10 | E62: ok | H62: 3 | I62: 4 | K62: 10 | L62: 9 | Q62: 1 | R62: 2 | U62: 6 | V62: 8 | Z62: 5 | AA62: 7 | AK62: Új üzlet | AL62: Finanszírozott összeg | AM62: SZGK, Kishaszon, Motor | AN62: Kishaszon | AO62: Retail | AR62: Használt | BD62: 1022
A63: 62. | B63: Retail - Új - Lakossági - Finanszírozott összeg | C63: 4.3656825e+10 | D63: 6 | E63: ok | H63: 2 | I63: 5 | J63: 6 | Q63: 1 | R63: 4 | Z63: 3 | AK63: Új üzlet | AL63: Finanszírozott összeg | AM63: SZGK, Kishaszon, Motor | AO63: Retail | AP63: Lakossági | AR63: Új | BD63: 1023
A64: 63. | B64: Retail - Új - Vállalati - Finanszírozott összeg | C64: 1.0703771e+11 | D64: 14 | E64: ok | H64: 2 | I64: 5 | J64: 13 | K64: 9 | L64: 6 | M64: 8 | N64: 14 | Q64: 1 | R64: 3 | U64: 7 | V64: 12 | X64: 10 | Z64: 4 | AA64: 11 | AK64: Új üzlet | AL64: Finanszírozott összeg | AM64: SZGK, Kishaszon, Motor | AO64: Retail | AP64: Mikro, Kis, Közép, Nagy, Állami | AR64: Új | BD64: 1024
A65: 64. | B65: Retail - Használt - Lakossági - Finanszírozott összeg | C65: 19786425529 | D65: 6 | E65: ok | H65: 2 | I65: 5 | J65: 3 | Q65: 1 | R65: 4 | Z65: 6 | AK65: Új üzlet | AL65: Finanszírozott összeg | AM65: SZGK, Kishaszon, Motor | AO65: Retail | AP65: Lakossági | AR65: Használt | BD65: 1025
A66: 65. | B66: Retail - Használt - Vállalati - Finanszírozott összeg | C66: 2.5719722e+10 | D66: 14 | E66: ok | H66: 2 | I66: 4 | J66: 9 | K66: 13 | L66: 8 | M66: 5 | N66: 14 | Q66: 1 | R66: 3 | U66: 7 | V66: 11 | X66: 12 | Z66: 6 | AA66: 10 | AK66: Új üzlet | AL66: Finanszírozott összeg | AM66: SZGK, Kishaszon, Motor | AO66: Retail | AP66: Mikro, Kis, Közép, Nagy, Állami | AR66: Használt | BD66: 1026
A67: 66. | B67: Retail - Lakossági - Kölcsön - Finanszírozott összeg | E67: <5 | AK67: Új üzlet | AL67: Finanszírozott összeg | AM67: SZGK, Kishaszon, Motor | AO67: Retail | AP67: Lakossági | AQ67: Kölcsön | BD67: 1027
A68: 67. | B68: Retail - Lakossági - Zárt végû - Finanszírozott összeg | C68: 6.2545922e+10 | D68: 6 | E68: ok | H68: 2 | I68: 6 | J68: 5 | Q68: 1 | R68: 3 | Z68: 4 | AK68: Új üzlet | AL68: Finanszírozott összeg | AM68: SZGK, Kishaszon, Motor | AO68: Retail | AP68: Lakossági | AQ68: Zárt | BD68: 1028
A69: 68. | B69: Retail - Lakossági - Nyílt végû - Finanszírozott összeg | E69: <5 | AK69: Új üzlet | AL69: Finanszírozott összeg | AM69: SZGK, Kishaszon, Motor | AO69: Retail | AP69: Lakossági | AQ69: Nyílt | BD69: 1029
A70: 69. | B70: Retail - Lakossági - Operatív - Finanszírozott összeg | E70: <5 | AK70: Új üzlet | AL70: Finanszírozott összeg | AM70: SZGK, Kishaszon, Motor | AO70: Retail | AP70: Lakossági | AQ70: Operatív | BD70: 1030
A71: 70. | B71: Retail - Vállalati - Kölcsön - Finanszírozott összeg | E71: <5 | AK71: Új üzlet | AL71: Finanszírozott összeg | AM71: SZGK, Kishaszon, Motor | AO71: Retail | AP71: Mikro, Kis, Közép, Nagy, Állami | AQ71: Kölcsön | BD71: 1031
A72: 71. | B72: Retail - Vállalati - Zárt végû - Finanszírozott összeg | C72: 6.768519e+10 | D72: 12 | E72: ok | H72: 3 | I72: 5 | J72: 8 | K72: 9 | M72: 7 | Q72: 1 | R72: 2 | U72: 6 | V72: 11 | X72: 12 | Z72: 4 | AA72: 10 | AK72: Új üzlet | AL72: Finanszírozott összeg | AM72: SZGK, Kishaszon, Motor | AO72: Retail | AP72: Mikro, Kis, Közép, Nagy, Állami | AQ72: Zárt | BD72: 1032
A73: 72. | B73: Retail - Vállalati - Nyílt végû - Finanszírozott összeg | C73: 5.8929974e+10 | D73: 12 | E73: ok | H73: 2 | I73: 4 | K73: 8 | M73: 7 | N73: 12 | Q73: 1 | R73: 3 | U73: 6 | V73: 11 | X73: 9 | Z73: 5 | AA73: 10 | AK73: Új üzlet | AL73: Finanszírozott összeg | AM73: SZGK, Kishaszon, Motor | AO73: Retail | AP73: Mikro, Kis, Közép, Nagy, Állami | AQ73: Nyílt | BD73: 1033
A74: 73. | B74: Retail - Vállalati - Operatív - Finanszírozott összeg | E74: <5 | AK74: Új üzlet | AL74: Finanszírozott összeg | AM74: SZGK, Kishaszon, Motor | AO74: Retail | AP74: Mikro, Kis, Közép, Nagy, Állami | AQ74: Operatív | BD74: 1034
A75: 74. | B75: Motor - új - finanszírozott összeg | C75: 1351950989 | D75: 5 | E75: ok | I75: 4 | J75: 3 | Q75: 2 | R75: 1 | Z75: 5 | AK75: Új üzlet | AL75: Finanszírozott összeg | AM75: SZGK, Kishaszon, Motor | AN75: Motor | AO75: Motor | AR75: Új | BD75: 596
A76: 75. | B76: Motor - használt - finanszírozott összeg | E76: <5 | AK76: Új üzlet | AL76: Finanszírozott összeg | AM76: SZGK, Kishaszon, Motor | AN76: Motor | AO76: Motor | AR76: Használt | BD76: 597
A77: 76. | B77: Flotta - új személygépjármû - finanszírozott összeg | C77: 5.1799002e+10 | D77: 6 | E77: ok | F77: 3 | G77: 5 | I77: 6 | N77: 4 | O77: 2 | Q77: 1 | AK77: Új üzlet | AL77: Finanszírozott összeg | AM77: SZGK, Kishaszon, Motor | AO77: Flotta | AR77: Új | BC77: A kérdõív elején jelölt idõszakban folyósított 3,5 tonna alatti összteherbírású Flotta új személygépjármûvek finanszírozási szerzõdéseinek finanszírozott értéke. | BD77: 210
A78: 77. | B78: Flotta - használt személygépjármû - finanszírozott összeg | E78: <5 | AK78: Új üzlet | AL78: Finanszírozott összeg | AM78: SZGK, Kishaszon, Motor | AO78: Flotta | AR78: Használt | BD78: 211
A79: 78. | B79: Refinanszírozott flotta - új - finanszírozott összeg | E79: <5 | AK79: Új üzlet | AL79: Finanszírozott összeg | AM79: SZGK, Kishaszon, Motor | AO79: Refinanszírozott flotta | AR79: Új | BD79: 606
A80: 79. | B80: Refinanszírozott flotta - használt - finanszírozott összeg | E80: <5 | AK80: Új üzlet | AL80: Finanszírozott összeg | AM80: SZGK, Kishaszon, Motor | AO80: Refinanszírozott flotta | AR80: Használt | BD80: 607
A81: 80. | B81: SZGK - új - finanszírozott összeg | C81: 1.4962579e+11 | D81: 16 | E81: ok | F81: 5 | G81: 11 | H81: 2 | I81: 6 | J81: 12 | K81: 13 | L81: 7 | N81: 8 | Q81: 1 | R81: 3 | S81: 10 | U81: 9 | V81: 15 | X81: 14 | Z81: 4 | AA81: 16 | AK81: Új üzlet | AL81: Finanszírozott összeg | AM81: SZGK, Kishaszon, Motor | AN81: SZGK | AR81: Új | BD81: 1040
A82: 81. | B82: SZGK - használt - finanszírozott összeg | C82: 4.2453367e+10 | D82: 14 | E82: ok | H82: 2 | I82: 5 | J82: 4 | K82: 14 | L82: 9 | N82: 7 | Q82: 1 | R82: 3 | S82: 6 | U82: 10 | V82: 11 | X82: 13 | Z82: 8 | AA82: 12 | AK82: Új üzlet | AL82: Finanszírozott összeg | AM82: SZGK, Kishaszon, Motor | AN82: SZGK | AR82: Használt | BD82: 1039
A83: 82. | B83: Kishaszon - új - finanszírozott összeg | C83: 42287970285 | D83: 12 | E83: ok | H83: 3 | I83: 8 | K83: 10 | L83: 9 | N83: 7 | Q83: 1 | R83: 2 | S83: 6 | U83: 5 | V83: 12 | Z83: 4 | AA83: 11 | AK83: Új üzlet | AL83: Finanszírozott összeg | AM83: SZGK, Kishaszon, Motor | AN83: Kishaszon | AR83: Új | BD83: 1041
A84: 83. | B84: Kishaszon - használt - finanszírozott összeg | C84: 5508614186 | D84: 12 | E84: ok | H84: 3 | I84: 4 | K84: 12 | L84: 11 | N84: 6 | Q84: 1 | R84: 2 | S84: 7 | U84: 8 | V84: 10 | Z84: 5 | AA84: 9 | AK84: Új üzlet | AL84: Finanszírozott összeg | AM84: SZGK, Kishaszon, Motor | AN84: Kishaszon | AR84: Használt | BD84: 1042
A85: 84. | B85: Retail - SZGK - Új - Szerzõdésszám | C85: 26121 | D85: 13 | E85: ok | H85: 2 | I85: 5 | J85: 8 | K85: 9 | L85: 7 | N85: 13 | Q85: 1 | R85: 4 | U85: 6 | V85: 11 | X85: 10 | Z85: 3 | AA85: 12 | AK85: Új üzlet | AL85: Szerződésszám | AM85: SZGK, Kishaszon, Motor | AN85: SZGK | AO85: Retail | AR85: Új | BD85: 1043
A86: 85. | B86: Retail - SZGK - Használt - Szerzõdésszám | C86: 14248 | D86: 13 | E86: ok | H86: 2 | I86: 5 | J86: 3 | K86: 12 | L86: 7 | N86: 13 | Q86: 1 | R86: 4 | U86: 7 | V86: 9 | X86: 11 | Z86: 6 | AA86: 10 | AK86: Új üzlet | AL86: Szerződésszám | AM86: SZGK, Kishaszon, Motor | AN86: SZGK | AO86: Retail | AR86: Használt | BD86: 1044
A87: 86. | B87: Retail - Kishaszon - Új - Szerzõdésszám | C87: 7086 | D87: 10 | E87: ok | H87: 4 | I87: 6 | K87: 8 | L87: 7 | Q87: 1 | R87: 2 | U87: 5 | V87: 10 | Z87: 3 | AA87: 9 | AK87: Új üzlet | AL87: Szerződésszám | AM87: SZGK, Kishaszon, Motor | AN87: Kishaszon | AO87: Retail | AR87: Új | BD87: 1045
A88: 87. | B88: Retail - Kishaszon - Használt - Szerzõdésszám | C88: 1818 | D88: 10 | E88: ok | H88: 3 | I88: 4 | K88: 8 | L88: 8 | Q88: 1 | R88: 2 | U88: 6 | V88: 8 | Z88: 5 | AA88: 7 | AK88: Új üzlet | AL88: Szerződésszám | AM88: SZGK, Kishaszon, Motor | AN88: Kishaszon | AO88: Retail | AR88: Használt | BD88: 1046
A89: 88. | B89: Retail - Új - Lakossági - Szerzõdésszám | C89: 14942 | D89: 6 | E89: ok | H89: 3 | I89: 5 | J89: 6 | Q89: 1 | R89: 4 | Z89: 2 | AK89: Új üzlet | AL89: Szerződésszám | AM89: SZGK, Kishaszon, Motor | AO89: Retail | AP89: Lakossági | AR89: Új | BD89: 1047
A90: 89. | B90: Retail - Új - Vállalati - Szerzõdésszám | C90: 17991 | D90: 13 | E90: ok | H90: 3 | I90: 5 | J90: 12 | K90: 8 | M90: 7 | N90: 13 | Q90: 1 | R90: 2 | U90: 6 | V90: 11 | X90: 9 | Z90: 4 | AA90: 10 | AK90: Új üzlet | AL90: Szerződésszám | AM90: SZGK, Kishaszon, Motor | AO90: Retail | AP90: Mikro, Kis, Közép, Nagy, Állami | AR90: Új | BD90: 1048
A91: 90. | B91: Retail - Használt - Lakossági - Szerzõdésszám | C91: 10249 | D91: 6 | E91: ok | H91: 3 | I91: 5 | J91: 2 | Q91: 1 | R91: 4 | Z91: 6 | AK91: Új üzlet | AL91: Szerződésszám | AM91: SZGK, Kishaszon, Motor | AO91: Retail | AP91: Lakossági | AR91: Használt | BD91: 1049
A92: 91. | B92: Retail - Használt - Vállalati - Szerzõdésszám | C92: 5836 | D92: 13 | E92: ok | H92: 3 | I92: 4 | J92: 5 | K92: 12 | M92: 7 | N92: 13 | Q92: 1 | R92: 2 | U92: 8 | V92: 10 | X92: 11 | Z92: 6 | AA92: 9 | AK92: Új üzlet | AL92: Szerződésszám | AM92: SZGK, Kishaszon, Motor | AO92: Retail | AP92: Mikro, Kis, Közép, Nagy, Állami | AR92: Használt | BD92: 1050
A93: 92. | B93: Retail - Lakossági - Kölcsön - Szerzõdésszám | E93: <5 | AK93: Új üzlet | AL93: Szerződésszám | AM93: SZGK, Kishaszon, Motor | AO93: Retail | AP93: Lakossági | AQ93: Kölcsön | BD93: 1051
A94: 93. | B94: Retail - Lakossági - Zárt végû - Szerzõdésszám | C94: 25286 | D94: 7 | E94: ok | H94: 2 | I94: 6 | J94: 5 | Q94: 1 | R94: 4 | Y94: 7 | Z94: 3 | AK94: Új üzlet | AL94: Szerződésszám | AM94: SZGK, Kishaszon, Motor | AO94: Retail | AP94: Lakossági | AQ94: Zárt | BD94: 1052
A95: 94. | B95: Retail - Lakossági - Nyílt végû - Szerzõdésszám | E95: <5 | AK95: Új üzlet | AL95: Szerződésszám | AM95: SZGK, Kishaszon, Motor | AO95: Retail | AP95: Lakossági | AQ95: Nyílt | BD95: 1053
A96: 95. | B96: Retail - Lakossági - Operatív - Szerzõdésszám | E96: <5 | AK96: Új üzlet | AL96: Szerződésszám | AM96: SZGK, Kishaszon, Motor | AO96: Retail | AP96: Lakossági | AQ96: Operatív | BD96: 1054
A97: 96. | B97: Retail - Vállalati - Kölcsön - Szerzõdésszám | E97: <5 | AK97: Új üzlet | AL97: Szerződésszám | AM97: SZGK, Kishaszon, Motor | AO97: Retail | AP97: Mikro, Kis, Közép, Nagy, Állami | AQ97: Kölcsön | BD97: 1055
A98: 97. | B98: Retail - Vállalati - Zárt végû - Szerzõdésszám | C98: 13483 | D98: 12 | E98: ok | H98: 3 | I98: 5 | J98: 8 | K98: 10 | M98: 7 | Q98: 1 | R98: 2 | U98: 6 | V98: 11 | X98: 12 | Z98: 4 | AA98: 9 | AK98: Új üzlet | AL98: Szerződésszám | AM98: SZGK, Kishaszon, Motor | AO98: Retail | AP98: Mikro, Kis, Közép, Nagy, Állami | AQ98: Zárt | BD98: 1057
A99: 98. | B99: Retail - Vállalati - Nyílt végû - Szerzõdésszám | C99: 10177 | D99: 12 | E99: ok | H99: 2 | I99: 5 | K99: 8 | M99: 7 | N99: 12 | Q99: 1 | R99: 3 | U99: 6 | V99: 10 | X99: 9 | Z99: 4 | AA99: 11 | AK99: Új üzlet | AL99: Szerződésszám | AM99: SZGK, Kishaszon, Motor | AO99: Retail | AP99: Mikro, Kis, Közép, Nagy, Állami | AQ99: Nyílt | BD99: 1056
A100: 99. | B100: Retail - Vállalati - Operatív - Szerzõdésszám | E100: <5 | AK100: Új üzlet | AL100: Szerződésszám | AM100: SZGK, Kishaszon, Motor | AO100: Retail | AP100: Mikro, Kis, Közép, Nagy, Állami | AQ100: Operatív | BD100: 1058
...

Sheet Bruttó eszk hely
B1: Retail - új személygépjármû - magánszemély - bruttó eszközérték | C1: Retail - új személygépjármû - jogi személy - bruttó eszközérték | D1: Retail - használt személygépjármû - magánszemély - bruttó eszközérték | E1: Retail - használt személygépjármû - jogi személy - bruttó eszközérték | F1: Motor - új - bruttó eszközérték | G1: Motor - használt - bruttó eszközérték | H1: Flotta - új személygépjármû - bruttó eszközérték | I1: Flotta - használt személygépjármû - bruttó eszközérték | J1: Refinanszírozott flotta - új - bruttó eszközérték | K1: Refinanszírozott flotta - használt - bruttó eszközérték | L1: Retail - személygépjármû - hitel - bruttó eszközérték | M1: Retail - személygépjármû - zárt végû pénzügyi lízing - bruttó eszközérték | N1: Retail - személygépjármû - nyílt végû pénzügyi lízing - bruttó eszközérték | O1: Flotta - személygépjármû - hitel - bruttó eszközérték | P1: Flotta - személygépjármû - zárt végû pénzügyi lízing - bruttó eszközérték | Q1: Flotta - személygépjármû - nyílt végû pénzügyi lízing- bruttó eszközérték | R1: Flotta - személygépjármû - operatív lízing - bruttó eszközérték | S1: Új busz - operatív lízing - bruttó eszközérték | T1: Új busz - pénzügyi lízing - bruttó eszközérték | U1: Új busz - hitel - bruttó eszközérték | V1: Használt busz - operatív lízing - bruttó eszközérték | W1: Használt busz - pénzügyi lízing - bruttó eszközérték | X1: Használt busz - hitel - bruttó eszközérték | Y1: Új teherautó - operatív lízing - bruttó eszközérték | Z1: Új teherautó - pénzügyi lízing - bruttó eszközérték | AA1: Új teherautó - hitel - bruttó eszközérték | AB1: Használt teherautó - operatív lízing - bruttó eszközérték | AC1: Használt teherautó - pénzügyi lízing - bruttó eszközérték | AD1: Használt teherautó - hitel - bruttó eszközérték | AE1: Új mezõgazdasági gép - bruttó eszközérték | AF1: Használt mezõgazdasági gép - bruttó eszközérték | AG1: Új építõipari gép - bruttó eszközérték | AH1: Használt építõipari gép - bruttó eszközérték | AI1: Új IT, szoftver, irodagép - bruttó eszközérték | AJ1: Használt IT, szoftver, irodagép - bruttó eszközérték | AK1: Új egyéb gép - bruttó eszközérték | AL1: Használt egyéb gép - bruttó eszközérték | AM1: Mezõgazdasági gép - hitel - bruttó eszközérték | AN1: Mezõgazdasági gép - pénzügyi lízing - bruttó eszközérték | AO1: Mezõgazdasági gép - operatív lízing - bruttó eszközérték | AP1: Építõipari gép - hitel - bruttó eszközérték | AQ1: Építõipari gép - pénzügyi lízing - bruttó eszközérték | AR1: Építõipari gép - operatív lízing - bruttó eszközérték | AS1: IT, szoftver, irodagép - hitel - bruttó eszközérték | AT1: IT, szoftver, irodagép - pénzügyi lízing - bruttó eszközérték | AU1: IT, szoftver, irodagép - operatív lízing - bruttó eszközérték | AV1: Egyéb gép - hitel - bruttó eszközérték | AW1: Egyép gép - pénzügyi lízing - bruttó eszközérték | AX1: Egyép gép - operatív lízing - bruttó eszközérték | AY1: Lakossági - lakás - hitel - bruttó eszközérték | AZ1: Lakossági - lakás - pénzügyi lízing - bruttó eszközérték | BA1: Lakossági - nem lakás - hitel - bruttó eszközérték | BB1: Lakossági - nem lakás - pénzügyi lízing - bruttó eszközérték | BC1: Vállalati - lakás - hitel - bruttó eszközérték | BD1: Vállalati - lakás - pénzügyi lízing - bruttó eszközérték | BE1: Vállalati - lakás - operatív lízing - bruttó eszközérték | BF1: Vállalati - nem lakás - hitel - bruttó eszközérték | BG1: Vállalati - nem lakás - pénzügyi lízing - bruttó eszközérték | BH1: Vállalati - nem lakás - operatív lízing - bruttó eszközérték | BI1: Vasút, hajó, repülõ - bruttó eszközérték | BJ1: Egyéb eszköz - bruttó eszközérték | BL1: Retail | BM1: Motor | BN1: Flotta | BO1: Refi flotta | BP1: Busz | BQ1: Truck | BR1: Mezőgép | BS1: Építőgép | BT1: IT | BU1: Egyéb | BV1: Lakás | BW1: Ingatlan | BX1: Vasút, egyéb | BZ1: Autó | CA1: Truck | CB1: Gép | CC1: Ingatlan | CD1: Vasút | CE1: Összesen | CG1: Retail új autó | CH1: Retail használt autó | CI1: Retail magánszemély | CJ1: Retail jogi személy
A2: ='Bruttó eszk'!A2 -> Ober Pénzügyi Lízing Zrt. | B2: =IF('Bruttó eszk'!B2>0,_xlfn.RANK.EQ('Bruttó eszk'!B2,'Bruttó eszk'!B$2:B$34,0),"") | C2: =IF('Bruttó eszk'!C2>0,_xlfn.RANK.EQ('Bruttó eszk'!C2,'Bruttó eszk'!C$2:C$34,0),"") | D2: =IF('Bruttó eszk'!D2>0,_xlfn.RANK.EQ('Bruttó eszk'!D2,'Bruttó eszk'!D$2:D$34,0),"") | E2: =IF('Bruttó eszk'!E2>0,_xlfn.RANK.EQ('Bruttó eszk'!E2,'Bruttó eszk'!E$2:E$34,0),"") | F2: =IF('Bruttó eszk'!F2>0,_xlfn.RANK.EQ('Bruttó eszk'!F2,'Bruttó eszk'!F$2:F$34,0),"") | G2: =IF('Bruttó eszk'!G2>0,_xlfn.RANK.EQ('Bruttó eszk'!G2,'Bruttó eszk'!G$2:G$34,0),"") | H2: =IF('Bruttó eszk'!H2>0,_xlfn.RANK.EQ('Bruttó eszk'!H2,'Bruttó eszk'!H$2:H$34,0),"") | I2: =IF('Bruttó eszk'!I2>0,_xlfn.RANK.EQ('Bruttó eszk'!I2,'Bruttó eszk'!I$2:I$34,0),"") | ... BJ2: =IF('Bruttó eszk'!BJ2>0,_xlfn.RANK.EQ('Bruttó eszk'!BJ2,'Bruttó eszk'!BJ$2:BJ$34,0),"") -> 1 | BL2: =IF('Bruttó eszk'!BL2>0,_xlfn.RANK.EQ('Bruttó eszk'!BL2,'Bruttó eszk'!BL$2:BL$34,0),"") | BM2: =IF('Bruttó eszk'!BM2>0,_xlfn.RANK.EQ('Bruttó eszk'!BM2,'Bruttó eszk'!BM$2:BM$34,0),"") | BN2: =IF('Bruttó eszk'!BN2>0,_xlfn.RANK.EQ('Bruttó eszk'!BN2,'Bruttó eszk'!BN$2:BN$34,0),"") | BO2: =IF('Bruttó eszk'!BO2>0,_xlfn.RANK.EQ('Bruttó eszk'!BO2,'Bruttó eszk'!BO$2:BO$34,0),"") -> 2 | BP2: =IF('Bruttó eszk'!BP2>0,_xlfn.RANK.EQ('Bruttó eszk'!BP2,'Bruttó eszk'!BP$2:BP$34,0),"") | BQ2: =IF('Bruttó eszk'!BQ2>0,_xlfn.RANK.EQ('Bruttó eszk'!BQ2,'Bruttó eszk'!BQ$2:BQ$34,0),"") -> 1 | BR2: =IF('Bruttó eszk'!BR2>0,_xlfn.RANK.EQ('Bruttó eszk'!BR2,'Bruttó eszk'!BR$2:BR$34,0),"") -> 8 | BS2: =IF('Bruttó eszk'!BS2>0,_xlfn.RANK.EQ('Bruttó eszk'!BS2,'Bruttó eszk'!BS$2:BS$34,0),"") -> 7 | ... BX2: =IF('Bruttó eszk'!BX2>0,_xlfn.RANK.EQ('Bruttó eszk'!BX2,'Bruttó eszk'!BX$2:BX$34,0),"") -> 1 | BZ2: =IF('Bruttó eszk'!BZ2>0,_xlfn.RANK.EQ('Bruttó eszk'!BZ2,'Bruttó eszk'!BZ$2:BZ$34,0),"") -> 13 | CA2: =IF('Bruttó eszk'!CA2>0,_xlfn.RANK.EQ('Bruttó eszk'!CA2,'Bruttó eszk'!CA$2:CA$34,0),"") -> 2 | CB2: =IF('Bruttó eszk'!CB2>0,_xlfn.RANK.EQ('Bruttó eszk'!CB2,'Bruttó eszk'!CB$2:CB$34,0),"") -> 10 | CC2: =IF('Bruttó eszk'!CC2>0,_xlfn.RANK.EQ('Bruttó eszk'!CC2,'Bruttó eszk'!CC$2:CC$34,0),"") | CD2: =IF('Bruttó eszk'!CD2>0,_xlfn.RANK.EQ('Bruttó eszk'!CD2,'Bruttó eszk'!CD$2:CD$34,0),"") -> 1 | CE2: =IF('Bruttó eszk'!CE2>0,_xlfn.RANK.EQ('Bruttó eszk'!CE2,'Bruttó eszk'!CE$2:CE$34,0),"") -> 8 | CG2: =IF('Bruttó eszk'!CG2>0,_xlfn.RANK.EQ('Bruttó eszk'!CG2,'Bruttó eszk'!CG$2:CG$34,0),"") | CH2: =IF('Bruttó eszk'!CH2>0,_xlfn.RANK.EQ('Bruttó eszk'!CH2,'Bruttó eszk'!CH$2:CH$34,0),"") | CI2: =IF('Bruttó eszk'!CI2>0,_xlfn.RANK.EQ('Bruttó eszk'!CI2,'Bruttó eszk'!CI$2:CI$34,0),"") | CJ2: =IF('Bruttó eszk'!CJ2>0,_xlfn.RANK.EQ('Bruttó eszk'!CJ2,'Bruttó eszk'!CJ$2:CJ$34,0),"")
A3: ='Bruttó eszk'!A3 -> CIB Lízing Csoport | B3: =IF('Bruttó eszk'!B3>0,_xlfn.RANK.EQ('Bruttó eszk'!B3,'Bruttó eszk'!B$2:B$34,0),"") -> 6 | C3: =IF('Bruttó eszk'!C3>0,_xlfn.RANK.EQ('Bruttó eszk'!C3,'Bruttó eszk'!C$2:C$34,0),"") -> 6 | D3: =IF('Bruttó eszk'!D3>0,_xlfn.RANK.EQ('Bruttó eszk'!D3,'Bruttó eszk'!D$2:D$34,0),"") -> 5 | E3: =IF('Bruttó eszk'!E3>0,_xlfn.RANK.EQ('Bruttó eszk'!E3,'Bruttó eszk'!E$2:E$34,0),"") -> 4 | F3: =IF('Bruttó eszk'!F3>0,_xlfn.RANK.EQ('Bruttó eszk'!F3,'Bruttó eszk'!F$2:F$34,0),"") | G3: =IF('Bruttó eszk'!G3>0,_xlfn.RANK.EQ('Bruttó eszk'!G3,'Bruttó eszk'!G$2:G$34,0),"") | H3: =IF('Bruttó eszk'!H3>0,_xlfn.RANK.EQ('Bruttó eszk'!H3,'Bruttó eszk'!H$2:H$34,0),"") -> 10 | I3: =IF('Bruttó eszk'!I3>0,_xlfn.RANK.EQ('Bruttó eszk'!I3,'Bruttó eszk'!I$2:I$34,0),"") -> 4 | ... BJ3: =IF('Bruttó eszk'!BJ3>0,_xlfn.RANK.EQ('Bruttó eszk'!BJ3,'Bruttó eszk'!BJ$2:BJ$34,0),"") | BL3: =IF('Bruttó eszk'!BL3>0,_xlfn.RANK.EQ('Bruttó eszk'!BL3,'Bruttó eszk'!BL$2:BL$34,0),"") -> 6 | BM3: =IF('Bruttó eszk'!BM3>0,_xlfn.RANK.EQ('Bruttó eszk'!BM3,'Bruttó eszk'!BM$2:BM$34,0),"") | BN3: =IF('Bruttó eszk'!BN3>0,_xlfn.RANK.EQ('Bruttó eszk'!BN3,'Bruttó eszk'!BN$2:BN$34,0),"") -> 10 | BO3: =IF('Bruttó eszk'!BO3>0,_xlfn.RANK.EQ('Bruttó eszk'!BO3,'Bruttó eszk'!BO$2:BO$34,0),"") | BP3: =IF('Bruttó eszk'!BP3>0,_xlfn.RANK.EQ('Bruttó eszk'!BP3,'Bruttó eszk'!BP$2:BP$34,0),"") -> 8 | BQ3: =IF('Bruttó eszk'!BQ3>0,_xlfn.RANK.EQ('Bruttó eszk'!BQ3,'Bruttó eszk'!BQ$2:BQ$34,0),"") -> 11 | BR3: =IF('Bruttó eszk'!BR3>0,_xlfn.RANK.EQ('Bruttó eszk'!BR3,'Bruttó eszk'!BR$2:BR$34,0),"") -> 3 | BS3: =IF('Bruttó eszk'!BS3>0,_xlfn.RANK.EQ('Bruttó eszk'!BS3,'Bruttó eszk'!BS$2:BS$34,0),"") -> 11 | ... BX3: =IF('Bruttó eszk'!BX3>0,_xlfn.RANK.EQ('Bruttó eszk'!BX3,'Bruttó eszk'!BX$2:BX$34,0),"") | BZ3: =IF('Bruttó eszk'!BZ3>0,_xlfn.RANK.EQ('Bruttó eszk'!BZ3,'Bruttó eszk'!BZ$2:BZ$34,0),"") -> 7 | CA3: =IF('Bruttó eszk'!CA3>0,_xlfn.RANK.EQ('Bruttó eszk'!CA3,'Bruttó eszk'!CA$2:CA$34,0),"") -> 12 | CB3: =IF('Bruttó eszk'!CB3>0,_xlfn.RANK.EQ('Bruttó eszk'!CB3,'Bruttó eszk'!CB$2:CB$34,0),"") -> 8 | CC3: =IF('Bruttó eszk'!CC3>0,_xlfn.RANK.EQ('Bruttó eszk'!CC3,'Bruttó eszk'!CC$2:CC$34,0),"") | CD3: =IF('Bruttó eszk'!CD3>0,_xlfn.RANK.EQ('Bruttó eszk'!CD3,'Bruttó eszk'!CD$2:CD$34,0),"") | CE3: =IF('Bruttó eszk'!CE3>0,_xlfn.RANK.EQ('Bruttó eszk'!CE3,'Bruttó eszk'!CE$2:CE$34,0),"") -> 9 | CG3: =IF('Bruttó eszk'!CG3>0,_xlfn.RANK.EQ('Bruttó eszk'!CG3,'Bruttó eszk'!CG$2:CG$34,0),"") -> 6 | CH3: =IF('Bruttó eszk'!CH3>0,_xlfn.RANK.EQ('Bruttó eszk'!CH3,'Bruttó eszk'!CH$2:CH$34,0),"") -> 5 | CI3: =IF('Bruttó eszk'!CI3>0,_xlfn.RANK.EQ('Bruttó eszk'!CI3,'Bruttó eszk'!CI$2:CI$34,0),"") -> 6 | CJ3: =IF('Bruttó eszk'!CJ3>0,_xlfn.RANK.EQ('Bruttó eszk'!CJ3,'Bruttó eszk'!CJ$2:CJ$34,0),"") -> 5
A4: ='Bruttó eszk'!A4 -> ARVAL Magyarország Jármûparkkezelõ Kft. | B4: =IF('Bruttó eszk'!B4>0,_xlfn.RANK.EQ('Bruttó eszk'!B4,'Bruttó eszk'!B$2:B$34,0),"") | C4: =IF('Bruttó eszk'!C4>0,_xlfn.RANK.EQ('Bruttó eszk'!C4,'Bruttó eszk'!C$2:C$34,0),"") | D4: =IF('Bruttó eszk'!D4>0,_xlfn.RANK.EQ('Bruttó eszk'!D4,'Bruttó eszk'!D$2:D$34,0),"") | E4: =IF('Bruttó eszk'!E4>0,_xlfn.RANK.EQ('Bruttó eszk'!E4,'Bruttó eszk'!E$2:E$34,0),"") | F4: =IF('Bruttó eszk'!F4>0,_xlfn.RANK.EQ('Bruttó eszk'!F4,'Bruttó eszk'!F$2:F$34,0),"") | G4: =IF('Bruttó eszk'!G4>0,_xlfn.RANK.EQ('Bruttó eszk'!G4,'Bruttó eszk'!G$2:G$34,0),"") | H4: =IF('Bruttó eszk'!H4>0,_xlfn.RANK.EQ('Bruttó eszk'!H4,'Bruttó eszk'!H$2:H$34,0),"") -> 5 | I4: =IF('Bruttó eszk'!I4>0,_xlfn.RANK.EQ('Bruttó eszk'!I4,'Bruttó eszk'!I$2:I$34,0),"") | ... BJ4: =IF('Bruttó eszk'!BJ4>0,_xlfn.RANK.EQ('Bruttó eszk'!BJ4,'Bruttó eszk'!BJ$2:BJ$34,0),"") | BL4: =IF('Bruttó eszk'!BL4>0,_xlfn.RANK.EQ('Bruttó eszk'!BL4,'Bruttó eszk'!BL$2:BL$34,0),"") | BM4: =IF('Bruttó eszk'!BM4>0,_xlfn.RANK.EQ('Bruttó eszk'!BM4,'Bruttó eszk'!BM$2:BM$34,0),"") | BN4: =IF('Bruttó eszk'!BN4>0,_xlfn.RANK.EQ('Bruttó eszk'!BN4,'Bruttó eszk'!BN$2:BN$34,0),"") -> 6 | BO4: =IF('Bruttó eszk'!BO4>0,_xlfn.RANK.EQ('Bruttó eszk'!BO4,'Bruttó eszk'!BO$2:BO$34,0),"") | BP4: =IF('Bruttó eszk'!BP4>0,_xlfn.RANK.EQ('Bruttó eszk'!BP4,'Bruttó eszk'!BP$2:BP$34,0),"") | BQ4: =IF('Bruttó eszk'!BQ4>0,_xlfn.RANK.EQ('Bruttó eszk'!BQ4,'Bruttó eszk'!BQ$2:BQ$34,0),"") | BR4: =IF('Bruttó eszk'!BR4>0,_xlfn.RANK.EQ('Bruttó eszk'!BR4,'Bruttó eszk'!BR$2:BR$34,0),"") | BS4: =IF('Bruttó eszk'!BS4>0,_xlfn.RANK.EQ('Bruttó eszk'!BS4,'Bruttó eszk'!BS$2:BS$34,0),"") | ... BX4: =IF('Bruttó eszk'!BX4>0,_xlfn.RANK.EQ('Bruttó eszk'!BX4,'Bruttó eszk'!BX$2:BX$34,0),"") | BZ4: =IF('Bruttó eszk'!BZ4>0,_xlfn.RANK.EQ('Bruttó eszk'!BZ4,'Bruttó eszk'!BZ$2:BZ$34,0),"") -> 12 | CA4: =IF('Bruttó eszk'!CA4>0,_xlfn.RANK.EQ('Bruttó eszk'!CA4,'Bruttó eszk'!CA$2:CA$34,0),"") | CB4: =IF('Bruttó eszk'!CB4>0,_xlfn.RANK.EQ('Bruttó eszk'!CB4,'Bruttó eszk'!CB$2:CB$34,0),"") | CC4: =IF('Bruttó eszk'!CC4>0,_xlfn.RANK.EQ('Bruttó eszk'!CC4,'Bruttó eszk'!CC$2:CC$34,0),"") | CD4: =IF('Bruttó eszk'!CD4>0,_xlfn.RANK.EQ('Bruttó eszk'!CD4,'Bruttó eszk'!CD$2:CD$34,0),"") | CE4: =IF('Bruttó eszk'!CE4>0,_xlfn.RANK.EQ('Bruttó eszk'!CE4,'Bruttó eszk'!CE$2:CE$34,0),"") -> 19 | CG4: =IF('Bruttó eszk'!CG4>0,_xlfn.RANK.EQ('Bruttó eszk'!CG4,'Bruttó eszk'!CG$2:CG$34,0),"") | CH4: =IF('Bruttó eszk'!CH4>0,_xlfn.RANK.EQ('Bruttó eszk'!CH4,'Bruttó eszk'!CH$2:CH$34,0),"") | CI4: =IF('Bruttó eszk'!CI4>0,_xlfn.RANK.EQ('Bruttó eszk'!CI4,'Bruttó eszk'!CI$2:CI$34,0),"") | CJ4: =IF('Bruttó eszk'!CJ4>0,_xlfn.RANK.EQ('Bruttó eszk'!CJ4,'Bruttó eszk'!CJ$2:CJ$34,0),"")
A5: ='Bruttó eszk'!A5 -> Raiffeisen Corporate Lízing Zrt. | B5: =IF('Bruttó eszk'!B5>0,_xlfn.RANK.EQ('Bruttó eszk'!B5,'Bruttó eszk'!B$2:B$34,0),"") | C5: =IF('Bruttó eszk'!C5>0,_xlfn.RANK.EQ('Bruttó eszk'!C5,'Bruttó eszk'!C$2:C$34,0),"") -> 7 | D5: =IF('Bruttó eszk'!D5>0,_xlfn.RANK.EQ('Bruttó eszk'!D5,'Bruttó eszk'!D$2:D$34,0),"") | E5: =IF('Bruttó eszk'!E5>0,_xlfn.RANK.EQ('Bruttó eszk'!E5,'Bruttó eszk'!E$2:E$34,0),"") -> 9 | F5: =IF('Bruttó eszk'!F5>0,_xlfn.RANK.EQ('Bruttó eszk'!F5,'Bruttó eszk'!F$2:F$34,0),"") -> 4 | G5: =IF('Bruttó eszk'!G5>0,_xlfn.RANK.EQ('Bruttó eszk'!G5,'Bruttó eszk'!G$2:G$34,0),"") | H5: =IF('Bruttó eszk'!H5>0,_xlfn.RANK.EQ('Bruttó eszk'!H5,'Bruttó eszk'!H$2:H$34,0),"") | I5: =IF('Bruttó eszk'!I5>0,_xlfn.RANK.EQ('Bruttó eszk'!I5,'Bruttó eszk'!I$2:I$34,0),"") | ... BJ5: =IF('Bruttó eszk'!BJ5>0,_xlfn.RANK.EQ('Bruttó eszk'!BJ5,'Bruttó eszk'!BJ$2:BJ$34,0),"") | BL5: =IF('Bruttó eszk'!BL5>0,_xlfn.RANK.EQ('Bruttó eszk'!BL5,'Bruttó eszk'!BL$2:BL$34,0),"") -> 8 | BM5: =IF('Bruttó eszk'!BM5>0,_xlfn.RANK.EQ('Bruttó eszk'!BM5,'Bruttó eszk'!BM$2:BM$34,0),"") -> 4 | BN5: =IF('Bruttó eszk'!BN5>0,_xlfn.RANK.EQ('Bruttó eszk'!BN5,'Bruttó eszk'!BN$2:BN$34,0),"") | BO5: =IF('Bruttó eszk'!BO5>0,_xlfn.RANK.EQ('Bruttó eszk'!BO5,'Bruttó eszk'!BO$2:BO$34,0),"") | BP5: =IF('Bruttó eszk'!BP5>0,_xlfn.RANK.EQ('Bruttó eszk'!BP5,'Bruttó eszk'!BP$2:BP$34,0),"") -> 3 | BQ5: =IF('Bruttó eszk'!BQ5>0,_xlfn.RANK.EQ('Bruttó eszk'!BQ5,'Bruttó eszk'!BQ$2:BQ$34,0),"") -> 10 | BR5: =IF('Bruttó eszk'!BR5>0,_xlfn.RANK.EQ('Bruttó eszk'!BR5,'Bruttó eszk'!BR$2:BR$34,0),"") -> 10 | BS5: =IF('Bruttó eszk'!BS5>0,_xlfn.RANK.EQ('Bruttó eszk'!BS5,'Bruttó eszk'!BS$2:BS$34,0),"") -> 9 | ... BX5: =IF('Bruttó eszk'!BX5>0,_xlfn.RANK.EQ('Bruttó eszk'!BX5,'Bruttó eszk'!BX$2:BX$34,0),"") | BZ5: =IF('Bruttó eszk'!BZ5>0,_xlfn.RANK.EQ('Bruttó eszk'!BZ5,'Bruttó eszk'!BZ$2:BZ$34,0),"") -> 14 | CA5: =IF('Bruttó eszk'!CA5>0,_xlfn.RANK.EQ('Bruttó eszk'!CA5,'Bruttó eszk'!CA$2:CA$34,0),"") -> 10 | CB5: =IF('Bruttó eszk'!CB5>0,_xlfn.RANK.EQ('Bruttó eszk'!CB5,'Bruttó eszk'!CB$2:CB$34,0),"") -> 11 | CC5: =IF('Bruttó eszk'!CC5>0,_xlfn.RANK.EQ('Bruttó eszk'!CC5,'Bruttó eszk'!CC$2:CC$34,0),"") | CD5: =IF('Bruttó eszk'!CD5>0,_xlfn.RANK.EQ('Bruttó eszk'!CD5,'Bruttó eszk'!CD$2:CD$34,0),"") | CE5: =IF('Bruttó eszk'!CE5>0,_xlfn.RANK.EQ('Bruttó eszk'!CE5,'Bruttó eszk'!CE$2:CE$34,0),"") -> 11 | CG5: =IF('Bruttó eszk'!CG5>0,_xlfn.RANK.EQ('Bruttó eszk'!CG5,'Bruttó eszk'!CG$2:CG$34,0),"") -> 7 | CH5: =IF('Bruttó eszk'!CH5>0,_xlfn.RANK.EQ('Bruttó eszk'!CH5,'Bruttó eszk'!CH$2:CH$34,0),"") -> 9 | CI5: =IF('Bruttó eszk'!CI5>0,_xlfn.RANK.EQ('Bruttó eszk'!CI5,'Bruttó eszk'!CI$2:CI$34,0),"") | CJ5: =IF('Bruttó eszk'!CJ5>0,_xlfn.RANK.EQ('Bruttó eszk'!CJ5,'Bruttó eszk'!CJ$2:CJ$34,0),"") -> 7
A6: ='Bruttó eszk'!A6 -> Lombard Lízing Csoport | B6: =IF('Bruttó eszk'!B6>0,_xlfn.RANK.EQ('Bruttó eszk'!B6,'Bruttó eszk'!B$2:B$34,0),"") | C6: =IF('Bruttó eszk'!C6>0,_xlfn.RANK.EQ('Bruttó eszk'!C6,'Bruttó eszk'!C$2:C$34,0),"") | D6: =IF('Bruttó eszk'!D6>0,_xlfn.RANK.EQ('Bruttó eszk'!D6,'Bruttó eszk'!D$2:D$34,0),"") | E6: =IF('Bruttó eszk'!E6>0,_xlfn.RANK.EQ('Bruttó eszk'!E6,'Bruttó eszk'!E$2:E$34,0),"") | F6: =IF('Bruttó eszk'!F6>0,_xlfn.RANK.EQ('Bruttó eszk'!F6,'Bruttó eszk'!F$2:F$34,0),"") | G6: =IF('Bruttó eszk'!G6>0,_xlfn.RANK.EQ('Bruttó eszk'!G6,'Bruttó eszk'!G$2:G$34,0),"") | H6: =IF('Bruttó eszk'!H6>0,_xlfn.RANK.EQ('Bruttó eszk'!H6,'Bruttó eszk'!H$2:H$34,0),"") | I6: =IF('Bruttó eszk'!I6>0,_xlfn.RANK.EQ('Bruttó eszk'!I6,'Bruttó eszk'!I$2:I$34,0),"") | ... BJ6: =IF('Bruttó eszk'!BJ6>0,_xlfn.RANK.EQ('Bruttó eszk'!BJ6,'Bruttó eszk'!BJ$2:BJ$34,0),"") | BL6: =IF('Bruttó eszk'!BL6>0,_xlfn.RANK.EQ('Bruttó eszk'!BL6,'Bruttó eszk'!BL$2:BL$34,0),"") | BM6: =IF('Bruttó eszk'!BM6>0,_xlfn.RANK.EQ('Bruttó eszk'!BM6,'Bruttó eszk'!BM$2:BM$34,0),"") | BN6: =IF('Bruttó eszk'!BN6>0,_xlfn.RANK.EQ('Bruttó eszk'!BN6,'Bruttó eszk'!BN$2:BN$34,0),"") | BO6: =IF('Bruttó eszk'!BO6>0,_xlfn.RANK.EQ('Bruttó eszk'!BO6,'Bruttó eszk'!BO$2:BO$34,0),"") | BP6: =IF('Bruttó eszk'!BP6>0,_xlfn.RANK.EQ('Bruttó eszk'!BP6,'Bruttó eszk'!BP$2:BP$34,0),"") | BQ6: =IF('Bruttó eszk'!BQ6>0,_xlfn.RANK.EQ('Bruttó eszk'!BQ6,'Bruttó eszk'!BQ$2:BQ$34,0),"") | BR6: =IF('Bruttó eszk'!BR6>0,_xlfn.RANK.EQ('Bruttó eszk'!BR6,'Bruttó eszk'!BR$2:BR$34,0),"") | BS6: =IF('Bruttó eszk'!BS6>0,_xlfn.RANK.EQ('Bruttó eszk'!BS6,'Bruttó eszk'!BS$2:BS$34,0),"") | ... BX6: =IF('Bruttó eszk'!BX6>0,_xlfn.RANK.EQ('Bruttó eszk'!BX6,'Bruttó eszk'!BX$2:BX$34,0),"") | BZ6: =IF('Bruttó eszk'!BZ6>0,_xlfn.RANK.EQ('Bruttó eszk'!BZ6,'Bruttó eszk'!BZ$2:BZ$34,0),"") | CA6: =IF('Bruttó eszk'!CA6>0,_xlfn.RANK.EQ('Bruttó eszk'!CA6,'Bruttó eszk'!CA$2:CA$34,0),"") | CB6: =IF('Bruttó eszk'!CB6>0,_xlfn.RANK.EQ('Bruttó eszk'!CB6,'Bruttó eszk'!CB$2:CB$34,0),"") | CC6: =IF('Bruttó eszk'!CC6>0,_xlfn.RANK.EQ('Bruttó eszk'!CC6,'Bruttó eszk'!CC$2:CC$34,0),"") | CD6: =IF('Bruttó eszk'!CD6>0,_xlfn.RANK.EQ('Bruttó eszk'!CD6,'Bruttó eszk'!CD$2:CD$34,0),"") | CE6: =IF('Bruttó eszk'!CE6>0,_xlfn.RANK.EQ('Bruttó eszk'!CE6,'Bruttó eszk'!CE$2:CE$34,0),"") | CG6: =IF('Bruttó eszk'!CG6>0,_xlfn.RANK.EQ('Bruttó eszk'!CG6,'Bruttó eszk'!CG$2:CG$34,0),"") | CH6: =IF('Bruttó eszk'!CH6>0,_xlfn.RANK.EQ('Bruttó eszk'!CH6,'Bruttó eszk'!CH$2:CH$34,0),"") | CI6: =IF('Bruttó eszk'!CI6>0,_xlfn.RANK.EQ('Bruttó eszk'!CI6,'Bruttó eszk'!CI$2:CI$34,0),"") | CJ6: =IF('Bruttó eszk'!CJ6>0,_xlfn.RANK.EQ('Bruttó eszk'!CJ6,'Bruttó eszk'!CJ$2:CJ$34,0),"")
A7: ='Bruttó eszk'!A7 -> ALD Automotive Magyarország Kft. | B7: =IF('Bruttó eszk'!B7>0,_xlfn.RANK.EQ('Bruttó eszk'!B7,'Bruttó eszk'!B$2:B$34,0),"") | C7: =IF('Bruttó eszk'!C7>0,_xlfn.RANK.EQ('Bruttó eszk'!C7,'Bruttó eszk'!C$2:C$34,0),"") | D7: =IF('Bruttó eszk'!D7>0,_xlfn.RANK.EQ('Bruttó eszk'!D7,'Bruttó eszk'!D$2:D$34,0),"") | E7: =IF('Bruttó eszk'!E7>0,_xlfn.RANK.EQ('Bruttó eszk'!E7,'Bruttó eszk'!E$2:E$34,0),"") | F7: =IF('Bruttó eszk'!F7>0,_xlfn.RANK.EQ('Bruttó eszk'!F7,'Bruttó eszk'!F$2:F$34,0),"") | G7: =IF('Bruttó eszk'!G7>0,_xlfn.RANK.EQ('Bruttó eszk'!G7,'Bruttó eszk'!G$2:G$34,0),"") | H7: =IF('Bruttó eszk'!H7>0,_xlfn.RANK.EQ('Bruttó eszk'!H7,'Bruttó eszk'!H$2:H$34,0),"") -> 1 | I7: =IF('Bruttó eszk'!I7>0,_xlfn.RANK.EQ('Bruttó eszk'!I7,'Bruttó eszk'!I$2:I$34,0),"") | ... BJ7: =IF('Bruttó eszk'!BJ7>0,_xlfn.RANK.EQ('Bruttó eszk'!BJ7,'Bruttó eszk'!BJ$2:BJ$34,0),"") | BL7: =IF('Bruttó eszk'!BL7>0,_xlfn.RANK.EQ('Bruttó eszk'!BL7,'Bruttó eszk'!BL$2:BL$34,0),"") | BM7: =IF('Bruttó eszk'!BM7>0,_xlfn.RANK.EQ('Bruttó eszk'!BM7,'Bruttó eszk'!BM$2:BM$34,0),"") | BN7: =IF('Bruttó eszk'!BN7>0,_xlfn.RANK.EQ('Bruttó eszk'!BN7,'Bruttó eszk'!BN$2:BN$34,0),"") -> 1 | BO7: =IF('Bruttó eszk'!BO7>0,_xlfn.RANK.EQ('Bruttó eszk'!BO7,'Bruttó eszk'!BO$2:BO$34,0),"") | BP7: =IF('Bruttó eszk'!BP7>0,_xlfn.RANK.EQ('Bruttó eszk'!BP7,'Bruttó eszk'!BP$2:BP$34,0),"") | BQ7: =IF('Bruttó eszk'!BQ7>0,_xlfn.RANK.EQ('Bruttó eszk'!BQ7,'Bruttó eszk'!BQ$2:BQ$34,0),"") | BR7: =IF('Bruttó eszk'!BR7>0,_xlfn.RANK.EQ('Bruttó eszk'!BR7,'Bruttó eszk'!BR$2:BR$34,0),"") | BS7: =IF('Bruttó eszk'!BS7>0,_xlfn.RANK.EQ('Bruttó eszk'!BS7,'Bruttó eszk'!BS$2:BS$34,0),"") | ... BX7: =IF('Bruttó eszk'!BX7>0,_xlfn.RANK.EQ('Bruttó eszk'!BX7,'Bruttó eszk'!BX$2:BX$34,0),"") | BZ7: =IF('Bruttó eszk'!BZ7>0,_xlfn.RANK.EQ('Bruttó eszk'!BZ7,'Bruttó eszk'!BZ$2:BZ$34,0),"") -> 6 | CA7: =IF('Bruttó eszk'!CA7>0,_xlfn.RANK.EQ('Bruttó eszk'!CA7,'Bruttó eszk'!CA$2:CA$34,0),"") | CB7: =IF('Bruttó eszk'!CB7>0,_xlfn.RANK.EQ('Bruttó eszk'!CB7,'Bruttó eszk'!CB$2:CB$34,0),"") | CC7: =IF('Bruttó eszk'!CC7>0,_xlfn.RANK.EQ('Bruttó eszk'!CC7,'Bruttó eszk'!CC$2:CC$34,0),"") | CD7: =IF('Bruttó eszk'!CD7>0,_xlfn.RANK.EQ('Bruttó eszk'!CD7,'Bruttó eszk'!CD$2:CD$34,0),"") | CE7: =IF('Bruttó eszk'!CE7>0,_xlfn.RANK.EQ('Bruttó eszk'!CE7,'Bruttó eszk'!CE$2:CE$34,0),"") -> 13 | CG7: =IF('Bruttó eszk'!CG7>0,_xlfn.RANK.EQ('Bruttó eszk'!CG7,'Bruttó eszk'!CG$2:CG$34,0),"") | CH7: =IF('Bruttó eszk'!CH7>0,_xlfn.RANK.EQ('Bruttó eszk'!CH7,'Bruttó eszk'!CH$2:CH$34,0),"") | CI7: =IF('Bruttó eszk'!CI7>0,_xlfn.RANK.EQ('Bruttó eszk'!CI7,'Bruttó eszk'!CI$2:CI$34,0),"") | CJ7: =IF('Bruttó eszk'!CJ7>0,_xlfn.RANK.EQ('Bruttó eszk'!CJ7,'Bruttó eszk'!CJ$2:CJ$34,0),"")
A8: ='Bruttó eszk'!A8 -> OTP Ingatlanlízing Zrt. | B8: =IF('Bruttó eszk'!B8>0,_xlfn.RANK.EQ('Bruttó eszk'!B8,'Bruttó eszk'!B$2:B$34,0),"") | C8: =IF('Bruttó eszk'!C8>0,_xlfn.RANK.EQ('Bruttó eszk'!C8,'Bruttó eszk'!C$2:C$34,0),"") | D8: =IF('Bruttó eszk'!D8>0,_xlfn.RANK.EQ('Bruttó eszk'!D8,'Bruttó eszk'!D$2:D$34,0),"") | E8: =IF('Bruttó eszk'!E8>0,_xlfn.RANK.EQ('Bruttó eszk'!E8,'Bruttó eszk'!E$2:E$34,0),"") | F8: =IF('Bruttó eszk'!F8>0,_xlfn.RANK.EQ('Bruttó eszk'!F8,'Bruttó eszk'!F$2:F$34,0),"") | G8: =IF('Bruttó eszk'!G8>0,_xlfn.RANK.EQ('Bruttó eszk'!G8,'Bruttó eszk'!G$2:G$34,0),"") | H8: =IF('Bruttó eszk'!H8>0,_xlfn.RANK.EQ('Bruttó eszk'!H8,'Bruttó eszk'!H$2:H$34,0),"") | I8: =IF('Bruttó eszk'!I8>0,_xlfn.RANK.EQ('Bruttó eszk'!I8,'Bruttó eszk'!I$2:I$34,0),"") | ... BJ8: =IF('Bruttó eszk'!BJ8>0,_xlfn.RANK.EQ('Bruttó eszk'!BJ8,'Bruttó eszk'!BJ$2:BJ$34,0),"") | BL8: =IF('Bruttó eszk'!BL8>0,_xlfn.RANK.EQ('Bruttó eszk'!BL8,'Bruttó eszk'!BL$2:BL$34,0),"") | BM8: =IF('Bruttó eszk'!BM8>0,_xlfn.RANK.EQ('Bruttó eszk'!BM8,'Bruttó eszk'!BM$2:BM$34,0),"") | BN8: =IF('Bruttó eszk'!BN8>0,_xlfn.RANK.EQ('Bruttó eszk'!BN8,'Bruttó eszk'!BN$2:BN$34,0),"") | BO8: =IF('Bruttó eszk'!BO8>0,_xlfn.RANK.EQ('Bruttó eszk'!BO8,'Bruttó eszk'!BO$2:BO$34,0),"") | BP8: =IF('Bruttó eszk'!BP8>0,_xlfn.RANK.EQ('Bruttó eszk'!BP8,'Bruttó eszk'!BP$2:BP$34,0),"") | BQ8: =IF('Bruttó eszk'!BQ8>0,_xlfn.RANK.EQ('Bruttó eszk'!BQ8,'Bruttó eszk'!BQ$2:BQ$34,0),"") | BR8: =IF('Bruttó eszk'!BR8>0,_xlfn.RANK.EQ('Bruttó eszk'!BR8,'Bruttó eszk'!BR$2:BR$34,0),"") | BS8: =IF('Bruttó eszk'!BS8>0,_xlfn.RANK.EQ('Bruttó eszk'!BS8,'Bruttó eszk'!BS$2:BS$34,0),"") | ... BX8: =IF('Bruttó eszk'!BX8>0,_xlfn.RANK.EQ('Bruttó eszk'!BX8,'Bruttó eszk'!BX$2:BX$34,0),"") | BZ8: =IF('Bruttó eszk'!BZ8>0,_xlfn.RANK.EQ('Bruttó eszk'!BZ8,'Bruttó eszk'!BZ$2:BZ$34,0),"") | CA8: =IF('Bruttó eszk'!CA8>0,_xlfn.RANK.EQ('Bruttó eszk'!CA8,'Bruttó eszk'!CA$2:CA$34,0),"") | CB8: =IF('Bruttó eszk'!CB8>0,_xlfn.RANK.EQ('Bruttó eszk'!CB8,'Bruttó eszk'!CB$2:CB$34,0),"") | CC8: =IF('Bruttó eszk'!CC8>0,_xlfn.RANK.EQ('Bruttó eszk'!CC8,'Bruttó eszk'!CC$2:CC$34,0),"") -> 2 | CD8: =IF('Bruttó eszk'!CD8>0,_xlfn.RANK.EQ('Bruttó eszk'!CD8,'Bruttó eszk'!CD$2:CD$34,0),"") | CE8: =IF('Bruttó eszk'!CE8>0,_xlfn.RANK.EQ('Bruttó eszk'!CE8,'Bruttó eszk'!CE$2:CE$34,0),"") -> 24 | CG8: =IF('Bruttó eszk'!CG8>0,_xlfn.RANK.EQ('Bruttó eszk'!CG8,'Bruttó eszk'!CG$2:CG$34,0),"") | CH8: =IF('Bruttó eszk'!CH8>0,_xlfn.RANK.EQ('Bruttó eszk'!CH8,'Bruttó eszk'!CH$2:CH$34,0),"") | CI8: =IF('Bruttó eszk'!CI8>0,_xlfn.RANK.EQ('Bruttó eszk'!CI8,'Bruttó eszk'!CI$2:CI$34,0),"") | CJ8: =IF('Bruttó eszk'!CJ8>0,_xlfn.RANK.EQ('Bruttó eszk'!CJ8,'Bruttó eszk'!CJ$2:CJ$34,0),"")
A9: ='Bruttó eszk'!A9 -> Cofidis | B9: =IF('Bruttó eszk'!B9>0,_xlfn.RANK.EQ('Bruttó eszk'!B9,'Bruttó eszk'!B$2:B$34,0),"") -> 7 | C9: =IF('Bruttó eszk'!C9>0,_xlfn.RANK.EQ('Bruttó eszk'!C9,'Bruttó eszk'!C$2:C$34,0),"") -> 15 | D9: =IF('Bruttó eszk'!D9>0,_xlfn.RANK.EQ('Bruttó eszk'!D9,'Bruttó eszk'!D$2:D$34,0),"") -> 2 | E9: =IF('Bruttó eszk'!E9>0,_xlfn.RANK.EQ('Bruttó eszk'!E9,'Bruttó eszk'!E$2:E$34,0),"") -> 6 | F9: =IF('Bruttó eszk'!F9>0,_xlfn.RANK.EQ('Bruttó eszk'!F9,'Bruttó eszk'!F$2:F$34,0),"") -> 3 | G9: =IF('Bruttó eszk'!G9>0,_xlfn.RANK.EQ('Bruttó eszk'!G9,'Bruttó eszk'!G$2:G$34,0),"") -> 3 | H9: =IF('Bruttó eszk'!H9>0,_xlfn.RANK.EQ('Bruttó eszk'!H9,'Bruttó eszk'!H$2:H$34,0),"") | I9: =IF('Bruttó eszk'!I9>0,_xlfn.RANK.EQ('Bruttó eszk'!I9,'Bruttó eszk'!I$2:I$34,0),"") | ... BJ9: =IF('Bruttó eszk'!BJ9>0,_xlfn.RANK.EQ('Bruttó eszk'!BJ9,'Bruttó eszk'!BJ$2:BJ$34,0),"") -> 3 | BL9: =IF('Bruttó eszk'!BL9>0,_xlfn.RANK.EQ('Bruttó eszk'!BL9,'Bruttó eszk'!BL$2:BL$34,0),"") -> 7 | BM9: =IF('Bruttó eszk'!BM9>0,_xlfn.RANK.EQ('Bruttó eszk'!BM9,'Bruttó eszk'!BM$2:BM$34,0),"") -> 3 | BN9: =IF('Bruttó eszk'!BN9>0,_xlfn.RANK.EQ('Bruttó eszk'!BN9,'Bruttó eszk'!BN$2:BN$34,0),"") | BO9: =IF('Bruttó eszk'!BO9>0,_xlfn.RANK.EQ('Bruttó eszk'!BO9,'Bruttó eszk'!BO$2:BO$34,0),"") | BP9: =IF('Bruttó eszk'!BP9>0,_xlfn.RANK.EQ('Bruttó eszk'!BP9,'Bruttó eszk'!BP$2:BP$34,0),"") | BQ9: =IF('Bruttó eszk'!BQ9>0,_xlfn.RANK.EQ('Bruttó eszk'!BQ9,'Bruttó eszk'!BQ$2:BQ$34,0),"") | BR9: =IF('Bruttó eszk'!BR9>0,_xlfn.RANK.EQ('Bruttó eszk'!BR9,'Bruttó eszk'!BR$2:BR$34,0),"") | BS9: =IF('Bruttó eszk'!BS9>0,_xlfn.RANK.EQ('Bruttó eszk'!BS9,'Bruttó eszk'!BS$2:BS$34,0),"") | ... BX9: =IF('Bruttó eszk'!BX9>0,_xlfn.RANK.EQ('Bruttó eszk'!BX9,'Bruttó eszk'!BX$2:BX$34,0),"") -> 3 | BZ9: =IF('Bruttó eszk'!BZ9>0,_xlfn.RANK.EQ('Bruttó eszk'!BZ9,'Bruttó eszk'!BZ$2:BZ$34,0),"") -> 10 | CA9: =IF('Bruttó eszk'!CA9>0,_xlfn.RANK.EQ('Bruttó eszk'!CA9,'Bruttó eszk'!CA$2:CA$34,0),"") | CB9: =IF('Bruttó eszk'!CB9>0,_xlfn.RANK.EQ('Bruttó eszk'!CB9,'Bruttó eszk'!CB$2:CB$34,0),"") | CC9: =IF('Bruttó eszk'!CC9>0,_xlfn.RANK.EQ('Bruttó eszk'!CC9,'Bruttó eszk'!CC$2:CC$34,0),"") | CD9: =IF('Bruttó eszk'!CD9>0,_xlfn.RANK.EQ('Bruttó eszk'!CD9,'Bruttó eszk'!CD$2:CD$34,0),"") -> 3 | CE9: =IF('Bruttó eszk'!CE9>0,_xlfn.RANK.EQ('Bruttó eszk'!CE9,'Bruttó eszk'!CE$2:CE$34,0),"") -> 18 | CG9: =IF('Bruttó eszk'!CG9>0,_xlfn.RANK.EQ('Bruttó eszk'!CG9,'Bruttó eszk'!CG$2:CG$34,0),"") -> 15 | CH9: =IF('Bruttó eszk'!CH9>0,_xlfn.RANK.EQ('Bruttó eszk'!CH9,'Bruttó eszk'!CH$2:CH$34,0),"") -> 4 | CI9: =IF('Bruttó eszk'!CI9>0,_xlfn.RANK.EQ('Bruttó eszk'!CI9,'Bruttó eszk'!CI$2:CI$34,0),"") -> 7 | CJ9: =IF('Bruttó eszk'!CJ9>0,_xlfn.RANK.EQ('Bruttó eszk'!CJ9,'Bruttó eszk'!CJ$2:CJ$34,0),"") -> 11
A10: ='Bruttó eszk'!A10 -> UniCredit Leasing csoport | B10: =IF('Bruttó eszk'!B10>0,_xlfn.RANK.EQ('Bruttó eszk'!B10,'Bruttó eszk'!B$2:B$34,0),"") -> 2 | C10: =IF('Bruttó eszk'!C10>0,_xlfn.RANK.EQ('Bruttó eszk'!C10,'Bruttó eszk'!C$2:C$34,0),"") -> 3 | D10: =IF('Bruttó eszk'!D10>0,_xlfn.RANK.EQ('Bruttó eszk'!D10,'Bruttó eszk'!D$2:D$34,0),"") -> 7 | E10: =IF('Bruttó eszk'!E10>0,_xlfn.RANK.EQ('Bruttó eszk'!E10,'Bruttó eszk'!E$2:E$34,0),"") -> 5 | F10: =IF('Bruttó eszk'!F10>0,_xlfn.RANK.EQ('Bruttó eszk'!F10,'Bruttó eszk'!F$2:F$34,0),"") | G10: =IF('Bruttó eszk'!G10>0,_xlfn.RANK.EQ('Bruttó eszk'!G10,'Bruttó eszk'!G$2:G$34,0),"") | H10: =IF('Bruttó eszk'!H10>0,_xlfn.RANK.EQ('Bruttó eszk'!H10,'Bruttó eszk'!H$2:H$34,0),"") -> 9 | I10: =IF('Bruttó eszk'!I10>0,_xlfn.RANK.EQ('Bruttó eszk'!I10,'Bruttó eszk'!I$2:I$34,0),"") -> 5 | ... BJ10: =IF('Bruttó eszk'!BJ10>0,_xlfn.RANK.EQ('Bruttó eszk'!BJ10,'Bruttó eszk'!BJ$2:BJ$34,0),"") | BL10: =IF('Bruttó eszk'!BL10>0,_xlfn.RANK.EQ('Bruttó eszk'!BL10,'Bruttó eszk'!BL$2:BL$34,0),"") -> 3 | BM10: =IF('Bruttó eszk'!BM10>0,_xlfn.RANK.EQ('Bruttó eszk'!BM10,'Bruttó eszk'!BM$2:BM$34,0),"") | BN10: =IF('Bruttó eszk'!BN10>0,_xlfn.RANK.EQ('Bruttó eszk'!BN10,'Bruttó eszk'!BN$2:BN$34,0),"") -> 9 | BO10: =IF('Bruttó eszk'!BO10>0,_xlfn.RANK.EQ('Bruttó eszk'!BO10,'Bruttó eszk'!BO$2:BO$34,0),"") | BP10: =IF('Bruttó eszk'!BP10>0,_xlfn.RANK.EQ('Bruttó eszk'!BP10,'Bruttó eszk'!BP$2:BP$34,0),"") -> 9 | BQ10: =IF('Bruttó eszk'!BQ10>0,_xlfn.RANK.EQ('Bruttó eszk'!BQ10,'Bruttó eszk'!BQ$2:BQ$34,0),"") -> 7 | BR10: =IF('Bruttó eszk'!BR10>0,_xlfn.RANK.EQ('Bruttó eszk'!BR10,'Bruttó eszk'!BR$2:BR$34,0),"") -> 6 | BS10: =IF('Bruttó eszk'!BS10>0,_xlfn.RANK.EQ('Bruttó eszk'!BS10,'Bruttó eszk'!BS$2:BS$34,0),"") -> 3 | ... BX10: =IF('Bruttó eszk'!BX10>0,_xlfn.RANK.EQ('Bruttó eszk'!BX10,'Bruttó eszk'!BX$2:BX$34,0),"") | BZ10: =IF('Bruttó eszk'!BZ10>0,_xlfn.RANK.EQ('Bruttó eszk'!BZ10,'Bruttó eszk'!BZ$2:BZ$34,0),"") -> 4 | CA10: =IF('Bruttó eszk'!CA10>0,_xlfn.RANK.EQ('Bruttó eszk'!CA10,'Bruttó eszk'!CA$2:CA$34,0),"") -> 8 | CB10: =IF('Bruttó eszk'!CB10>0,_xlfn.RANK.EQ('Bruttó eszk'!CB10,'Bruttó eszk'!CB$2:CB$34,0),"") -> 1 | CC10: =IF('Bruttó eszk'!CC10>0,_xlfn.RANK.EQ('Bruttó eszk'!CC10,'Bruttó eszk'!CC$2:CC$34,0),"") | CD10: =IF('Bruttó eszk'!CD10>0,_xlfn.RANK.EQ('Bruttó eszk'!CD10,'Bruttó eszk'!CD$2:CD$34,0),"") | CE10: =IF('Bruttó eszk'!CE10>0,_xlfn.RANK.EQ('Bruttó eszk'!CE10,'Bruttó eszk'!CE$2:CE$34,0),"") -> 2 | CG10: =IF('Bruttó eszk'!CG10>0,_xlfn.RANK.EQ('Bruttó eszk'!CG10,'Bruttó eszk'!CG$2:CG$34,0),"") -> 2 | CH10: =IF('Bruttó eszk'!CH10>0,_xlfn.RANK.EQ('Bruttó eszk'!CH10,'Bruttó eszk'!CH$2:CH$34,0),"") -> 6 | CI10: =IF('Bruttó eszk'!CI10>0,_xlfn.RANK.EQ('Bruttó eszk'!CI10,'Bruttó eszk'!CI$2:CI$34,0),"") -> 2 | CJ10: =IF('Bruttó eszk'!CJ10>0,_xlfn.RANK.EQ('Bruttó eszk'!CJ10,'Bruttó eszk'!CJ$2:CJ$34,0),"") -> 3
A11: ='Bruttó eszk'!A11 -> Erste Leasing Cégcsoport | B11: =IF('Bruttó eszk'!B11>0,_xlfn.RANK.EQ('Bruttó eszk'!B11,'Bruttó eszk'!B$2:B$34,0),"") | C11: =IF('Bruttó eszk'!C11>0,_xlfn.RANK.EQ('Bruttó eszk'!C11,'Bruttó eszk'!C$2:C$34,0),"") -> 8 | D11: =IF('Bruttó eszk'!D11>0,_xlfn.RANK.EQ('Bruttó eszk'!D11,'Bruttó eszk'!D$2:D$34,0),"") | E11: =IF('Bruttó eszk'!E11>0,_xlfn.RANK.EQ('Bruttó eszk'!E11,'Bruttó eszk'!E$2:E$34,0),"") -> 8 | F11: =IF('Bruttó eszk'!F11>0,_xlfn.RANK.EQ('Bruttó eszk'!F11,'Bruttó eszk'!F$2:F$34,0),"") | G11: =IF('Bruttó eszk'!G11>0,_xlfn.RANK.EQ('Bruttó eszk'!G11,'Bruttó eszk'!G$2:G$34,0),"") | H11: =IF('Bruttó eszk'!H11>0,_xlfn.RANK.EQ('Bruttó eszk'!H11,'Bruttó eszk'!H$2:H$34,0),"") | I11: =IF('Bruttó eszk'!I11>0,_xlfn.RANK.EQ('Bruttó eszk'!I11,'Bruttó eszk'!I$2:I$34,0),"") | ... BJ11: =IF('Bruttó eszk'!BJ11>0,_xlfn.RANK.EQ('Bruttó eszk'!BJ11,'Bruttó eszk'!BJ$2:BJ$34,0),"") | BL11: =IF('Bruttó eszk'!BL11>0,_xlfn.RANK.EQ('Bruttó eszk'!BL11,'Bruttó eszk'!BL$2:BL$34,0),"") -> 9 | BM11: =IF('Bruttó eszk'!BM11>0,_xlfn.RANK.EQ('Bruttó eszk'!BM11,'Bruttó eszk'!BM$2:BM$34,0),"") | BN11: =IF('Bruttó eszk'!BN11>0,_xlfn.RANK.EQ('Bruttó eszk'!BN11,'Bruttó eszk'!BN$2:BN$34,0),"") | BO11: =IF('Bruttó eszk'!BO11>0,_xlfn.RANK.EQ('Bruttó eszk'!BO11,'Bruttó eszk'!BO$2:BO$34,0),"") -> 3 | BP11: =IF('Bruttó eszk'!BP11>0,_xlfn.RANK.EQ('Bruttó eszk'!BP11,'Bruttó eszk'!BP$2:BP$34,0),"") | BQ11: =IF('Bruttó eszk'!BQ11>0,_xlfn.RANK.EQ('Bruttó eszk'!BQ11,'Bruttó eszk'!BQ$2:BQ$34,0),"") -> 8 | BR11: =IF('Bruttó eszk'!BR11>0,_xlfn.RANK.EQ('Bruttó eszk'!BR11,'Bruttó eszk'!BR$2:BR$34,0),"") -> 12 | BS11: =IF('Bruttó eszk'!BS11>0,_xlfn.RANK.EQ('Bruttó eszk'!BS11,'Bruttó eszk'!BS$2:BS$34,0),"") -> 10 | ... BX11: =IF('Bruttó eszk'!BX11>0,_xlfn.RANK.EQ('Bruttó eszk'!BX11,'Bruttó eszk'!BX$2:BX$34,0),"") | BZ11: =IF('Bruttó eszk'!BZ11>0,_xlfn.RANK.EQ('Bruttó eszk'!BZ11,'Bruttó eszk'!BZ$2:BZ$34,0),"") -> 15 | CA11: =IF('Bruttó eszk'!CA11>0,_xlfn.RANK.EQ('Bruttó eszk'!CA11,'Bruttó eszk'!CA$2:CA$34,0),"") -> 9 | CB11: =IF('Bruttó eszk'!CB11>0,_xlfn.RANK.EQ('Bruttó eszk'!CB11,'Bruttó eszk'!CB$2:CB$34,0),"") -> 13 | CC11: =IF('Bruttó eszk'!CC11>0,_xlfn.RANK.EQ('Bruttó eszk'!CC11,'Bruttó eszk'!CC$2:CC$34,0),"") | CD11: =IF('Bruttó eszk'!CD11>0,_xlfn.RANK.EQ('Bruttó eszk'!CD11,'Bruttó eszk'!CD$2:CD$34,0),"") | CE11: =IF('Bruttó eszk'!CE11>0,_xlfn.RANK.EQ('Bruttó eszk'!CE11,'Bruttó eszk'!CE$2:CE$34,0),"") -> 14 | CG11: =IF('Bruttó eszk'!CG11>0,_xlfn.RANK.EQ('Bruttó eszk'!CG11,'Bruttó eszk'!CG$2:CG$34,0),"") -> 8 | CH11: =IF('Bruttó eszk'!CH11>0,_xlfn.RANK.EQ('Bruttó eszk'!CH11,'Bruttó eszk'!CH$2:CH$34,0),"") -> 8 | CI11: =IF('Bruttó eszk'!CI11>0,_xlfn.RANK.EQ('Bruttó eszk'!CI11,'Bruttó eszk'!CI$2:CI$34,0),"") | CJ11: =IF('Bruttó eszk'!CJ11>0,_xlfn.RANK.EQ('Bruttó eszk'!CJ11,'Bruttó eszk'!CJ$2:CJ$34,0),"") -> 8
A12: ='Bruttó eszk'!A12 -> Budapest Bank Zrt., Budapest Lízing Zrt. | B12: =IF('Bruttó eszk'!B12>0,_xlfn.RANK.EQ('Bruttó eszk'!B12,'Bruttó eszk'!B$2:B$34,0),"") -> 3 | C12: =IF('Bruttó eszk'!C12>0,_xlfn.RANK.EQ('Bruttó eszk'!C12,'Bruttó eszk'!C$2:C$34,0),"") -> 4 | D12: =IF('Bruttó eszk'!D12>0,_xlfn.RANK.EQ('Bruttó eszk'!D12,'Bruttó eszk'!D$2:D$34,0),"") -> 4 | E12: =IF('Bruttó eszk'!E12>0,_xlfn.RANK.EQ('Bruttó eszk'!E12,'Bruttó eszk'!E$2:E$34,0),"") -> 3 | F12: =IF('Bruttó eszk'!F12>0,_xlfn.RANK.EQ('Bruttó eszk'!F12,'Bruttó eszk'!F$2:F$34,0),"") | G12: =IF('Bruttó eszk'!G12>0,_xlfn.RANK.EQ('Bruttó eszk'!G12,'Bruttó eszk'!G$2:G$34,0),"") | H12: =IF('Bruttó eszk'!H12>0,_xlfn.RANK.EQ('Bruttó eszk'!H12,'Bruttó eszk'!H$2:H$34,0),"") | I12: =IF('Bruttó eszk'!I12>0,_xlfn.RANK.EQ('Bruttó eszk'!I12,'Bruttó eszk'!I$2:I$34,0),"") | ... BJ12: =IF('Bruttó eszk'!BJ12>0,_xlfn.RANK.EQ('Bruttó eszk'!BJ12,'Bruttó eszk'!BJ$2:BJ$34,0),"") | BL12: =IF('Bruttó eszk'!BL12>0,_xlfn.RANK.EQ('Bruttó eszk'!BL12,'Bruttó eszk'!BL$2:BL$34,0),"") -> 4 | BM12: =IF('Bruttó eszk'!BM12>0,_xlfn.RANK.EQ('Bruttó eszk'!BM12,'Bruttó eszk'!BM$2:BM$34,0),"") | BN12: =IF('Bruttó eszk'!BN12>0,_xlfn.RANK.EQ('Bruttó eszk'!BN12,'Bruttó eszk'!BN$2:BN$34,0),"") | BO12: =IF('Bruttó eszk'!BO12>0,_xlfn.RANK.EQ('Bruttó eszk'!BO12,'Bruttó eszk'!BO$2:BO$34,0),"") -> 1 | BP12: =IF('Bruttó eszk'!BP12>0,_xlfn.RANK.EQ('Bruttó eszk'!BP12,'Bruttó eszk'!BP$2:BP$34,0),"") -> 1 | BQ12: =IF('Bruttó eszk'!BQ12>0,_xlfn.RANK.EQ('Bruttó eszk'!BQ12,'Bruttó eszk'!BQ$2:BQ$34,0),"") -> 2 | BR12: =IF('Bruttó eszk'!BR12>0,_xlfn.RANK.EQ('Bruttó eszk'!BR12,'Bruttó eszk'!BR$2:BR$34,0),"") -> 4 | BS12: =IF('Bruttó eszk'!BS12>0,_xlfn.RANK.EQ('Bruttó eszk'!BS12,'Bruttó eszk'!BS$2:BS$34,0),"") -> 5 | ... BX12: =IF('Bruttó eszk'!BX12>0,_xlfn.RANK.EQ('Bruttó eszk'!BX12,'Bruttó eszk'!BX$2:BX$34,0),"") | BZ12: =IF('Bruttó eszk'!BZ12>0,_xlfn.RANK.EQ('Bruttó eszk'!BZ12,'Bruttó eszk'!BZ$2:BZ$34,0),"") -> 3 | CA12: =IF('Bruttó eszk'!CA12>0,_xlfn.RANK.EQ('Bruttó eszk'!CA12,'Bruttó eszk'!CA$2:CA$34,0),"") -> 1 | CB12: =IF('Bruttó eszk'!CB12>0,_xlfn.RANK.EQ('Bruttó eszk'!CB12,'Bruttó eszk'!CB$2:CB$34,0),"") -> 6 | CC12: =IF('Bruttó eszk'!CC12>0,_xlfn.RANK.EQ('Bruttó eszk'!CC12,'Bruttó eszk'!CC$2:CC$34,0),"") | CD12: =IF('Bruttó eszk'!CD12>0,_xlfn.RANK.EQ('Bruttó eszk'!CD12,'Bruttó eszk'!CD$2:CD$34,0),"") | CE12: =IF('Bruttó eszk'!CE12>0,_xlfn.RANK.EQ('Bruttó eszk'!CE12,'Bruttó eszk'!CE$2:CE$34,0),"") -> 3 | CG12: =IF('Bruttó eszk'!CG12>0,_xlfn.RANK.EQ('Bruttó eszk'!CG12,'Bruttó eszk'!CG$2:CG$34,0),"") -> 4 | CH12: =IF('Bruttó eszk'!CH12>0,_xlfn.RANK.EQ('Bruttó eszk'!CH12,'Bruttó eszk'!CH$2:CH$34,0),"") -> 3 | CI12: =IF('Bruttó eszk'!CI12>0,_xlfn.RANK.EQ('Bruttó eszk'!CI12,'Bruttó eszk'!CI$2:CI$34,0),"") -> 3 | CJ12: =IF('Bruttó eszk'!CJ12>0,_xlfn.RANK.EQ('Bruttó eszk'!CJ12,'Bruttó eszk'!CJ$2:CJ$34,0),"") -> 4
A13: ='Bruttó eszk'!A13 -> Régió Holding Kft. | B13: =IF('Bruttó eszk'!B13>0,_xlfn.RANK.EQ('Bruttó eszk'!B13,'Bruttó eszk'!B$2:B$34,0),"") | C13: =IF('Bruttó eszk'!C13>0,_xlfn.RANK.EQ('Bruttó eszk'!C13,'Bruttó eszk'!C$2:C$34,0),"") -> 14 | D13: =IF('Bruttó eszk'!D13>0,_xlfn.RANK.EQ('Bruttó eszk'!D13,'Bruttó eszk'!D$2:D$34,0),"") | E13: =IF('Bruttó eszk'!E13>0,_xlfn.RANK.EQ('Bruttó eszk'!E13,'Bruttó eszk'!E$2:E$34,0),"") -> 13 | F13: =IF('Bruttó eszk'!F13>0,_xlfn.RANK.EQ('Bruttó eszk'!F13,'Bruttó eszk'!F$2:F$34,0),"") | G13: =IF('Bruttó eszk'!G13>0,_xlfn.RANK.EQ('Bruttó eszk'!G13,'Bruttó eszk'!G$2:G$34,0),"") | H13: =IF('Bruttó eszk'!H13>0,_xlfn.RANK.EQ('Bruttó eszk'!H13,'Bruttó eszk'!H$2:H$34,0),"") | I13: =IF('Bruttó eszk'!I13>0,_xlfn.RANK.EQ('Bruttó eszk'!I13,'Bruttó eszk'!I$2:I$34,0),"") | ... BJ13: =IF('Bruttó eszk'!BJ13>0,_xlfn.RANK.EQ('Bruttó eszk'!BJ13,'Bruttó eszk'!BJ$2:BJ$34,0),"") -> 2 | BL13: =IF('Bruttó eszk'!BL13>0,_xlfn.RANK.EQ('Bruttó eszk'!BL13,'Bruttó eszk'!BL$2:BL$34,0),"") -> 15 | BM13: =IF('Bruttó eszk'!BM13>0,_xlfn.RANK.EQ('Bruttó eszk'!BM13,'Bruttó eszk'!BM$2:BM$34,0),"") | BN13: =IF('Bruttó eszk'!BN13>0,_xlfn.RANK.EQ('Bruttó eszk'!BN13,'Bruttó eszk'!BN$2:BN$34,0),"") | BO13: =IF('Bruttó eszk'!BO13>0,_xlfn.RANK.EQ('Bruttó eszk'!BO13,'Bruttó eszk'!BO$2:BO$34,0),"") | BP13: =IF('Bruttó eszk'!BP13>0,_xlfn.RANK.EQ('Bruttó eszk'!BP13,'Bruttó eszk'!BP$2:BP$34,0),"") -> 7 | BQ13: =IF('Bruttó eszk'!BQ13>0,_xlfn.RANK.EQ('Bruttó eszk'!BQ13,'Bruttó eszk'!BQ$2:BQ$34,0),"") -> 16 | BR13: =IF('Bruttó eszk'!BR13>0,_xlfn.RANK.EQ('Bruttó eszk'!BR13,'Bruttó eszk'!BR$2:BR$34,0),"") -> 14 | BS13: =IF('Bruttó eszk'!BS13>0,_xlfn.RANK.EQ('Bruttó eszk'!BS13,'Bruttó eszk'!BS$2:BS$34,0),"") -> 13 | ... BX13: =IF('Bruttó eszk'!BX13>0,_xlfn.RANK.EQ('Bruttó eszk'!BX13,'Bruttó eszk'!BX$2:BX$34,0),"") -> 2 | BZ13: =IF('Bruttó eszk'!BZ13>0,_xlfn.RANK.EQ('Bruttó eszk'!BZ13,'Bruttó eszk'!BZ$2:BZ$34,0),"") -> 23 | CA13: =IF('Bruttó eszk'!CA13>0,_xlfn.RANK.EQ('Bruttó eszk'!CA13,'Bruttó eszk'!CA$2:CA$34,0),"") -> 16 | CB13: =IF('Bruttó eszk'!CB13>0,_xlfn.RANK.EQ('Bruttó eszk'!CB13,'Bruttó eszk'!CB$2:CB$34,0),"") -> 14 | CC13: =IF('Bruttó eszk'!CC13>0,_xlfn.RANK.EQ('Bruttó eszk'!CC13,'Bruttó eszk'!CC$2:CC$34,0),"") | CD13: =IF('Bruttó eszk'!CD13>0,_xlfn.RANK.EQ('Bruttó eszk'!CD13,'Bruttó eszk'!CD$2:CD$34,0),"") -> 2 | CE13: =IF('Bruttó eszk'!CE13>0,_xlfn.RANK.EQ('Bruttó eszk'!CE13,'Bruttó eszk'!CE$2:CE$34,0),"") -> 20 | CG13: =IF('Bruttó eszk'!CG13>0,_xlfn.RANK.EQ('Bruttó eszk'!CG13,'Bruttó eszk'!CG$2:CG$34,0),"") -> 14 | CH13: =IF('Bruttó eszk'!CH13>0,_xlfn.RANK.EQ('Bruttó eszk'!CH13,'Bruttó eszk'!CH$2:CH$34,0),"") -> 13 | CI13: =IF('Bruttó eszk'!CI13>0,_xlfn.RANK.EQ('Bruttó eszk'!CI13,'Bruttó eszk'!CI$2:CI$34,0),"") | CJ13: =IF('Bruttó eszk'!CJ13>0,_xlfn.RANK.EQ('Bruttó eszk'!CJ13,'Bruttó eszk'!CJ$2:CJ$34,0),"") -> 15
... A34: ='Bruttó eszk'!A34 -> 0 | B34: =IF('Bruttó eszk'!B34>0,_xlfn.RANK.EQ('Bruttó eszk'!B34,'Bruttó eszk'!B$2:B$34,0),"") | C34: =IF('Bruttó eszk'!C34>0,_xlfn.RANK.EQ('Bruttó eszk'!C34,'Bruttó eszk'!C$2:C$34,0),"") | D34: =IF('Bruttó eszk'!D34>0,_xlfn.RANK.EQ('Bruttó eszk'!D34,'Bruttó eszk'!D$2:D$34,0),"") | E34: =IF('Bruttó eszk'!E34>0,_xlfn.RANK.EQ('Bruttó eszk'!E34,'Bruttó eszk'!E$2:E$34,0),"") | F34: =IF('Bruttó eszk'!F34>0,_xlfn.RANK.EQ('Bruttó eszk'!F34,'Bruttó eszk'!F$2:F$34,0),"") | G34: =IF('Bruttó eszk'!G34>0,_xlfn.RANK.EQ('Bruttó eszk'!G34,'Bruttó eszk'!G$2:G$34,0),"") | H34: =IF('Bruttó eszk'!H34>0,_xlfn.RANK.EQ('Bruttó eszk'!H34,'Bruttó eszk'!H$2:H$34,0),"") | I34: =IF('Bruttó eszk'!I34>0,_xlfn.RANK.EQ('Bruttó eszk'!I34,'Bruttó eszk'!I$2:I$34,0),"") | ... BJ34: =IF('Bruttó eszk'!BJ34>0,_xlfn.RANK.EQ('Bruttó eszk'!BJ34,'Bruttó eszk'!BJ$2:BJ$34,0),"") | BL34: =IF('Bruttó eszk'!BL34>0,_xlfn.RANK.EQ('Bruttó eszk'!BL34,'Bruttó eszk'!BL$2:BL$34,0),"") | BM34: =IF('Bruttó eszk'!BM34>0,_xlfn.RANK.EQ('Bruttó eszk'!BM34,'Bruttó eszk'!BM$2:BM$34,0),"") | BN34: =IF('Bruttó eszk'!BN34>0,_xlfn.RANK.EQ('Bruttó eszk'!BN34,'Bruttó eszk'!BN$2:BN$34,0),"") | BO34: =IF('Bruttó eszk'!BO34>0,_xlfn.RANK.EQ('Bruttó eszk'!BO34,'Bruttó eszk'!BO$2:BO$34,0),"") | BP34: =IF('Bruttó eszk'!BP34>0,_xlfn.RANK.EQ('Bruttó eszk'!BP34,'Bruttó eszk'!BP$2:BP$34,0),"") | BQ34: =IF('Bruttó eszk'!BQ34>0,_xlfn.RANK.EQ('Bruttó eszk'!BQ34,'Bruttó eszk'!BQ$2:BQ$34,0),"") | BR34: =IF('Bruttó eszk'!BR34>0,_xlfn.RANK.EQ('Bruttó eszk'!BR34,'Bruttó eszk'!BR$2:BR$34,0),"") | BS34: =IF('Bruttó eszk'!BS34>0,_xlfn.RANK.EQ('Bruttó eszk'!BS34,'Bruttó eszk'!BS$2:BS$34,0),"") | ... BX34: =IF('Bruttó eszk'!BX34>0,_xlfn.RANK.EQ('Bruttó eszk'!BX34,'Bruttó eszk'!BX$2:BX$34,0),"") | BZ34: =IF('Bruttó eszk'!BZ34>0,_xlfn.RANK.EQ('Bruttó eszk'!BZ34,'Bruttó eszk'!BZ$2:BZ$34,0),"") | CA34: =IF('Bruttó eszk'!CA34>0,_xlfn.RANK.EQ('Bruttó eszk'!CA34,'Bruttó eszk'!CA$2:CA$34,0),"") | CB34: =IF('Bruttó eszk'!CB34>0,_xlfn.RANK.EQ('Bruttó eszk'!CB34,'Bruttó eszk'!CB$2:CB$34,0),"") | CC34: =IF('Bruttó eszk'!CC34>0,_xlfn.RANK.EQ('Bruttó eszk'!CC34,'Bruttó eszk'!CC$2:CC$34,0),"") | CD34: =IF('Bruttó eszk'!CD34>0,_xlfn.RANK.EQ('Bruttó eszk'!CD34,'Bruttó eszk'!CD$2:CD$34,0),"") | CE34: =IF('Bruttó eszk'!CE34>0,_xlfn.RANK.EQ('Bruttó eszk'!CE34,'Bruttó eszk'!CE$2:CE$34,0),"") | CG34: =IF('Bruttó eszk'!CG34>0,_xlfn.RANK.EQ('Bruttó eszk'!CG34,'Bruttó eszk'!CG$2:CG$34,0),"") | CH34: =IF('Bruttó eszk'!CH34>0,_xlfn.RANK.EQ('Bruttó eszk'!CH34,'Bruttó eszk'!CH$2:CH$34,0),"") | CI34: =IF('Bruttó eszk'!CI34>0,_xlfn.RANK.EQ('Bruttó eszk'!CI34,'Bruttó eszk'!CI$2:CI$34,0),"") | CJ34: =IF('Bruttó eszk'!CJ34>0,_xlfn.RANK.EQ('Bruttó eszk'!CJ34,'Bruttó eszk'!CJ$2:CJ$34,0),"")
A35: ='Bruttó eszk'!A35 -> Összesen | B35: ='Bruttó eszk'!B35 -> 78665010305 | C35: ='Bruttó eszk'!C35 -> 1.7491107e+11 | D35: ='Bruttó eszk'!D35 -> 42694013891 | E35: ='Bruttó eszk'!E35 -> 4.3778586e+10 | F35: ='Bruttó eszk'!F35 -> 1385949942 | G35: ='Bruttó eszk'!G35 -> 466104633 | H35: ='Bruttó eszk'!H35 -> 8.2828846e+10 | ... BJ35: ='Bruttó eszk'!BJ35 -> 2341932931 | BL35: ='Bruttó eszk'!BL35 -> 3.4004868e+11 | BM35: ='Bruttó eszk'!BM35 -> 1852054575 | BN35: ='Bruttó eszk'!BN35 -> 8.5507505e+10 | BO35: ='Bruttó eszk'!BO35 -> 15658830180 | BP35: ='Bruttó eszk'!BP35 -> 32014640003 | BQ35: ='Bruttó eszk'!BQ35 -> 1.792242e+11 | BR35: ='Bruttó eszk'!BR35 -> 1.0337882e+11 | BS35: ='Bruttó eszk'!BS35 -> 2.3913333e+10 | ... BX35: ='Bruttó eszk'!BX35 -> 2389062537 | BZ35: ='Bruttó eszk'!BZ35 -> 4.4306707e+11 | CA35: ='Bruttó eszk'!CA35 -> 2.1123884e+11 | CB35: ='Bruttó eszk'!CB35 -> 2.8696531e+11 | CC35: ='Bruttó eszk'!CC35 -> 3895891744 | CD35: ='Bruttó eszk'!CD35 -> 2389062537 | CE35: ='Bruttó eszk'!CE35 -> 9.4755618e+11 | CG35: ='Bruttó eszk'!CG35 -> 2.5357608e+11 | CH35: ='Bruttó eszk'!CH35 -> 8.64726e+10 | CI35: ='Bruttó eszk'!CI35 -> 121359024196 | CJ35: ='Bruttó eszk'!CJ35 -> 2.1868966e+11
F36: =IF('Bruttó eszk'!F36>0,_xlfn.RANK.EQ('Bruttó eszk'!F36,'Bruttó eszk'!F$2:F$28,0),"") | G36: =IF('Bruttó eszk'!G36>0,_xlfn.RANK.EQ('Bruttó eszk'!G36,'Bruttó eszk'!G$2:G$28,0),"")
A37: adatszolgáltatók | B37: =COUNTIF(B2:B34,">0") -> 7 | C37: =COUNTIF(C2:C34,">0") -> 15 | D37: =COUNTIF(D2:D34,">0") -> 7 | E37: =COUNTIF(E2:E34,">0") -> 15 | F37: =COUNTIF(F2:F34,">0") -> 4 | G37: =COUNTIF(G2:G34,">0") -> 4 | H37: =COUNTIF(H2:H34,">0") -> 10 | I37: =COUNTIF(I2:I34,">0") -> 5 | ... CJ37: =COUNTIF(CJ2:CJ34,">0") -> 15
A38: adatszolgáltatók száma | B38: =IF(COUNTIF(B2:B34,">0")<5,"<5","ok") -> ok | C38: =IF(COUNTIF(C2:C34,">0")<5,"<5","ok") -> ok | D38: =IF(COUNTIF(D2:D34,">0")<5,"<5","ok") -> ok | E38: =IF(COUNTIF(E2:E34,">0")<5,"<5","ok") -> ok | F38: =IF(COUNTIF(F2:F34,">0")<5,"<5","ok") -> <5 | G38: =IF(COUNTIF(G2:G34,">0")<5,"<5","ok") -> <5 | H38: =IF(COUNTIF(H2:H34,">0")<5,"<5","ok") -> ok | I38: =IF(COUNTIF(I2:I34,">0")<5,"<5","ok") -> ok | ... CJ38: =IF(COUNTIF(CJ2:CJ34,">0")<5,"<5","ok") -> ok

Sheet Bruttó eszk
B1: Retail - új személygépjármû - magánszemély - bruttó eszközérték | C1: Retail - új személygépjármû - jogi személy - bruttó eszközérték | D1: Retail - használt személygépjármû - magánszemély - bruttó eszközérték | E1: Retail - használt személygépjármû - jogi személy - bruttó eszközérték | F1: Motor - új - bruttó eszközérték | G1: Motor - használt - bruttó eszközérték | H1: Flotta - új személygépjármû - bruttó eszközérték | I1: Flotta - használt személygépjármû - bruttó eszközérték | J1: Refinanszírozott flotta - új - bruttó eszközérték | K1: Refinanszírozott flotta - használt - bruttó eszközérték | L1: Retail - személygépjármû - hitel - bruttó eszközérték | M1: Retail - személygépjármû - zárt végû pénzügyi lízing - bruttó eszközérték | N1: Retail - személygépjármû - nyílt végû pénzügyi lízing - bruttó eszközérték | O1: Flotta - személygépjármû - hitel - bruttó eszközérték | P1: Flotta - személygépjármû - zárt végû pénzügyi lízing - bruttó eszközérték | Q1: Flotta - személygépjármû - nyílt végû pénzügyi lízing- bruttó eszközérték | R1: Flotta - személygépjármû - operatív lízing - bruttó eszközérték | S1: Új busz - operatív lízing - bruttó eszközérték | T1: Új busz - pénzügyi lízing - bruttó eszközérték | U1: Új busz - hitel - bruttó eszközérték | V1: Használt busz - operatív lízing - bruttó eszközérték | W1: Használt busz - pénzügyi lízing - bruttó eszközérték | X1: Használt busz - hitel - bruttó eszközérték | Y1: Új teherautó - operatív lízing - bruttó eszközérték | Z1: Új teherautó - pénzügyi lízing - bruttó eszközérték | AA1: Új teherautó - hitel - bruttó eszközérték | AB1: Használt teherautó - operatív lízing - bruttó eszközérték | AC1: Használt teherautó - pénzügyi lízing - bruttó eszközérték | AD1: Használt teherautó - hitel - bruttó eszközérték | AE1: Új mezõgazdasági gép - bruttó eszközérték | AF1: Használt mezõgazdasági gép - bruttó eszközérték | AG1: Új építõipari gép - bruttó eszközérték | AH1: Használt építõipari gép - bruttó eszközérték | AI1: Új IT, szoftver, irodagép - bruttó eszközérték | AJ1: Használt IT, szoftver, irodagép - bruttó eszközérték | AK1: Új egyéb gép - bruttó eszközérték | AL1: Használt egyéb gép - bruttó eszközérték | AM1: Mezõgazdasági gép - hitel - bruttó eszközérték | AN1: Mezõgazdasági gép - pénzügyi lízing - bruttó eszközérték | AO1: Mezõgazdasági gép - operatív lízing - bruttó eszközérték | AP1: Építõipari gép - hitel - bruttó eszközérték | AQ1: Építõipari gép - pénzügyi lízing - bruttó eszközérték | AR1: Építõipari gép - operatív lízing - bruttó eszközérték | AS1: IT, szoftver, irodagép - hitel - bruttó eszközérték | AT1: IT, szoftver, irodagép - pénzügyi lízing - bruttó eszközérték | AU1: IT, szoftver, irodagép - operatív lízing - bruttó eszközérték | AV1: Egyéb gép - hitel - bruttó eszközérték | AW1: Egyép gép - pénzügyi lízing - bruttó eszközérték | AX1: Egyép gép - operatív lízing - bruttó eszközérték | AY1: Lakossági - lakás - hitel - bruttó eszközérték | AZ1: Lakossági - lakás - pénzügyi lízing - bruttó eszközérték | BA1: Lakossági - nem lakás - hitel - bruttó eszközérték | BB1: Lakossági - nem lakás - pénzügyi lízing - bruttó eszközérték | BC1: Vállalati - lakás - hitel - bruttó eszközérték | BD1: Vállalati - lakás - pénzügyi lízing - bruttó eszközérték | BE1: Vállalati - lakás - operatív lízing - bruttó eszközérték | BF1: Vállalati - nem lakás - hitel - bruttó eszközérték | BG1: Vállalati - nem lakás - pénzügyi lízing - bruttó eszközérték | BH1: Vállalati - nem lakás - operatív lízing - bruttó eszközérték | BI1: Vasút, hajó, repülõ - bruttó eszközérték | BJ1: Egyéb eszköz - bruttó eszközérték | BL1: Retail | BM1: Motor | BN1: Flotta | BO1: Refi flotta | BP1: Busz | BQ1: Truck | BR1: Mezőgép | BS1: Építőgép | BT1: IT | BU1: Egyéb | BV1: Lakás | BW1: Ingatlan | BX1: Vasút, egyéb | BZ1: Autó | CA1: Truck | CB1: Gép | CC1: Ingatlan | CD1: Vasút, egyéb | CE1: Összesen | CG1: Retail új autó | CH1: Retail használt autó | CI1: Retail magánszemély | CJ1: Retail jogi személy | DA1: ELLENŐRZÉSEK | DC1: retail | DD1: uh | DE1: konstr | DF1: flotta | DG1: uh | DH1: konstr | DI1: mg | DJ1: uh | DK1: konstr | DL1: építő | DM1: uh | DN1: konstr | DO1: it | DP1: uh | DQ1: konstr | DR1: egyéb gép | DS1: uh | DT1: konstr
A2: Ober Pénzügyi Lízing Zrt. | B2: 0 | C2: 0 | D2: 0 | E2: 0 | F2: 0 | G2: 0 | H2: 0 | I2: 0 | J2: 5380184381 | K2: 1190269938 | L2: 0 | M2: 0 | N2: 0 | O2: 0 | P2: 0 | Q2: 0 | R2: 0 | S2: 0 | T2: 0 | U2: 0 | V2: 0 | W2: 0 | X2: 0 | Y2: 55206909 | Z2: 22920029194 | AA2: 32401549 | AB2: 186534591 | AC2: 2998020692 | AD2: 0 | AE2: 3043255899 | AF2: 328484432 | AG2: 1118868242 | AH2: 201900179 | AI2: 74035745 | AJ2: 0 | AK2: 2396627418 | AL2: 134340270 | AM2: 468957414 | AN2: 2902782917 | AO2: 0 | AP2: 120645920 | AQ2: 1173466077 | AR2: 26656424 | AS2: 0 | AT2: 0 | AU2: 0 | AV2: 0 | AW2: 0 | AX2: 0 | AY2: 0 | AZ2: 0 | BA2: 0 | BB2: 0 | BC2: 0 | BD2: 0 | BE2: 0 | BF2: 0 | BG2: 0 | BH2: 0 | BI2: 47129606 | BJ2: 1996265838 | BL2: =SUM(B2:E2) -> 0 | BM2: =SUM(F2:G2) -> 0 | BN2: =SUM(H2:I2) -> 0 | BO2: =SUM(J2:K2) -> 6570454319 | BP2: =SUM(S2:X2) -> 0 | BQ2: =SUM(Y2:AD2) -> 26192192935 | BR2: =SUM(AE2:AF2) -> 3371740331 | BS2: =SUM(AG2:AH2) -> 1320768421 | BT2: =SUM(AI2:AJ2) -> 74035745 | BU2: =SUM(AK2:AL2) -> 2530967688 | BV2: =AY2+AZ2+BC2+BD2+BE2 -> 0 | BW2: =BA2+BB2+BF2+BG2+BH2 -> 0 | BX2: =SUM(BI2:BJ2) -> 2043395444 | BZ2: =SUM(BL2:BO2) -> 6570454319 | CA2: =SUM(BP2:BQ2) -> 26192192935 | CB2: =SUM(BR2:BU2) -> 7297512185 | CC2: =SUM(BV2:BW2) -> 0 | CD2: =SUM(BX2) -> 2043395444 | CE2: =SUM(BZ2:CD2) -> 42103554883 | CG2: =B2+C2 -> 0 | CH2: =D2+E2 -> 0 | CI2: =B2+D2 -> 0 | CJ2: =C2+E2 -> 0 | DC2: =IF(DD2-DE2=0, "ok",DD2-DE2) -> ok | DD2: =+B2+C2+D2+E2 -> 0 | DE2: =+L2+N2+M2 -> 0 | DF2: =IF(DG2-DH2=0, "ok",DG2-DH2) -> ok | DG2: =+H2+I2 -> 0 | DH2: =+O2+P2+Q2+R2 -> 0 | DI2: =IF(DJ2-DK2=0, "ok",DJ2-DK2) -> ok | DJ2: =+AE2+AF2 -> 3371740331 | DK2: =+AM2+AN2+AO2 -> 3371740331 | DL2: =IF(DM2-DN2=0, "ok",DM2-DN2) -> ok | DM2: =+AG2+AH2 -> 1320768421 | DN2: =+AP2+AQ2+AR2 -> 1320768421 | DO2: =IF(DP2-DQ2=0, "ok",DP2-DQ2) -> 74035745 | DP2: =+AI2+AJ2 -> 74035745 | DQ2: =+AS2+AT2+AU2 -> 0 | DR2: =IF(DS2-DT2=0, "ok",DS2-DT2) -> 2530967688 | DS2: =+AK2+AL2 -> 2530967688 | DT2: =+AV2+AW2+AX2 -> 0
A3: CIB Lízing Csoport | B3: 5660570424 | C3: 9863441841 | D3: 2091652220 | E3: 2608406433 | F3: 0 | G3: 0 | H3: 162844405 | I3: 44363651 | J3: 0 | K3: 0 | L3: 0 | M3: 12231762695 | N3: 7992308223 | O3: 0 | P3: 135044405 | Q3: 72163651 | R3: 0 | S3: 0 | T3: 66443097 | U3: 0 | V3: 0 | W3: 25400000 | X3: 0 | Y3: 0 | Z3: 3922820979 | AA3: 0 | AB3: 0 | AC3: 684478547 | AD3: 0 | AE3: 6793497591 | AF3: 4561035467 | AG3: 158550780 | AH3: 36116086 | AI3: 57558764 | AJ3: 0 | AK3: 1591352122 | AL3: 411570956 | AM3: 345888324 | AN3: 11008644735 | AO3: 0 | AP3: 0 | AQ3: 194666866 | AR3: 0 | AS3: 0 | AT3: 57558764 | AU3: 0 | AV3: 1066546820 | AW3: 936376258 | AX3: 0 | AY3: 0 | AZ3: 0 | BA3: 0 | BB3: 0 | BC3: 0 | BD3: 0 | BE3: 0 | BF3: 0 | BG3: 0 | BH3: 0 | BI3: 0 | BJ3: 0 | BL3: =SUM(B3:E3) -> 20224070918 | BM3: =SUM(F3:G3) -> 0 | BN3: =SUM(H3:I3) -> 207208056 | BO3: =SUM(J3:K3) -> 0 | BP3: =SUM(S3:X3) -> 91843097 | BQ3: =SUM(Y3:AD3) -> 4607299526 | BR3: =SUM(AE3:AF3) -> 11354533058 | BS3: =SUM(AG3:AH3) -> 194666866 | BT3: =SUM(AI3:AJ3) -> 57558764 | BU3: =SUM(AK3:AL3) -> 2002923078 | BV3: =AY3+AZ3+BC3+BD3+BE3 -> 0 | BW3: =BA3+BB3+BF3+BG3+BH3 -> 0 | BX3: =SUM(BI3:BJ3) -> 0 | BZ3: =SUM(BL3:BO3) -> 20431278974 | CA3: =SUM(BP3:BQ3) -> 4699142623 | CB3: =SUM(BR3:BU3) -> 13609681766 | CC3: =SUM(BV3:BW3) -> 0 | CD3: =SUM(BX3) -> 0 | CE3: =SUM(BZ3:CD3) -> 38740103363 | CG3: =B3+C3 -> 15524012265 | CH3: =D3+E3 -> 4700058653 | CI3: =B3+D3 -> 7752222644 | CJ3: =C3+E3 -> 12471848274 | DC3: =IF(DD3-DE3=0, "ok",DD3-DE3) -> ok | DD3: =+B3+C3+D3+E3 -> 20224070918 | DE3: =+L3+N3+M3 -> 20224070918 | DF3: =IF(DG3-DH3=0, "ok",DG3-DH3) -> ok | DG3: =+H3+I3 -> 207208056 | DH3: =+O3+P3+Q3+R3 -> 207208056 | DI3: =IF(DJ3-DK3=0, "ok",DJ3-DK3) -> -1 | DJ3: =+AE3+AF3 -> 11354533058 | DK3: =+AM3+AN3+AO3 -> 11354533059 | DL3: =IF(DM3-DN3=0, "ok",DM3-DN3) -> ok | DM3: =+AG3+AH3 -> 194666866 | DN3: =+AP3+AQ3+AR3 -> 194666866 | DO3: =IF(DP3-DQ3=0, "ok",DP3-DQ3) -> ok | DP3: =+AI3+AJ3 -> 57558764 | DQ3: =+AS3+AT3+AU3 -> 57558764 | DR3: =IF(DS3-DT3=0, "ok",DS3-DT3) -> ok | DS3: =+AK3+AL3 -> 2002923078 | DT3: =+AV3+AW3+AX3 -> 2002923078
A4: ARVAL Magyarország Jármûparkkezelõ Kft. | B4: 0 | C4: 0 | D4: 0 | E4: 0 | F4: 0 | G4: 0 | H4: 7030469000 | I4: 0 | J4: 0 | K4: 0 | L4: 0 | M4: 0 | N4: 0 | O4: 0 | P4: 0 | Q4: 0 | R4: =+H4 -> 7030469000 | S4: 0 | T4: 0 | U4: 0 | V4: 0 | W4: 0 | X4: 0 | Y4: 0 | Z4: 0 | AA4: 0 | AB4: 0 | AC4: 0 | AD4: 0 | AE4: 0 | AF4: 0 | AG4: 0 | AH4: 0 | AI4: 0 | AJ4: 0 | AK4: 0 | AL4: 0 | AM4: 0 | AN4: 0 | AO4: 0 | AP4: 0 | AQ4: 0 | AR4: 0 | AS4: 0 | AT4: 0 | AU4: 0 | AV4: 0 | AW4: 0 | AX4: 0 | AY4: 0 | AZ4: 0 | BA4: 0 | BB4: 0 | BC4: 0 | BD4: 0 | BE4: 0 | BF4: 0 | BG4: 0 | BH4: 0 | BI4: 0 | BJ4: 0 | BL4: =SUM(B4:E4) -> 0 | BM4: =SUM(F4:G4) -> 0 | BN4: =SUM(H4:I4) -> 7030469000 | BO4: =SUM(J4:K4) -> 0 | BP4: =SUM(S4:X4) -> 0 | BQ4: =SUM(Y4:AD4) -> 0 | BR4: =SUM(AE4:AF4) -> 0 | BS4: =SUM(AG4:AH4) -> 0 | BT4: =SUM(AI4:AJ4) -> 0 | BU4: =SUM(AK4:AL4) -> 0 | BV4: =AY4+AZ4+BC4+BD4+BE4 -> 0 | BW4: =BA4+BB4+BF4+BG4+BH4 -> 0 | BX4: =SUM(BI4:BJ4) -> 0 | BY4: 0 | BZ4: =SUM(BL4:BO4) -> 7030469000 | CA4: =SUM(BP4:BQ4) -> 0 | CB4: =SUM(BR4:BU4) -> 0 | CC4: =SUM(BV4:BW4) -> 0 | CD4: =SUM(BX4) -> 0 | CE4: =SUM(BZ4:CD4) -> 7030469000 | CG4: =B4+C4 -> 0 | CH4: =D4+E4 -> 0 | CI4: =B4+D4 -> 0 | CJ4: =C4+E4 -> 0 | DC4: =IF(DD4-DE4=0, "ok",DD4-DE4) -> ok | DD4: =+B4+C4+D4+E4 -> 0 | DE4: =+L4+N4+M4 -> 0 | DF4: =IF(DG4-DH4=0, "ok",DG4-DH4) -> ok | DG4: =+H4+I4 -> 7030469000 | DH4: =+O4+P4+Q4+R4 -> 7030469000 | DI4: =IF(DJ4-DK4=0, "ok",DJ4-DK4) -> ok | DJ4: =+AE4+AF4 -> 0 | DK4: =+AM4+AN4+AO4 -> 0 | DL4: =IF(DM4-DN4=0, "ok",DM4-DN4) -> ok | DM4: =+AG4+AH4 -> 0 | DN4: =+AP4+AQ4+AR4 -> 0 | DO4: =IF(DP4-DQ4=0, "ok",DP4-DQ4) -> ok | DP4: =+AI4+AJ4 -> 0 | DQ4: =+AS4+AT4+AU4 -> 0 | DR4: =IF(DS4-DT4=0, "ok",DS4-DT4) -> ok | DS4: =+AK4+AL4 -> 0 | DT4: =+AV4+AW4+AX4 -> 0
A5: Raiffeisen Corporate Lízing Zrt. | B5: 0 | C5: 5108060828 | D5: 0 | E5: 310768103 | F5: 2527559 | G5: 0 | H5: 0 | I5: 0 | J5: 0 | K5: 0 | L5: 0 | M5: 2595330521 | N5: 2823498409 | O5: 0 | P5: 0 | Q5: 0 | R5: 0 | S5: 0 | T5: 3699993200 | U5: 0 | V5: 0 | W5: 0 | X5: 0 | Y5: 0 | Z5: 7757445425 | AA5: 0 | AB5: 0 | AC5: 602928478 | AD5: 0 | AE5: 3013595449 | AF5: 0 | AG5: 544015923 | AH5: 49911000 | AI5: 0 | AJ5: 0 | AK5: 3232072728 | AL5: 0 | AM5: 0 | AN5: 3013595449 | AO5: 0 | AP5: 0 | AQ5: 593926923 | AR5: 0 | AS5: 0 | AT5: 0 | AU5: 0 | AV5: 0 | AW5: 3232072728 | AX5: 0 | AY5: 0 | AZ5: 0 | BA5: 0 | BB5: 0 | BC5: 0 | BD5: 0 | BE5: 0 | BF5: 0 | BG5: 0 | BH5: 0 | BI5: 0 | BJ5: 0 | BL5: =SUM(B5:E5) -> 5418828931 | BM5: =SUM(F5:G5) -> 2527559 | BN5: =SUM(H5:I5) -> 0 | BO5: =SUM(J5:K5) -> 0 | BP5: =SUM(S5:X5) -> 3699993200 | BQ5: =SUM(Y5:AD5) -> 8360373903 | BR5: =SUM(AE5:AF5) -> 3013595449 | BS5: =SUM(AG5:AH5) -> 593926923 | BT5: =SUM(AI5:AJ5) -> 0 | BU5: =SUM(AK5:AL5) -> 3232072728 | BV5: =AY5+AZ5+BC5+BD5+BE5 -> 0 | BW5: =BA5+BB5+BF5+BG5+BH5 -> 0 | BX5: =SUM(BI5:BJ5) -> 0 | BY5: 1 | BZ5: =SUM(BL5:BO5) -> 5421356490 | CA5: =SUM(BP5:BQ5) -> 12060367103 | CB5: =SUM(BR5:BU5) -> 6839595100 | CC5: =SUM(BV5:BW5) -> 0 | CD5: =SUM(BX5) -> 0 | CE5: =SUM(BZ5:CD5) -> 24321318693 | CG5: =B5+C5 -> 5108060828 | CH5: =D5+E5 -> 310768103 | CI5: =B5+D5 -> 0 | CJ5: =C5+E5 -> 5418828931 | DC5: =IF(DD5-DE5=0, "ok",DD5-DE5) -> 1 | DD5: =+B5+C5+D5+E5 -> 5418828931 | DE5: =+L5+N5+M5 -> 5418828930 | DF5: =IF(DG5-DH5=0, "ok",DG5-DH5) -> ok | DG5: =+H5+I5 -> 0 | DH5: =+O5+P5+Q5+R5 -> 0 | DI5: =IF(DJ5-DK5=0, "ok",DJ5-DK5) -> ok | DJ5: =+AE5+AF5 -> 3013595449 | DK5: =+AM5+AN5+AO5 -> 3013595449 | DL5: =IF(DM5-DN5=0, "ok",DM5-DN5) -> ok | DM5: =+AG5+AH5 -> 593926923 | DN5: =+AP5+AQ5+AR5 -> 593926923 | DO5: =IF(DP5-DQ5=0, "ok",DP5-DQ5) -> ok | DP5: =+AI5+AJ5 -> 0 | DQ5: =+AS5+AT5+AU5 -> 0 | DR5: =IF(DS5-DT5=0, "ok",DS5-DT5) -> ok | DS5: =+AK5+AL5 -> 3232072728 | DT5: =+AV5+AW5+AX5 -> 3232072728
A6: Lombard Lízing Csoport | B6: 0 | C6: 0 | D6: 0 | E6: 0 | F6: 0 | G6: 0 | H6: 0 | I6: 0 | J6: 0 | K6: 0 | L6: 0 | M6: 0 | N6: 0 | O6: 0 | P6: 0 | Q6: 0 | R6: 0 | S6: 0 | T6: 0 | U6: 0 | V6: 0 | W6: 0 | X6: 0 | Y6: 0 | Z6: 0 | AA6: 0 | AB6: 0 | AC6: 0 | AD6: 0 | AE6: 0 | AF6: 0 | AG6: 0 | AH6: 0 | AI6: 0 | AJ6: 0 | AK6: 0 | AL6: 0 | AM6: 0 | AN6: 0 | AO6: 0 | AP6: 0 | AQ6: 0 | AR6: 0 | AS6: 0 | AT6: 0 | AU6: 0 | AV6: 0 | AW6: 0 | AX6: 0 | AY6: 0 | AZ6: 0 | BA6: 0 | BB6: 0 | BC6: 0 | BD6: 0 | BE6: 0 | BF6: 0 | BG6: 0 | BH6: 0 | BI6: 0 | BJ6: 0 | BL6: =SUM(B6:E6) -> 0 | BM6: =SUM(F6:G6) -> 0 | BN6: =SUM(H6:I6) -> 0 | BO6: =SUM(J6:K6) -> 0 | BP6: =SUM(S6:X6) -> 0 | BQ6: =SUM(Y6:AD6) -> 0 | BR6: =SUM(AE6:AF6) -> 0 | BS6: =SUM(AG6:AH6) -> 0 | BT6: =SUM(AI6:AJ6) -> 0 | BU6: =SUM(AK6:AL6) -> 0 | BV6: =AY6+AZ6+BC6+BD6+BE6 -> 0 | BW6: =BA6+BB6+BF6+BG6+BH6 -> 0 | BX6: =SUM(BI6:BJ6) -> 0 | BZ6: =SUM(BL6:BO6) -> 0 | CA6: =SUM(BP6:BQ6) -> 0 | CB6: =SUM(BR6:BU6) -> 0 | CC6: =SUM(BV6:BW6) -> 0 | CD6: =SUM(BX6) -> 0 | CE6: =SUM(BZ6:CD6) -> 0 | CG6: =B6+C6 -> 0 | CH6: =D6+E6 -> 0 | CI6: =B6+D6 -> 0 | CJ6: =C6+E6 -> 0 | DC6: =IF(DD6-DE6=0, "ok",DD6-DE6) -> ok | DD6: =+B6+C6+D6+E6 -> 0 | DE6: =+L6+N6+M6 -> 0 | DF6: =IF(DG6-DH6=0, "ok",DG6-DH6) -> ok | DG6: =+H6+I6 -> 0 | DH6: =+O6+P6+Q6+R6 -> 0 | DI6: =IF(DJ6-DK6=0, "ok",DJ6-DK6) -> ok | DJ6: =+AE6+AF6 -> 0 | DK6: =+AM6+AN6+AO6 -> 0 | DL6: =IF(DM6-DN6=0, "ok",DM6-DN6) -> ok | DM6: =+AG6+AH6 -> 0 | DN6: =+AP6+AQ6+AR6 -> 0 | DO6: =IF(DP6-DQ6=0, "ok",DP6-DQ6) -> ok | DP6: =+AI6+AJ6 -> 0 | DQ6: =+AS6+AT6+AU6 -> 0 | DR6: =IF(DS6-DT6=0, "ok",DS6-DT6) -> ok | DS6: =+AK6+AL6 -> 0 | DT6: =+AV6+AW6+AX6 -> 0
A7: ALD Automotive Magyarország Kft. | B7: 0 | C7: 0 | D7: 0 | E7: 0 | F7: 0 | G7: 0 | H7: 21611986971 | I7: 0 | J7: 0 | K7: 0 | L7: 0 | M7: 0 | N7: 0 | O7: 0 | P7: 0 | Q7: 0 | R7: =+H7 -> 21611986971 | S7: 0 | T7: 0 | U7: 0 | V7: 0 | W7: 0 | X7: 0 | Y7: 0 | Z7: 0 | AA7: 0 | AB7: 0 | AC7: 0 | AD7: 0 | AE7: 0 | AF7: 0 | AG7: 0 | AH7: 0 | AI7: 0 | AJ7: 0 | AK7: 0 | AL7: 0 | AM7: 0 | AN7: 0 | AO7: 0 | AP7: 0 | AQ7: 0 | AR7: 0 | AS7: 0 | AT7: 0 | AU7: 0 | AV7: 0 | AW7: 0 | AX7: 0 | AY7: 0 | AZ7: 0 | BA7: 0 | BB7: 0 | BC7: 0 | BD7: 0 | BE7: 0 | BF7: 0 | BG7: 0 | BH7: 0 | BI7: 0 | BJ7: 0 | BL7: =SUM(B7:E7) -> 0 | BM7: =SUM(F7:G7) -> 0 | BN7: =SUM(H7:I7) -> 21611986971 | BO7: =SUM(J7:K7) -> 0 | BP7: =SUM(S7:X7) -> 0 | BQ7: =SUM(Y7:AD7) -> 0 | BR7: =SUM(AE7:AF7) -> 0 | BS7: =SUM(AG7:AH7) -> 0 | BT7: =SUM(AI7:AJ7) -> 0 | BU7: =SUM(AK7:AL7) -> 0 | BV7: =AY7+AZ7+BC7+BD7+BE7 -> 0 | BW7: =BA7+BB7+BF7+BG7+BH7 -> 0 | BX7: =SUM(BI7:BJ7) -> 0 | BZ7: =SUM(BL7:BO7) -> 21611986971 | CA7: =SUM(BP7:BQ7) -> 0 | CB7: =SUM(BR7:BU7) -> 0 | CC7: =SUM(BV7:BW7) -> 0 | CD7: =SUM(BX7) -> 0 | CE7: =SUM(BZ7:CD7) -> 21611986971 | CG7: =B7+C7 -> 0 | CH7: =D7+E7 -> 0 | CI7: =B7+D7 -> 0 | CJ7: =C7+E7 -> 0 | DC7: =IF(DD7-DE7=0, "ok",DD7-DE7) -> ok | DD7: =+B7+C7+D7+E7 -> 0 | DE7: =+L7+N7+M7 -> 0 | DF7: =IF(DG7-DH7=0, "ok",DG7-DH7) -> ok | DG7: =+H7+I7 -> 21611986971 | DH7: =+O7+P7+Q7+R7 -> 21611986971 | DI7: =IF(DJ7-DK7=0, "ok",DJ7-DK7) -> ok | DJ7: =+AE7+AF7 -> 0 | DK7: =+AM7+AN7+AO7 -> 0 | DL7: =IF(DM7-DN7=0, "ok",DM7-DN7) -> ok | DM7: =+AG7+AH7 -> 0 | DN7: =+AP7+AQ7+AR7 -> 0 | DO7: =IF(DP7-DQ7=0, "ok",DP7-DQ7) -> ok | DP7: =+AI7+AJ7 -> 0 | DQ7: =+AS7+AT7+AU7 -> 0 | DR7: =IF(DS7-DT7=0, "ok",DS7-DT7) -> ok | DS7: =+AK7+AL7 -> 0 | DT7: =+AV7+AW7+AX7 -> 0
A8: OTP Ingatlanlízing Zrt. | B8: 0 | C8: 0 | D8: 0 | E8: 0 | F8: 0 | G8: 0 | H8: 0 | I8: 0 | J8: 0 | K8: 0 | L8: 0 | M8: 0 | N8: 0 | O8: 0 | P8: 0 | Q8: 0 | R8: 0 | S8: 0 | T8: 0 | U8: 0 | V8: 0 | W8: 0 | X8: 0 | Y8: 0 | Z8: 0 | AA8: 0 | AB8: 0 | AC8: 0 | AD8: 0 | AE8: 0 | AF8: 0 | AG8: 0 | AH8: 0 | AI8: 0 | AJ8: 0 | AK8: 0 | AL8: 0 | AM8: 0 | AN8: 0 | AO8: 0 | AP8: 0 | AQ8: 0 | AR8: 0 | AS8: 0 | AT8: 0 | AU8: 0 | AV8: 0 | AW8: 0 | AX8: 0 | AY8: 0 | AZ8: 1308269400 | BA8: 0 | BB8: 363625750 | BC8: 0 | BD8: 35500000 | BE8: 0 | BF8: 0 | BG8: 15000000 | BH8: 0 | BI8: 0 | BJ8: 0 | BL8: =SUM(B8:E8) -> 0 | BM8: =SUM(F8:G8) -> 0 | BN8: =SUM(H8:I8) -> 0 | BO8: =SUM(J8:K8) -> 0 | BP8: =SUM(S8:X8) -> 0 | BQ8: =SUM(Y8:AD8) -> 0 | BR8: =SUM(AE8:AF8) -> 0 | BS8: =SUM(AG8:AH8) -> 0 | BT8: =SUM(AI8:AJ8) -> 0 | BU8: =SUM(AK8:AL8) -> 0 | BV8: =AY8+AZ8+BC8+BD8+BE8 -> 1343769400 | BW8: =BA8+BB8+BF8+BG8+BH8 -> 378625750 | BX8: =SUM(BI8:BJ8) -> 0 | BZ8: =SUM(BL8:BO8) -> 0 | CA8: =SUM(BP8:BQ8) -> 0 | CB8: =SUM(BR8:BU8) -> 0 | CC8: =SUM(BV8:BW8) -> 1722395150 | CD8: =SUM(BX8) -> 0 | CE8: =SUM(BZ8:CD8) -> 1722395150 | CG8: =B8+C8 -> 0 | CH8: =D8+E8 -> 0 | CI8: =B8+D8 -> 0 | CJ8: =C8+E8 -> 0 | DC8: =IF(DD8-DE8=0, "ok",DD8-DE8) -> ok | DD8: =+B8+C8+D8+E8 -> 0 | DE8: =+L8+N8+M8 -> 0 | DF8: =IF(DG8-DH8=0, "ok",DG8-DH8) -> ok | DG8: =+H8+I8 -> 0 | DH8: =+O8+P8+Q8+R8 -> 0 | DI8: =IF(DJ8-DK8=0, "ok",DJ8-DK8) -> ok | DJ8: =+AE8+AF8 -> 0 | DK8: =+AM8+AN8+AO8 -> 0 | DL8: =IF(DM8-DN8=0, "ok",DM8-DN8) -> ok | DM8: =+AG8+AH8 -> 0 | DN8: =+AP8+AQ8+AR8 -> 0 | DO8: =IF(DP8-DQ8=0, "ok",DP8-DQ8) -> ok | DP8: =+AI8+AJ8 -> 0 | DQ8: =+AS8+AT8+AU8 -> 0 | DR8: =IF(DS8-DT8=0, "ok",DS8-DT8) -> ok | DS8: =+AK8+AL8 -> 0 | DT8: =+AV8+AW8+AX8 -> 0
A9: Cofidis | B9: 65484240 | C9: 8949483 | D9: 7567671146 | E9: 570222967 | F9: 14625000 | G9: 6139000 | H9: 0 | I9: 0 | J9: 0 | K9: 0 | L9: 0 | M9: 8212327836 | N9: 0 | O9: 0 | P9: 0 | Q9: 0 | R9: 0 | S9: 0 | T9: 0 | U9: 0 | V9: 0 | W9: 0 | X9: 0 | Y9: 0 | Z9: 0 | AA9: 0 | AB9: 0 | AC9: 0 | AD9: 0 | AE9: 0 | AF9: 0 | AG9: 0 | AH9: 0 | AI9: 0 | AJ9: 0 | AK9: 0 | AL9: 0 | AM9: 0 | AN9: 0 | AO9: 0 | AP9: 0 | AQ9: 0 | AR9: 0 | AS9: 0 | AT9: 0 | AU9: 0 | AV9: 0 | AW9: 0 | AX9: 0 | AY9: 0 | AZ9: 0 | BA9: 0 | BB9: 0 | BC9: 0 | BD9: 0 | BE9: 0 | BF9: 0 | BG9: 0 | BH9: 0 | BI9: 0 | BJ9: 660000 | BL9: =SUM(B9:E9) -> 8212327836 | BM9: =SUM(F9:G9) -> 20764000 | BN9: =SUM(H9:I9) -> 0 | BO9: =SUM(J9:K9) -> 0 | BP9: =SUM(S9:X9) -> 0 | BQ9: =SUM(Y9:AD9) -> 0 | BR9: =SUM(AE9:AF9) -> 0 | BS9: =SUM(AG9:AH9) -> 0 | BT9: =SUM(AI9:AJ9) -> 0 | BU9: =SUM(AK9:AL9) -> 0 | BV9: =AY9+AZ9+BC9+BD9+BE9 -> 0 | BW9: =BA9+BB9+BF9+BG9+BH9 -> 0 | BX9: =SUM(BI9:BJ9) -> 660000 | BZ9: =SUM(BL9:BO9) -> 8233091836 | CA9: =SUM(BP9:BQ9) -> 0 | CB9: =SUM(BR9:BU9) -> 0 | CC9: =SUM(BV9:BW9) -> 0 | CD9: =SUM(BX9) -> 660000 | CE9: =SUM(BZ9:CD9) -> 8233751836 | CG9: =B9+C9 -> 74433723 | CH9: =D9+E9 -> 8137894113 | CI9: =B9+D9 -> 7633155386 | CJ9: =C9+E9 -> 579172450 | DC9: =IF(DD9-DE9=0, "ok",DD9-DE9) -> ok | DD9: =+B9+C9+D9+E9 -> 8212327836 | DE9: =+L9+N9+M9 -> 8212327836 | DF9: =IF(DG9-DH9=0, "ok",DG9-DH9) -> ok | DG9: =+H9+I9 -> 0 | DH9: =+O9+P9+Q9+R9 -> 0 | DI9: =IF(DJ9-DK9=0, "ok",DJ9-DK9) -> ok | DJ9: =+AE9+AF9 -> 0 | DK9: =+AM9+AN9+AO9 -> 0 | DL9: =IF(DM9-DN9=0, "ok",DM9-DN9) -> ok | DM9: =+AG9+AH9 -> 0 | DN9: =+AP9+AQ9+AR9 -> 0 | DO9: =IF(DP9-DQ9=0, "ok",DP9-DQ9) -> ok | DP9: =+AI9+AJ9 -> 0 | DQ9: =+AS9+AT9+AU9 -> 0 | DR9: =IF(DS9-DT9=0, "ok",DS9-DT9) -> ok | DS9: =+AK9+AL9 -> 0 | DT9: =+AV9+AW9+AX9 -> 0
A10: UniCredit Leasing csoport | B10: 17715885045 | C10: 32860709058 | D10: 447457526 | E10: 2166539571 | F10: 0 | G10: 0 | H10: 234609818 | I10: 10356800 | J10: 0 | K10: 0 | L10: 3823651169 | M10: 33653781029 | N10: 15713159002 | O10: 0 | P10: 0 | Q10: 0 | R10: 244966618 | S10: 0 | T10: 0 | U10: 0 | V10: 0 | W10: 21209000 | X10: 0 | Y10: 12499487 | Z10: 12223372383 | AA10: 0 | AB10: 42014902 | AC10: 1645664920 | AD10: 0 | AE10: 3668995321 | AF10: 3768343175 | AG10: 2836496166 | AH10: 181049117 | AI10: 55541857064 | AJ10: 0 | AK10: 8936286779 | AL10: 949607607 | AM10: 316669077 | AN10: 7120669419 | AO10: 0 | AP10: 890662904 | AQ10: 2126882379 | AR10: 0 | AS10: 0 | AT10: 55527602469 | AU10: 14254595 | AV10: 817516875 | AW10: 9056855619 | AX10: 11521892 | AY10: 0 | AZ10: 0 | BA10: 0 | BB10: 0 | BC10: 0 | BD10: 0 | BE10: 0 | BF10: 0 | BG10: 0 | BH10: 0 | BI10: 0 | BJ10: 0 | BL10: =SUM(B10:E10) -> 53190591200 | BM10: =SUM(F10:G10) -> 0 | BN10: =SUM(H10:I10) -> 244966618 | BO10: =SUM(J10:K10) -> 0 | BP10: =SUM(S10:X10) -> 21209000 | BQ10: =SUM(Y10:AD10) -> 13923551692 | BR10: =SUM(AE10:AF10) -> 7437338496 | BS10: =SUM(AG10:AH10) -> 3017545283 | BT10: =SUM(AI10:AJ10) -> 55541857064 | BU10: =SUM(AK10:AL10) -> 9885894386 | BV10: =AY10+AZ10+BC10+BD10+BE10 -> 0 | BW10: =BA10+BB10+BF10+BG10+BH10 -> 0 | BX10: =SUM(BI10:BJ10) -> 0 | BZ10: =SUM(BL10:BO10) -> 53435557818 | CA10: =SUM(BP10:BQ10) -> 13944760692 | CB10: =SUM(BR10:BU10) -> 75882635229 | CC10: =SUM(BV10:BW10) -> 0 | CD10: =SUM(BX10) -> 0 | CE10: =SUM(BZ10:CD10) -> 143262953739 | CG10: =B10+C10 -> 50576594103 | CH10: =D10+E10 -> 2613997097 | CI10: =B10+D10 -> 18163342571 | CJ10: =C10+E10 -> 35027248629 | DC10: =IF(DD10-DE10=0, "ok",DD10-DE10) -> ok | DD10: =+B10+C10+D10+E10 -> 53190591200 | DE10: =+L10+N10+M10 -> 53190591200 | DF10: =IF(DG10-DH10=0, "ok",DG10-DH10) -> ok | DG10: =+H10+I10 -> 244966618 | DH10: =+O10+P10+Q10+R10 -> 244966618 | DI10: =IF(DJ10-DK10=0, "ok",DJ10-DK10) -> ok | DJ10: =+AE10+AF10 -> 7437338496 | DK10: =+AM10+AN10+AO10 -> 7437338496 | DL10: =IF(DM10-DN10=0, "ok",DM10-DN10) -> ok | DM10: =+AG10+AH10 -> 3017545283 | DN10: =+AP10+AQ10+AR10 -> 3017545283 | DO10: =IF(DP10-DQ10=0, "ok",DP10-DQ10) -> ok | DP10: =+AI10+AJ10 -> 55541857064 | DQ10: =+AS10+AT10+AU10 -> 55541857064 | DR10: =IF(DS10-DT10=0, "ok",DS10-DT10) -> ok | DS10: =+AK10+AL10 -> 9885894386 | DT10: =+AV10+AW10+AX10 -> 9885894386
A11: Erste Leasing Cégcsoport | B11: 0 | C11: 2135347755 | D11: 0 | E11: 411828926 | F11: 0 | G11: 0 | H11: 0 | I11: 0 | J11: 1503182955 | K11: 78507930 | L11: 0 | M11: 1136372767 | N11: 1410803914 | O11: 0 | P11: =1581690885*0 -> 0 | Q11: 0 | R11: 0 | S11: 0 | T11: 0 | U11: 0 | V11: 0 | W11: 0 | X11: 0 | Y11: 0 | Z11: 12044719876 | AA11: 0 | AB11: 0 | AC11: 850950158 | AD11: 0 | AE11: 1763155600 | AF11: 0 | AG11: 209282677 | AH11: 0 | AI11: 0 | AJ11: 0 | AK11: 2518923592 | AL11: 0 | AM11: 0 | AN11: 1763155600 | AO11: 0 | AP11: 0 | AQ11: 209282677 | AR11: 0 | AS11: 0 | AT11: 0 | AU11: 0 | AV11: 10416050 | AW11: 2508507542 | AX11: 0 | AY11: 0 | AZ11: 0 | BA11: 0 | BB11: 0 | BC11: 0 | BD11: 0 | BE11: 0 | BF11: 0 | BG11: 0 | BH11: 0 | BI11: 0 | BJ11: 0 | BL11: =SUM(B11:E11) -> 2547176681 | BM11: =SUM(F11:G11) -> 0 | BN11: =SUM(H11:I11) -> 0 | BO11: =SUM(J11:K11) -> 1581690885 | BP11: =SUM(S11:X11) -> 0 | BQ11: =SUM(Y11:AD11) -> 12895670034 | BR11: =SUM(AE11:AF11) -> 1763155600 | BS11: =SUM(AG11:AH11) -> 209282677 | BT11: =SUM(AI11:AJ11) -> 0 | BU11: =SUM(AK11:AL11) -> 2518923592 | BV11: =AY11+AZ11+BC11+BD11+BE11 -> 0 | BW11: =BA11+BB11+BF11+BG11+BH11 -> 0 | BX11: =SUM(BI11:BJ11) -> 0 | BZ11: =SUM(BL11:BO11) -> 4128867566 | CA11: =SUM(BP11:BQ11) -> 12895670034 | CB11: =SUM(BR11:BU11) -> 4491361869 | CC11: =SUM(BV11:BW11) -> 0 | CD11: =SUM(BX11) -> 0 | CE11: =SUM(BZ11:CD11) -> 21515899469 | CG11: =B11+C11 -> 2135347755 | CH11: =D11+E11 -> 411828926 | CI11: =B11+D11 -> 0 | CJ11: =C11+E11 -> 2547176681 | DC11: =IF(DD11-DE11=0, "ok",DD11-DE11) -> ok | DD11: =+B11+C11+D11+E11 -> 2547176681 | DE11: =+L11+N11+M11 -> 2547176681 | DF11: =IF(DG11-DH11=0, "ok",DG11-DH11) -> ok | DG11: =+H11+I11 -> 0 | DH11: =+O11+P11+Q11+R11 -> 0 | DI11: =IF(DJ11-DK11=0, "ok",DJ11-DK11) -> ok | DJ11: =+AE11+AF11 -> 1763155600 | DK11: =+AM11+AN11+AO11 -> 1763155600 | DL11: =IF(DM11-DN11=0, "ok",DM11-DN11) -> ok | DM11: =+AG11+AH11 -> 209282677 | DN11: =+AP11+AQ11+AR11 -> 209282677 | DO11: =IF(DP11-DQ11=0, "ok",DP11-DQ11) -> ok | DP11: =+AI11+AJ11 -> 0 | DQ11: =+AS11+AT11+AU11 -> 0 | DR11: =IF(DS11-DT11=0, "ok",DS11-DT11) -> ok | DS11: =+AK11+AL11 -> 2518923592 | DT11: =+AV11+AW11+AX11 -> 2518923592
A12: Budapest Bank Zrt., Budapest Lízing Zrt. | B12: 9459107586 | C12: 27104142001 | D12: 6005326964 | E12: 7471169120 | F12: 0 | G12: 0 | H12: 0 | I12: 0 | J12: 6165939302 | K12: 1102329431 | L12: 108933293 | M12: 29854391529 | N12: 20076420849 | O12: 0 | P12: 0 | Q12: 0 | R12: 0 | S12: 0 | T12: 13347712328 | U12: 0 | V12: 0 | W12: 839821000 | X12: 0 | Y12: 108380160 | Z12: 17355551526 | AA12: 0 | AB12: 0 | AC12: 3189003444 | AD12: 0 | AE12: 8821797710 | AF12: 1700011151 | AG12: 1637409964 | AH12: 158970130 | AI12: 681169915 | AJ12: 17236046 | AK12: 4298010487 | AL12: 402127423 | AM12: 0 | AN12: 10521808861 | AO12: 0 | AP12: 0 | AQ12: 1735334945 | AR12: 61045149 | AS12: 0 | AT12: 698405961 | AU12: 0 | AV12: 0 | AW12: 4488035521 | AX12: 212102389 | AY12: 0 | AZ12: 0 | BA12: 0 | BB12: 0 | BC12: 0 | BD12: 0 | BE12: 0 | BF12: 0 | BG12: 0 | BH12: 0 | BI12: 0 | BJ12: 0 | BL12: =SUM(B12:E12) -> 50039745671 | BM12: =SUM(F12:G12) -> 0 | BN12: =SUM(H12:I12) -> 0 | BO12: =SUM(J12:K12) -> 7268268733 | BP12: =SUM(S12:X12) -> 14187533328 | BQ12: =SUM(Y12:AD12) -> 20652935130 | BR12: =SUM(AE12:AF12) -> 10521808861 | BS12: =SUM(AG12:AH12) -> 1796380094 | BT12: =SUM(AI12:AJ12) -> 698405961 | BU12: =SUM(AK12:AL12) -> 4700137910 | BV12: =AY12+AZ12+BC12+BD12+BE12 -> 0 | BW12: =BA12+BB12+BF12+BG12+BH12 -> 0 | BX12: =SUM(BI12:BJ12) -> 0 | BZ12: =SUM(BL12:BO12) -> 57308014404 | CA12: =SUM(BP12:BQ12) -> 34840468458 | CB12: =SUM(BR12:BU12) -> 17716732826 | CC12: =SUM(BV12:BW12) -> 0 | CD12: =SUM(BX12) -> 0 | CE12: =SUM(BZ12:CD12) -> 109865215688 | CG12: =B12+C12 -> 36563249587 | CH12: =D12+E12 -> 13476496084 | CI12: =B12+D12 -> 15464434550 | CJ12: =C12+E12 -> 34575311121 | DC12: =IF(DD12-DE12=0, "ok",DD12-DE12) -> ok | DD12: =+B12+C12+D12+E12 -> 50039745671 | DE12: =+L12+N12+M12 -> 50039745671 | DF12: =IF(DG12-DH12=0, "ok",DG12-DH12) -> ok | DG12: =+H12+I12 -> 0 | DH12: =+O12+P12+Q12+R12 -> 0 | DI12: =IF(DJ12-DK12=0, "ok",DJ12-DK12) -> ok | DJ12: =+AE12+AF12 -> 10521808861 | DK12: =+AM12+AN12+AO12 -> 10521808861 | DL12: =IF(DM12-DN12=0, "ok",DM12-DN12) -> ok | DM12: =+AG12+AH12 -> 1796380094 | DN12: =+AP12+AQ12+AR12 -> 1796380094 | DO12: =IF(DP12-DQ12=0, "ok",DP12-DQ12) -> ok | DP12: =+AI12+AJ12 -> 698405961 | DQ12: =+AS12+AT12+AU12 -> 698405961 | DR12: =IF(DS12-DT12=0, "ok",DS12-DT12) -> ok | DS12: =+AK12+AL12 -> 4700137910 | DT12: =+AV12+AW12+AX12 -> 4700137910
A13: Régió Holding Kft. | B13: 0 | C13: 116021807 | D13: 0 | E13: 80992800 | F13: 0 | G13: 0 | H13: 0 | I13: 0 | J13: 0 | K13: 0 | L13: 0 | M13: 69773800 | N13: 127240807 | O13: 0 | P13: 0 | Q13: 0 | R13: 0 | S13: 0 | T13: 28934791 | U13: 0 | V13: 0 | W13: 362966000 | X13: 0 | Y13: 187623805 | Z13: 67069329 | AA13: 0 | AB13: 20320000 | AC13: 447662560 | AD13: 0 | AE13: 28849066 | AF13: 255835823 | AG13: 0 | AH13: 62611000 | AI13: 0 | AJ13: 0 | AK13: 312239189 | AL13: 552767894 | AM13: 0 | AN13: 294844889 | AO13: 0 | AP13: 0 | AQ13: 32131000 | AR13: 30480000 | AS13: 0 | AT13: 0 | AU13: 0 | AV13: 0 | AW13: 931557455 | AX13: 13449638 | AY13: 0 | AZ13: 0 | BA13: 0 | BB13: 0 | BC13: 0 | BD13: 0 | BE13: 0 | BF13: 0 | BG13: 0 | BH13: 0 | BI13: 0 | BJ13: 345007093 | BL13: =SUM(B13:E13) -> 197014607 | BM13: =SUM(F13:G13) -> 0 | BN13: =SUM(H13:I13) -> 0 | BO13: =SUM(J13:K13) -> 0 | BP13: =SUM(S13:X13) -> 391900791 | BQ13: =SUM(Y13:AD13) -> 722675694 | BR13: =SUM(AE13:AF13) -> 284684889 | BS13: =SUM(AG13:AH13) -> 62611000 | BT13: =SUM(AI13:AJ13) -> 0 | BU13: =SUM(AK13:AL13) -> 865007083 | BV13: =AY13+AZ13+BC13+BD13+BE13 -> 0 | BW13: =BA13+BB13+BF13+BG13+BH13 -> 0 | BX13: =SUM(BI13:BJ13) -> 345007093 | BZ13: =SUM(BL13:BO13) -> 197014607 | CA13: =SUM(BP13:BQ13) -> 1114576485 | CB13: =SUM(BR13:BU13) -> 1212302972 | CC13: =SUM(BV13:BW13) -> 0 | CD13: =SUM(BX13) -> 345007093 | CE13: =SUM(BZ13:CD13) -> 2868901157 | CG13: =B13+C13 -> 116021807 | CH13: =D13+E13 -> 80992800 | CI13: =B13+D13 -> 0 | CJ13: =C13+E13 -> 197014607 | DC13: =IF(DD13-DE13=0, "ok",DD13-DE13) -> ok | DD13: =+B13+C13+D13+E13 -> 197014607 | DE13: =+L13+N13+M13 -> 197014607 | DF13: =IF(DG13-DH13=0, "ok",DG13-DH13) -> ok | DG13: =+H13+I13 -> 0 | DH13: =+O13+P13+Q13+R13 -> 0 | DI13: =IF(DJ13-DK13=0, "ok",DJ13-DK13) -> -10160000 | DJ13: =+AE13+AF13 -> 284684889 | DK13: =+AM13+AN13+AO13 -> 294844889 | DL13: =IF(DM13-DN13=0, "ok",DM13-DN13) -> ok | DM13: =+AG13+AH13 -> 62611000 | DN13: =+AP13+AQ13+AR13 -> 62611000 | DO13: =IF(DP13-DQ13=0, "ok",DP13-DQ13) -> ok | DP13: =+AI13+AJ13 -> 0 | DQ13: =+AS13+AT13+AU13 -> 0 | DR13: =IF(DS13-DT13=0, "ok",DS13-DT13) -> -80000010 | DS13: =+AK13+AL13 -> 865007083 | DT13: =+AV13+AW13+AX13 -> 945007093
A14: Otokoc Hungary Kft. | B14: 0 | C14: 0 | D14: 0 | E14: 0 | F14: 0 | G14: 0 | H14: 2410593835 | I14: 0 | J14: 0 | K14: 0 | L14: 0 | M14: 0 | N14: 0 | O14: 0 | P14: 0 | Q14: 0 | R14: 2410593835 | S14: 0 | T14: 0 | U14: 0 | V14: 0 | W14: 0 | X14: 0 | Y14: 0 | Z14: 0 | AA14: 0 | AB14: 0 | AC14: 0 | AD14: 0 | AE14: 0 | AF14: 0 | AG14: 0 | AH14: 0 | AI14: 0 | AJ14: 0 | AK14: 0 | AL14: 0 | AM14: 0 | AN14: 0 | AO14: 0 | AP14: 0 | AQ14: 0 | AR14: 0 | AS14: 0 | AT14: 0 | AU14: 0 | AV14: 0 | AW14: 0 | AX14: 0 | AY14: 0 | AZ14: 0 | BA14: 0 | BB14: 0 | BC14: 0 | BD14: 0 | BE14: 0 | BF14: 0 | BG14: 0 | BH14: 0 | BI14: 0 | BJ14: 0 | BL14: =SUM(B14:E14) -> 0 | BM14: =SUM(F14:G14) -> 0 | BN14: =SUM(H14:I14) -> 2410593835 | BO14: =SUM(J14:K14) -> 0 | BP14: =SUM(S14:X14) -> 0 | BQ14: =SUM(Y14:AD14) -> 0 | BR14: =SUM(AE14:AF14) -> 0 | BS14: =SUM(AG14:AH14) -> 0 | BT14: =SUM(AI14:AJ14) -> 0 | BU14: =SUM(AK14:AL14) -> 0 | BV14: =AY14+AZ14+BC14+BD14+BE14 -> 0 | BW14: =BA14+BB14+BF14+BG14+BH14 -> 0 | BX14: =SUM(BI14:BJ14) -> 0 | BZ14: =SUM(BL14:BO14) -> 2410593835 | CA14: =SUM(BP14:BQ14) -> 0 | CB14: =SUM(BR14:BU14) -> 0 | CC14: =SUM(BV14:BW14) -> 0 | CD14: =SUM(BX14) -> 0 | CE14: =SUM(BZ14:CD14) -> 2410593835 | CG14: =B14+C14 -> 0 | CH14: =D14+E14 -> 0 | CI14: =B14+D14 -> 0 | CJ14: =C14+E14 -> 0 | DC14: =IF(DD14-DE14=0, "ok",DD14-DE14) -> ok | DD14: =+B14+C14+D14+E14 -> 0 | DE14: =+L14+N14+M14 -> 0 | DF14: =IF(DG14-DH14=0, "ok",DG14-DH14) -> ok | DG14: =+H14+I14 -> 2410593835 | DH14: =+O14+P14+Q14+R14 -> 2410593835 | DI14: =IF(DJ14-DK14=0, "ok",DJ14-DK14) -> ok | DJ14: =+AE14+AF14 -> 0 | DK14: =+AM14+AN14+AO14 -> 0 | DL14: =IF(DM14-DN14=0, "ok",DM14-DN14) -> ok | DM14: =+AG14+AH14 -> 0 | DN14: =+AP14+AQ14+AR14 -> 0 | DO14: =IF(DP14-DQ14=0, "ok",DP14-DQ14) -> ok | DP14: =+AI14+AJ14 -> 0 | DQ14: =+AS14+AT14+AU14 -> 0 | DR14: =IF(DS14-DT14=0, "ok",DS14-DT14) -> ok | DS14: =+AK14+AL14 -> 0 | DT14: =+AV14+AW14+AX14 -> 0
A15: FINALP Zrt. | B15: 0 | C15: 0 | D15: 0 | E15: 0 | F15: 0 | G15: 0 | H15: 0 | I15: 0 | J15: 0 | K15: 0 | L15: 0 | M15: 0 | N15: 0 | O15: 0 | P15: 0 | Q15: 0 | R15: 0 | S15: 0 | T15: 0 | U15: 0 | V15: 0 | W15: 0 | X15: 0 | Y15: 0 | Z15: 0 | AA15: 0 | AB15: 0 | AC15: 0 | AD15: 0 | AE15: 0 | AF15: 0 | AG15: 0 | AH15: 0 | AI15: 0 | AJ15: 0 | AK15: 0 | AL15: 0 | AM15: 0 | AN15: 0 | AO15: 0 | AP15: 0 | AQ15: 0 | AR15: 0 | AS15: 0 | AT15: 0 | AU15: 0 | AV15: 0 | AW15: 0 | AX15: 0 | AY15: 0 | AZ15: 0 | BA15: 0 | BB15: 0 | BC15: 0 | BD15: 0 | BE15: 0 | BF15: 0 | BG15: 0 | BH15: 0 | BI15: 0 | BJ15: 0 | BL15: =SUM(B15:E15) -> 0 | BM15: =SUM(F15:G15) -> 0 | BN15: =SUM(H15:I15) -> 0 | BO15: =SUM(J15:K15) -> 0 | BP15: =SUM(S15:X15) -> 0 | BQ15: =SUM(Y15:AD15) -> 0 | BR15: =SUM(AE15:AF15) -> 0 | BS15: =SUM(AG15:AH15) -> 0 | BT15: =SUM(AI15:AJ15) -> 0 | BU15: =SUM(AK15:AL15) -> 0 | BV15: =AY15+AZ15+BC15+BD15+BE15 -> 0 | BW15: =BA15+BB15+BF15+BG15+BH15 -> 0 | BX15: =SUM(BI15:BJ15) -> 0 | BZ15: =SUM(BL15:BO15) -> 0 | CA15: =SUM(BP15:BQ15) -> 0 | CB15: =SUM(BR15:BU15) -> 0 | CC15: =SUM(BV15:BW15) -> 0 | CD15: =SUM(BX15) -> 0 | CE15: =SUM(BZ15:CD15) -> 0 | CG15: =B15+C15 -> 0 | CH15: =D15+E15 -> 0 | CI15: =B15+D15 -> 0 | CJ15: =C15+E15 -> 0 | DC15: =IF(DD15-DE15=0, "ok",DD15-DE15) -> ok | DD15: =+B15+C15+D15+E15 -> 0 | DE15: =+L15+N15+M15 -> 0 | DF15: =IF(DG15-DH15=0, "ok",DG15-DH15) -> ok | DG15: =+H15+I15 -> 0 | DH15: =+O15+P15+Q15+R15 -> 0 | DI15: =IF(DJ15-DK15=0, "ok",DJ15-DK15) -> ok | DJ15: =+AE15+AF15 -> 0 | DK15: =+AM15+AN15+AO15 -> 0 | DL15: =IF(DM15-DN15=0, "ok",DM15-DN15) -> ok | DM15: =+AG15+AH15 -> 0 | DN15: =+AP15+AQ15+AR15 -> 0 | DO15: =IF(DP15-DQ15=0, "ok",DP15-DQ15) -> ok | DP15: =+AI15+AJ15 -> 0 | DQ15: =+AS15+AT15+AU15 -> 0 | DR15: =IF(DS15-DT15=0, "ok",DS15-DT15) -> ok | DS15: =+AK15+AL15 -> 0 | DT15: =+AV15+AW15+AX15 -> 0
A16: Scania Finance Magyarország Zrt. | B16: 0 | C16: 0 | D16: 0 | E16: 0 | F16: 0 | G16: 0 | H16: 0 | I16: 0 | J16: 0 | K16: 0 | L16: 0 | M16: 0 | N16: 0 | O16: 0 | P16: 0 | Q16: 0 | R16: 0 | S16: 0 | T16: 0 | U16: 0 | V16: 0 | W16: 0 | X16: 0 | Y16: 0 | Z16: 13715558608 | AA16: 0 | AB16: 0 | AC16: 1231999088 | AD16: 0 | AE16: 0 | AF16: 0 | AG16: 0 | AH16: 0 | AI16: 0 | AJ16: 0 | AK16: 0 | AL16: 0 | AM16: 0 | AN16: 0 | AO16: 0 | AP16: 0 | AQ16: 0 | AR16: 0 | AS16: 0 | AT16: 0 | AU16: 0 | AV16: 0 | AW16: 0 | AX16: 0 | AY16: 0 | AZ16: 0 | BA16: 0 | BB16: 0 | BC16: 0 | BD16: 0 | BE16: 0 | BF16: 0 | BG16: 0 | BH16: 0 | BI16: 0 | BJ16: 0 | BL16: =SUM(B16:E16) -> 0 | BM16: =SUM(F16:G16) -> 0 | BN16: =SUM(H16:I16) -> 0 | BO16: =SUM(J16:K16) -> 0 | BP16: =SUM(S16:X16) -> 0 | BQ16: =SUM(Y16:AD16) -> 14947557696 | BR16: =SUM(AE16:AF16) -> 0 | BS16: =SUM(AG16:AH16) -> 0 | BT16: =SUM(AI16:AJ16) -> 0 | BU16: =SUM(AK16:AL16) -> 0 | BV16: =AY16+AZ16+BC16+BD16+BE16 -> 0 | BW16: =BA16+BB16+BF16+BG16+BH16 -> 0 | BX16: =SUM(BI16:BJ16) -> 0 | BZ16: =SUM(BL16:BO16) -> 0 | CA16: =SUM(BP16:BQ16) -> 14947557696 | CB16: =SUM(BR16:BU16) -> 0 | CC16: =SUM(BV16:BW16) -> 0 | CD16: =SUM(BX16) -> 0 | CE16: =SUM(BZ16:CD16) -> 14947557696 | CG16: =B16+C16 -> 0 | CH16: =D16+E16 -> 0 | CI16: =B16+D16 -> 0 | CJ16: =C16+E16 -> 0 | DC16: =IF(DD16-DE16=0, "ok",DD16-DE16) -> ok | DD16: =+B16+C16+D16+E16 -> 0 | DE16: =+L16+N16+M16 -> 0 | DF16: =IF(DG16-DH16=0, "ok",DG16-DH16) -> ok | DG16: =+H16+I16 -> 0 | DH16: =+O16+P16+Q16+R16 -> 0 | DI16: =IF(DJ16-DK16=0, "ok",DJ16-DK16) -> ok | DJ16: =+AE16+AF16 -> 0 | DK16: =+AM16+AN16+AO16 -> 0 | DL16: =IF(DM16-DN16=0, "ok",DM16-DN16) -> ok | DM16: =+AG16+AH16 -> 0 | DN16: =+AP16+AQ16+AR16 -> 0 | DO16: =IF(DP16-DQ16=0, "ok",DP16-DQ16) -> ok | DP16: =+AI16+AJ16 -> 0 | DQ16: =+AS16+AT16+AU16 -> 0 | DR16: =IF(DS16-DT16=0, "ok",DS16-DT16) -> ok | DS16: =+AK16+AL16 -> 0 | DT16: =+AV16+AW16+AX16 -> 0
A17: Rent-a-server Kft. | B17: 0 | C17: 0 | D17: 0 | E17: 0 | F17: 0 | G17: 0 | H17: 0 | I17: 0 | J17: 0 | K17: 0 | L17: 0 | M17: 0 | N17: 0 | O17: 0 | P17: 0 | Q17: 0 | R17: 0 | S17: 0 | T17: 0 | U17: 0 | V17: 0 | W17: 0 | X17: 0 | Y17: 0 | Z17: 0 | AA17: 0 | AB17: 0 | AC17: 0 | AD17: 0 | AE17: 0 | AF17: 0 | AG17: 0 | AH17: 0 | AI17: 305941274 | AJ17: 0 | AK17: 0 | AL17: 0 | AM17: 0 | AN17: 0 | AO17: 0 | AP17: 0 | AQ17: 0 | AR17: 0 | AS17: 0 | AT17: 0 | AU17: 305941274 | AV17: 0 | AW17: 0 | AX17: 0 | AY17: 0 | AZ17: 0 | BA17: 0 | BB17: 0 | BC17: 0 | BD17: 0 | BE17: 0 | BF17: 0 | BG17: 0 | BH17: 0 | BI17: 0 | BJ17: 0 | BL17: =SUM(B17:E17) -> 0 | BM17: =SUM(F17:G17) -> 0 | BN17: =SUM(H17:I17) -> 0 | BO17: =SUM(J17:K17) -> 0 | BP17: =SUM(S17:X17) -> 0 | BQ17: =SUM(Y17:AD17) -> 0 | BR17: =SUM(AE17:AF17) -> 0 | BS17: =SUM(AG17:AH17) -> 0 | BT17: =SUM(AI17:AJ17) -> 305941274 | BU17: =SUM(AK17:AL17) -> 0 | BV17: =AY17+AZ17+BC17+BD17+BE17 -> 0 | BW17: =BA17+BB17+BF17+BG17+BH17 -> 0 | BX17: =SUM(BI17:BJ17) -> 0 | BZ17: =SUM(BL17:BO17) -> 0 | CA17: =SUM(BP17:BQ17) -> 0 | CB17: =SUM(BR17:BU17) -> 305941274 | CC17: =SUM(BV17:BW17) -> 0 | CD17: =SUM(BX17) -> 0 | CE17: =SUM(BZ17:CD17) -> 305941274 | CG17: =B17+C17 -> 0 | CH17: =D17+E17 -> 0 | CI17: =B17+D17 -> 0 | CJ17: =C17+E17 -> 0 | DC17: =IF(DD17-DE17=0, "ok",DD17-DE17) -> ok | DD17: =+B17+C17+D17+E17 -> 0 | DE17: =+L17+N17+M17 -> 0 | DF17: =IF(DG17-DH17=0, "ok",DG17-DH17) -> ok | DG17: =+H17+I17 -> 0 | DH17: =+O17+P17+Q17+R17 -> 0 | DI17: =IF(DJ17-DK17=0, "ok",DJ17-DK17) -> ok | DJ17: =+AE17+AF17 -> 0 | DK17: =+AM17+AN17+AO17 -> 0 | DL17: =IF(DM17-DN17=0, "ok",DM17-DN17) -> ok | DM17: =+AG17+AH17 -> 0 | DN17: =+AP17+AQ17+AR17 -> 0 | DO17: =IF(DP17-DQ17=0, "ok",DP17-DQ17) -> ok | DP17: =+AI17+AJ17 -> 305941274 | DQ17: =+AS17+AT17+AU17 -> 305941274 | DR17: =IF(DS17-DT17=0, "ok",DS17-DT17) -> ok | DS17: =+AK17+AL17 -> 0 | DT17: =+AV17+AW17+AX17 -> 0
A18: Deutsche Leasing Hungaria Zrt., Deutsche Leasing Hungaria Kft. | B18: 0 | C18: 1.7822884e+09 | D18: 0 | E18: 97621630 | F18: 0 | G18: 0 | H18: 0 | I18: 0 | J18: 0 | K18: 0 | L18: 37678424 | M18: 2.4294373e+08 | N18: 1.2675404e+09 | O18: 0 | P18: 0 | Q18: 0 | R18: 0 | S18: 0 | T18: 0 | U18: 0 | V18: 0 | W18: 0 | X18: 0 | Y18: 1.2671257e+09 | Z18: 2.7751617e+09 | AA18: 0 | AB18: 65415504 | AC18: 24506250 | AD18: 0 | AE18: 8.791436e+09 | AF18: 1.6861739e+09 | AG18: 6.9915197e+08 | AH18: 9.479643e+08 | AI18: 1768963950 | AJ18: 0 | AK18: 3.1188988e+10 | AL18: 1.3303108e+09 | AM18: 6.3503413e+08 | AN18: 9.769493e+09 | AO18: 73082774 | AP18: 2.5310906e+08 | AQ18: 1.3940072e+09 | AR18: 0 | AS18: 1768963950 | AT18: 0 | AU18: 0 | AV18: 4.4557137e+09 | AW18: 2.5619108e+10 | AX18: 2.4444773e+09 | AY18: 0 | AZ18: 0 | BA18: 0 | BB18: 0 | BC18: 0 | BD18: 0 | BE18: 0 | BF18: 0 | BG18: 0 | BH18: 0 | BI18: 0 | BJ18: 0 | BL18: =SUM(B18:E18) -> 1.87991e+09 | BM18: =SUM(F18:G18) -> 0 | BN18: =SUM(H18:I18) -> 0 | BO18: =SUM(J18:K18) -> 0 | BP18: =SUM(S18:X18) -> 0 | BQ18: =SUM(Y18:AD18) -> 4.1322091e+09 | BR18: =SUM(AE18:AF18) -> 1.047761e+10 | BS18: =SUM(AG18:AH18) -> 1.6471163e+09 | BT18: =SUM(AI18:AJ18) -> 1768963950 | BU18: =SUM(AK18:AL18) -> 3.2519299e+10 | BV18: =AY18+AZ18+BC18+BD18+BE18 -> 0 | BW18: =BA18+BB18+BF18+BG18+BH18 -> 0 | BX18: =SUM(BI18:BJ18) -> 0 | BZ18: =SUM(BL18:BO18) -> 1.87991e+09 | CA18: =SUM(BP18:BQ18) -> 4.1322091e+09 | CB18: =SUM(BR18:BU18) -> 4.6412989e+10 | CC18: =SUM(BV18:BW18) -> 0 | CD18: =SUM(BX18) -> 0 | CE18: =SUM(BZ18:CD18) -> 5.2425108e+10 | CG18: =B18+C18 -> 1.7822884e+09 | CH18: =D18+E18 -> 97621630 | CI18: =B18+D18 -> 0 | CJ18: =C18+E18 -> 1.87991e+09 | DC18: =IF(DD18-DE18=0, "ok",DD18-DE18) -> 3.3174747e+08 | DD18: =+B18+C18+D18+E18 -> 1.87991e+09 | DE18: =+L18+N18+M18 -> 1.5481625e+09 | DF18: =IF(DG18-DH18=0, "ok",DG18-DH18) -> ok | DG18: =+H18+I18 -> 0 | DH18: =+O18+P18+Q18+R18 -> 0 | DI18: =IF(DJ18-DK18=0, "ok",DJ18-DK18) -> -1.9073486e-06 | DJ18: =+AE18+AF18 -> 1.047761e+10 | DK18: =+AM18+AN18+AO18 -> 1.047761e+10 | DL18: =IF(DM18-DN18=0, "ok",DM18-DN18) -> ok | DM18: =+AG18+AH18 -> 1.6471163e+09 | DN18: =+AP18+AQ18+AR18 -> 1.6471163e+09 | DO18: =IF(DP18-DQ18=0, "ok",DP18-DQ18) -> ok | DP18: =+AI18+AJ18 -> 1768963950 | DQ18: =+AS18+AT18+AU18 -> 1768963950 | DR18: =IF(DS18-DT18=0, "ok",DS18-DT18) -> 0.0006980896 | DS18: =+AK18+AL18 -> 3.2519299e+10 | DT18: =+AV18+AW18+AX18 -> 3.2519299e+10
A19: K&H Bank Zrt. Lízing üzletág | B19: 0 | C19: 0 | D19: 0 | E19: 0 | F19: 0 | G19: 0 | H19: 8446593319 | I19: 1661124027 | J19: 214756400 | K19: 0 | L19: 0 | M19: 0 | N19: 0 | O19: 0 | P19: 3006519079 | Q19: 6951738785 | R19: 364215883 | S19: 0 | T19: 2006183461 | U19: 0 | V19: 0 | W19: 114972824 | X19: 0 | Y19: 0 | Z19: 17635068415 | AA19: 0 | AB19: 0 | AC19: 2031704252 | AD19: 0 | AE19: 4274492333 | AF19: 463884100 | AG19: 922087734 | AH19: 149457874 | AI19: 176999178 | AJ19: 0 | AK19: 5386454342 | AL19: 206473425 | AM19: 0 | AN19: 4738376433 | AO19: 0 | AP19: 0 | AQ19: 1071545608 | AR19: 0 | AS19: 0 | AT19: 176999178 | AU19: 0 | AV19: 0 | AW19: 5378023399 | AX19: 214904368 | AY19: 0 | AZ19: 0 | BA19: 0 | BB19: 0 | BC19: 0 | BD19: 0 | BE19: 0 | BF19: 0 | BG19: 0 | BH19: 0 | BI19: 0 | BJ19: 0 | BL19: =SUM(B19:E19) -> 0 | BM19: =SUM(F19:G19) -> 0 | BN19: =SUM(H19:I19) -> 10107717346 | BO19: =SUM(J19:K19) -> 214756400 | BP19: =SUM(S19:X19) -> 2121156285 | BQ19: =SUM(Y19:AD19) -> 19666772667 | BR19: =SUM(AE19:AF19) -> 4738376433 | BS19: =SUM(AG19:AH19) -> 1071545608 | BT19: =SUM(AI19:AJ19) -> 176999178 | BU19: =SUM(AK19:AL19) -> 5592927767 | BV19: =AY19+AZ19+BC19+BD19+BE19 -> 0 | BW19: =BA19+BB19+BF19+BG19+BH19 -> 0 | BX19: =SUM(BI19:BJ19) -> 0 | BZ19: =SUM(BL19:BO19) -> 10322473746 | CA19: =SUM(BP19:BQ19) -> 21787928952 | CB19: =SUM(BR19:BU19) -> 11579848986 | CC19: =SUM(BV19:BW19) -> 0 | CD19: =SUM(BX19) -> 0 | CE19: =SUM(BZ19:CD19) -> 43690251684 | CG19: =B19+C19 -> 0 | CH19: =D19+E19 -> 0 | CI19: =B19+D19 -> 0 | CJ19: =C19+E19 -> 0 | DC19: =IF(DD19-DE19=0, "ok",DD19-DE19) -> ok | DD19: =+B19+C19+D19+E19 -> 0 | DE19: =+L19+N19+M19 -> 0 | DF19: =IF(DG19-DH19=0, "ok",DG19-DH19) -> -214756401 | DG19: =+H19+I19 -> 10107717346 | DH19: =+O19+P19+Q19+R19 -> 10322473747 | DI19: =IF(DJ19-DK19=0, "ok",DJ19-DK19) -> ok | DJ19: =+AE19+AF19 -> 4738376433 | DK19: =+AM19+AN19+AO19 -> 4738376433 | DL19: =IF(DM19-DN19=0, "ok",DM19-DN19) -> ok | DM19: =+AG19+AH19 -> 1071545608 | DN19: =+AP19+AQ19+AR19 -> 1071545608 | DO19: =IF(DP19-DQ19=0, "ok",DP19-DQ19) -> ok | DP19: =+AI19+AJ19 -> 176999178 | DQ19: =+AS19+AT19+AU19 -> 176999178 | DR19: =IF(DS19-DT19=0, "ok",DS19-DT19) -> ok | DS19: =+AK19+AL19 -> 5592927767 | DT19: =+AV19+AW19+AX19 -> 5592927767
A20: De Lage Landen Finance Zrt. | B20: 0 | C20: 0 | D20: 0 | E20: 0 | F20: 0 | G20: 0 | H20: 7018440334 | I20: 707459619 | J20: 0 | K20: 0 | L20: 0 | M20: 0 | N20: 0 | O20: 0 | P20: 4119189408 | Q20: 3327327689 | R20: 279382856 | S20: 0 | T20: 0 | U20: 0 | V20: 0 | W20: 0 | X20: 0 | Y20: 1501479527 | Z20: 14621633365 | AA20: 0 | AB20: 0 | AC20: 1556837057 | AD20: 0 | AE20: 3022934420 | AF20: 336050766 | AG20: 6502390372 | AH20: 1532270528 | AI20: 604933441 | AJ20: 0 | AK20: 2693368115 | AL20: 2045186196 | AM20: 72438932 | AN20: 3150368654 | AO20: 136177600 | AP20: 252618391 | AQ20: 6441609365 | AR20: 1340433144 | AS20: 0 | AT20: 347748768 | AU20: 257184672 | AV20: 884163139 | AW20: 3854391172 | AX20: 0 | AY20: 0 | AZ20: 0 | BA20: 0 | BB20: 0 | BC20: 0 | BD20: 0 | BE20: 0 | BF20: 0 | BG20: 0 | BH20: 0 | BI20: 0 | BJ20: 0 | BL20: =SUM(B20:E20) -> 0 | BM20: =SUM(F20:G20) -> 0 | BN20: =SUM(H20:I20) -> 7725899953 | BO20: =SUM(J20:K20) -> 0 | BP20: =SUM(S20:X20) -> 0 | BQ20: =SUM(Y20:AD20) -> 17679949949 | BR20: =SUM(AE20:AF20) -> 3358985186 | BS20: =SUM(AG20:AH20) -> 8034660900 | BT20: =SUM(AI20:AJ20) -> 604933441 | BU20: =SUM(AK20:AL20) -> 4738554311 | BV20: =AY20+AZ20+BC20+BD20+BE20 -> 0 | BW20: =BA20+BB20+BF20+BG20+BH20 -> 0 | BX20: =SUM(BI20:BJ20) -> 0 | BZ20: =SUM(BL20:BO20) -> 7725899953 | CA20: =SUM(BP20:BQ20) -> 17679949949 | CB20: =SUM(BR20:BU20) -> 16737133838 | CC20: =SUM(BV20:BW20) -> 0 | CD20: =SUM(BX20) -> 0 | CE20: =SUM(BZ20:CD20) -> 42142983740 | CG20: =B20+C20 -> 0 | CH20: =D20+E20 -> 0 | CI20: =B20+D20 -> 0 | CJ20: =C20+E20 -> 0 | DC20: =IF(DD20-DE20=0, "ok",DD20-DE20) -> ok | DD20: =+B20+C20+D20+E20 -> 0 | DE20: =+L20+N20+M20 -> 0 | DF20: =IF(DG20-DH20=0, "ok",DG20-DH20) -> ok | DG20: =+H20+I20 -> 7725899953 | DH20: =+O20+P20+Q20+R20 -> 7725899953 | DI20: =IF(DJ20-DK20=0, "ok",DJ20-DK20) -> ok | DJ20: =+AE20+AF20 -> 3358985186 | DK20: =+AM20+AN20+AO20 -> 3358985186 | DL20: =IF(DM20-DN20=0, "ok",DM20-DN20) -> ok | DM20: =+AG20+AH20 -> 8034660900 | DN20: =+AP20+AQ20+AR20 -> 8034660900 | DO20: =IF(DP20-DQ20=0, "ok",DP20-DQ20) -> 1 | DP20: =+AI20+AJ20 -> 604933441 | DQ20: =+AS20+AT20+AU20 -> 604933440 | DR20: =IF(DS20-DT20=0, "ok",DS20-DT20) -> ok | DS20: =+AK20+AL20 -> 4738554311 | DT20: =+AV20+AW20+AX20 -> 4738554311
A21: SG Eszközlízing Magyarország Kft. | B21: 0 | C21: 132931748 | D21: 0 | E21: 80134798 | F21: 0 | G21: 0 | H21: 0 | I21: 0 | J21: 0 | K21: 0 | L21: 0 | M21: 47495758 | N21: 165570788 | O21: 0 | P21: 0 | Q21: 0 | R21: 0 | S21: 0 | T21: 670978840 | U21: 0 | V21: 0 | W21: 2367994104 | X21: 0 | Y21: 66904000 | Z21: 2111321471 | AA21: 0 | AB21: 0 | AC21: 2414119220 | AD21: 0 | AE21: 1407737416 | AF21: 613045953 | AG21: 1249937240 | AH21: 852407350 | AI21: 91223762 | AJ21: 0 | AK21: 366325224 | AL21: 87375817 | AM21: 190363364 | AN21: 1825842045 | AO21: 4577960 | AP21: 82788613 | AQ21: 1976286198 | AR21: 43269779 | AS21: 0 | AT21: 25893000 | AU21: 65330762 | AV21: 88030292 | AW21: 365670749 | AX21: 0 | AY21: 0 | AZ21: 0 | BA21: 0 | BB21: 0 | BC21: 0 | BD21: 0 | BE21: 0 | BF21: 0 | BG21: 0 | BH21: 0 | BI21: 0 | BJ21: 0 | BL21: =SUM(B21:E21) -> 213066546 | BM21: =SUM(F21:G21) -> 0 | BN21: =SUM(H21:I21) -> 0 | BO21: =SUM(J21:K21) -> 0 | BP21: =SUM(S21:X21) -> 3038972944 | BQ21: =SUM(Y21:AD21) -> 4592344691 | BR21: =SUM(AE21:AF21) -> 2020783369 | BS21: =SUM(AG21:AH21) -> 2102344590 | BT21: =SUM(AI21:AJ21) -> 91223762 | BU21: =SUM(AK21:AL21) -> 453701041 | BV21: =AY21+AZ21+BC21+BD21+BE21 -> 0 | BW21: =BA21+BB21+BF21+BG21+BH21 -> 0 | BX21: =SUM(BI21:BJ21) -> 0 | BZ21: =SUM(BL21:BO21) -> 213066546 | CA21: =SUM(BP21:BQ21) -> 7631317635 | CB21: =SUM(BR21:BU21) -> 4668052762 | CC21: =SUM(BV21:BW21) -> 0 | CD21: =SUM(BX21) -> 0 | CE21: =SUM(BZ21:CD21) -> 12512436943 | CG21: =B21+C21 -> 132931748 | CH21: =D21+E21 -> 80134798 | CI21: =B21+D21 -> 0 | CJ21: =C21+E21 -> 213066546 | DC21: =IF(DD21-DE21=0, "ok",DD21-DE21) -> ok | DD21: =+B21+C21+D21+E21 -> 213066546 | DE21: =+L21+N21+M21 -> 213066546 | DF21: =IF(DG21-DH21=0, "ok",DG21-DH21) -> ok | DG21: =+H21+I21 -> 0 | DH21: =+O21+P21+Q21+R21 -> 0 | DI21: =IF(DJ21-DK21=0, "ok",DJ21-DK21) -> ok | DJ21: =+AE21+AF21 -> 2020783369 | DK21: =+AM21+AN21+AO21 -> 2020783369 | DL21: =IF(DM21-DN21=0, "ok",DM21-DN21) -> ok | DM21: =+AG21+AH21 -> 2102344590 | DN21: =+AP21+AQ21+AR21 -> 2102344590 | DO21: =IF(DP21-DQ21=0, "ok",DP21-DQ21) -> ok | DP21: =+AI21+AJ21 -> 91223762 | DQ21: =+AS21+AT21+AU21 -> 91223762 | DR21: =IF(DS21-DT21=0, "ok",DS21-DT21) -> ok | DS21: =+AK21+AL21 -> 453701041 | DT21: =+AV21+AW21+AX21 -> 453701041
A22: CITY-LEASING Zrt. | B22: 0 | C22: 285072955 | D22: 0 | E22: 123217103 | F22: 0 | G22: 0 | H22: 0 | I22: 0 | J22: 0 | K22: 0 | L22: 0 | M22: 19666464 | N22: 390050058 | O22: 0 | P22: 0 | Q22: 0 | R22: 0 | S22: 0 | T22: 0 | U22: 0 | V22: 0 | W22: 0 | X22: 0 | Y22: 0 | Z22: 61372275 | AA22: 0 | AB22: 0 | AC22: 72669150 | AD22: 0 | AE22: 0 | AF22: 0 | AG22: 0 | AH22: 0 | AI22: 15558729 | AJ22: 0 | AK22: 10518242 | AL22: 26339800 | AM22: 0 | AN22: 0 | AO22: 0 | AP22: 0 | AQ22: 0 | AR22: 0 | AS22: 0 | AT22: 15558729 | AU22: 0 | AV22: 0 | AW22: 36858242 | AX22: 0 | AY22: 0 | AZ22: 0 | BA22: 0 | BB22: 0 | BC22: 0 | BD22: 0 | BE22: 0 | BF22: 0 | BG22: 0 | BH22: 0 | BI22: 0 | BJ22: 0 | BL22: =SUM(B22:E22) -> 408290058 | BM22: =SUM(F22:G22) -> 0 | BN22: =SUM(H22:I22) -> 0 | BO22: =SUM(J22:K22) -> 0 | BP22: =SUM(S22:X22) -> 0 | BQ22: =SUM(Y22:AD22) -> 134041425 | BR22: =SUM(AE22:AF22) -> 0 | BS22: =SUM(AG22:AH22) -> 0 | BT22: =SUM(AI22:AJ22) -> 15558729 | BU22: =SUM(AK22:AL22) -> 36858042 | BV22: =AY22+AZ22+BC22+BD22+BE22 -> 0 | BW22: =BA22+BB22+BF22+BG22+BH22 -> 0 | BX22: =SUM(BI22:BJ22) -> 0 | BZ22: =SUM(BL22:BO22) -> 408290058 | CA22: =SUM(BP22:BQ22) -> 134041425 | CB22: =SUM(BR22:BU22) -> 52416771 | CC22: =SUM(BV22:BW22) -> 0 | CD22: =SUM(BX22) -> 0 | CE22: =SUM(BZ22:CD22) -> 594748254 | CG22: =B22+C22 -> 285072955 | CH22: =D22+E22 -> 123217103 | CI22: =B22+D22 -> 0 | CJ22: =C22+E22 -> 408290058 | DC22: =IF(DD22-DE22=0, "ok",DD22-DE22) -> -1426464 | DD22: =+B22+C22+D22+E22 -> 408290058 | DE22: =+L22+N22+M22 -> 409716522 | DF22: =IF(DG22-DH22=0, "ok",DG22-DH22) -> ok | DG22: =+H22+I22 -> 0 | DH22: =+O22+P22+Q22+R22 -> 0 | DI22: =IF(DJ22-DK22=0, "ok",DJ22-DK22) -> ok | DJ22: =+AE22+AF22 -> 0 | DK22: =+AM22+AN22+AO22 -> 0 | DL22: =IF(DM22-DN22=0, "ok",DM22-DN22) -> ok | DM22: =+AG22+AH22 -> 0 | DN22: =+AP22+AQ22+AR22 -> 0 | DO22: =IF(DP22-DQ22=0, "ok",DP22-DQ22) -> ok | DP22: =+AI22+AJ22 -> 15558729 | DQ22: =+AS22+AT22+AU22 -> 15558729 | DR22: =IF(DS22-DT22=0, "ok",DS22-DT22) -> -200 | DS22: =+AK22+AL22 -> 36858042 | DT22: =+AV22+AW22+AX22 -> 36858242
A23: Leaseplan Hungária Zrt. | B23: 0 | C23: 0 | D23: 0 | E23: 0 | F23: 0 | G23: 0 | H23: 1.6819449e+10 | I23: 0 | J23: 0 | K23: 23659843 | L23: 0 | M23: 0 | N23: 0 | O23: 0 | P23: 0 | Q23: 0 | R23: 1.6819449e+10 | S23: 0 | T23: 0 | U23: 0 | V23: 0 | W23: 0 | X23: 0 | Y23: 0 | Z23: 0 | AA23: 0 | AB23: 0 | AC23: 0 | AD23: 0 | AE23: 0 | AF23: 0 | AG23: 0 | AH23: 0 | AI23: 0 | AJ23: 0 | AK23: 0 | AL23: 0 | AM23: 0 | AN23: 0 | AO23: 0 | AP23: 0 | AQ23: 0 | AR23: 0 | AS23: 0 | AT23: 0 | AU23: 0 | AV23: 0 | AW23: 0 | AX23: 0 | AY23: 0 | AZ23: 0 | BA23: 0 | BB23: 0 | BC23: 0 | BD23: 0 | BE23: 0 | BF23: 0 | BG23: 0 | BH23: 0 | BI23: 0 | BJ23: 0 | BL23: =SUM(B23:E23) -> 0 | BM23: =SUM(F23:G23) -> 0 | BN23: =SUM(H23:I23) -> 1.6819449e+10 | BO23: =SUM(J23:K23) -> 23659843 | BP23: =SUM(S23:X23) -> 0 | BQ23: =SUM(Y23:AD23) -> 0 | BR23: =SUM(AE23:AF23) -> 0 | BS23: =SUM(AG23:AH23) -> 0 | BT23: =SUM(AI23:AJ23) -> 0 | BU23: =SUM(AK23:AL23) -> 0 | BV23: =AY23+AZ23+BC23+BD23+BE23 -> 0 | BW23: =BA23+BB23+BF23+BG23+BH23 -> 0 | BX23: =SUM(BI23:BJ23) -> 0 | BZ23: =SUM(BL23:BO23) -> 1.6843109e+10 | CA23: =SUM(BP23:BQ23) -> 0 | CB23: =SUM(BR23:BU23) -> 0 | CC23: =SUM(BV23:BW23) -> 0 | CD23: =SUM(BX23) -> 0 | CE23: =SUM(BZ23:CD23) -> 1.6843109e+10 | CG23: =B23+C23 -> 0 | CH23: =D23+E23 -> 0 | CI23: =B23+D23 -> 0 | CJ23: =C23+E23 -> 0 | DC23: =IF(DD23-DE23=0, "ok",DD23-DE23) -> ok | DD23: =+B23+C23+D23+E23 -> 0 | DE23: =+L23+N23+M23 -> 0 | DF23: =IF(DG23-DH23=0, "ok",DG23-DH23) -> ok | DG23: =+H23+I23 -> 1.6819449e+10 | DH23: =+O23+P23+Q23+R23 -> 1.6819449e+10 | DI23: =IF(DJ23-DK23=0, "ok",DJ23-DK23) -> ok | DJ23: =+AE23+AF23 -> 0 | DK23: =+AM23+AN23+AO23 -> 0 | DL23: =IF(DM23-DN23=0, "ok",DM23-DN23) -> ok | DM23: =+AG23+AH23 -> 0 | DN23: =+AP23+AQ23+AR23 -> 0 | DO23: =IF(DP23-DQ23=0, "ok",DP23-DQ23) -> ok | DP23: =+AI23+AJ23 -> 0 | DQ23: =+AS23+AT23+AU23 -> 0 | DR23: =IF(DS23-DT23=0, "ok",DS23-DT23) -> ok | DS23: =+AK23+AL23 -> 0 | DT23: =+AV23+AW23+AX23 -> 0
A24: IKB-Pénzügyi Lízing Zrt. | B24: 0 | C24: 970097753 | D24: 0 | E24: 213221986 | F24: 0 | G24: 0 | H24: 0 | I24: 0 | J24: 0 | K24: 0 | L24: 0 | M24: 378324000 | N24: 662236366 | O24: 0 | P24: 0 | Q24: 0 | R24: 0 | S24: 0 | T24: 0 | U24: 0 | V24: 0 | W24: 0 | X24: 0 | Y24: 7164122 | Z24: 832270448 | AA24: 0 | AB24: 69184798 | AC24: 465926648 | AD24: 0 | AE24: 1079360323 | AF24: 357833282 | AG24: 64999649 | AH24: 21590000 | AI24: 43357479 | AJ24: 84185422 | AK24: 19727620069 | AL24: 2103282581 | AM24: 122927602 | AN24: 1296446948 | AO24: 17819055 | AP24: 57225850 | AQ24: 29363799 | AR24: 0 | AS24: 34926793 | AT24: 81996016 | AU24: 10620092 | AV24: 11153864815 | AW24: 6457701088 | AX24: 4219336747 | AY24: 0 | AZ24: 0 | BA24: 0 | BB24: 0 | BC24: 0 | BD24: 0 | BE24: 0 | BF24: 0 | BG24: 0 | BH24: 0 | BI24: 0 | BJ24: 0 | BL24: =SUM(B24:E24) -> 1183319739 | BM24: =SUM(F24:G24) -> 0 | BN24: =SUM(H24:I24) -> 0 | BO24: =SUM(J24:K24) -> 0 | BP24: =SUM(S24:X24) -> 0 | BQ24: =SUM(Y24:AD24) -> 1374546016 | BR24: =SUM(AE24:AF24) -> 1437193605 | BS24: =SUM(AG24:AH24) -> 86589649 | BT24: =SUM(AI24:AJ24) -> 127542901 | BU24: =SUM(AK24:AL24) -> 21830902650 | BV24: =AY24+AZ24+BC24+BD24+BE24 -> 0 | BW24: =BA24+BB24+BF24+BG24+BH24 -> 0 | BX24: =SUM(BI24:BJ24) -> 0 | BZ24: =SUM(BL24:BO24) -> 1183319739 | CA24: =SUM(BP24:BQ24) -> 1374546016 | CB24: =SUM(BR24:BU24) -> 23482228805 | CC24: =SUM(BV24:BW24) -> 0 | CD24: =SUM(BX24) -> 0 | CE24: =SUM(BZ24:CD24) -> 26040094560 | CG24: =B24+C24 -> 970097753 | CH24: =D24+E24 -> 213221986 | CI24: =B24+D24 -> 0 | CJ24: =C24+E24 -> 1183319739 | DC24: =IF(DD24-DE24=0, "ok",DD24-DE24) -> 142759373 | DD24: =+B24+C24+D24+E24 -> 1183319739 | DE24: =+L24+N24+M24 -> 1040560366 | DF24: =IF(DG24-DH24=0, "ok",DG24-DH24) -> ok | DG24: =+H24+I24 -> 0 | DH24: =+O24+P24+Q24+R24 -> 0 | DI24: =IF(DJ24-DK24=0, "ok",DJ24-DK24) -> ok | DJ24: =+AE24+AF24 -> 1437193605 | DK24: =+AM24+AN24+AO24 -> 1437193605 | DL24: =IF(DM24-DN24=0, "ok",DM24-DN24) -> ok | DM24: =+AG24+AH24 -> 86589649 | DN24: =+AP24+AQ24+AR24 -> 86589649 | DO24: =IF(DP24-DQ24=0, "ok",DP24-DQ24) -> ok | DP24: =+AI24+AJ24 -> 127542901 | DQ24: =+AS24+AT24+AU24 -> 127542901 | DR24: =IF(DS24-DT24=0, "ok",DS24-DT24) -> ok | DS24: =+AK24+AL24 -> 21830902650 | DT24: =+AV24+AW24+AX24 -> 21830902650
A25: Business Lease Hungary Kft. | B25: 0 | C25: 0 | D25: 0 | E25: 0 | F25: 0 | G25: 0 | H25: 2084004738 | I25: 0 | J25: 0 | K25: 0 | L25: 0 | M25: 0 | N25: 0 | O25: 0 | P25: 0 | Q25: 0 | R25: =+H25 -> 2084004738 | S25: 0 | T25: 0 | U25: 0 | V25: 0 | W25: 0 | X25: 0 | Y25: 0 | Z25: 0 | AA25: 0 | AB25: 0 | AC25: 0 | AD25: 0 | AE25: 0 | AF25: 0 | AG25: 0 | AH25: 0 | AI25: 0 | AJ25: 0 | AK25: 0 | AL25: 0 | AM25: 0 | AN25: 0 | AO25: 0 | AP25: 0 | AQ25: 0 | AR25: 0 | AS25: 0 | AT25: 0 | AU25: 0 | AV25: 0 | AW25: 0 | AX25: 0 | AY25: 0 | AZ25: 0 | BA25: 0 | BB25: 0 | BC25: 0 | BD25: 0 | BE25: 0 | BF25: 0 | BG25: 0 | BH25: 0 | BI25: 0 | BJ25: 0 | BL25: =SUM(B25:E25) -> 0 | BM25: =SUM(F25:G25) -> 0 | BN25: =SUM(H25:I25) -> 2084004738 | BO25: =SUM(J25:K25) -> 0 | BP25: =SUM(S25:X25) -> 0 | BQ25: =SUM(Y25:AD25) -> 0 | BR25: =SUM(AE25:AF25) -> 0 | BS25: =SUM(AG25:AH25) -> 0 | BT25: =SUM(AI25:AJ25) -> 0 | BU25: =SUM(AK25:AL25) -> 0 | BV25: =AY25+AZ25+BC25+BD25+BE25 -> 0 | BW25: =BA25+BB25+BF25+BG25+BH25 -> 0 | BX25: =SUM(BI25:BJ25) -> 0 | BZ25: =SUM(BL25:BO25) -> 2084004738 | CA25: =SUM(BP25:BQ25) -> 0 | CB25: =SUM(BR25:BU25) -> 0 | CC25: =SUM(BV25:BW25) -> 0 | CD25: =SUM(BX25) -> 0 | CE25: =SUM(BZ25:CD25) -> 2084004738 | CG25: =B25+C25 -> 0 | CH25: =D25+E25 -> 0 | CI25: =B25+D25 -> 0 | CJ25: =C25+E25 -> 0 | DC25: =IF(DD25-DE25=0, "ok",DD25-DE25) -> ok | DD25: =+B25+C25+D25+E25 -> 0 | DE25: =+L25+N25+M25 -> 0 | DF25: =IF(DG25-DH25=0, "ok",DG25-DH25) -> ok | DG25: =+H25+I25 -> 2084004738 | DH25: =+O25+P25+Q25+R25 -> 2084004738 | DI25: =IF(DJ25-DK25=0, "ok",DJ25-DK25) -> ok | DJ25: =+AE25+AF25 -> 0 | DK25: =+AM25+AN25+AO25 -> 0 | DL25: =IF(DM25-DN25=0, "ok",DM25-DN25) -> ok | DM25: =+AG25+AH25 -> 0 | DN25: =+AP25+AQ25+AR25 -> 0 | DO25: =IF(DP25-DQ25=0, "ok",DP25-DQ25) -> ok | DP25: =+AI25+AJ25 -> 0 | DQ25: =+AS25+AT25+AU25 -> 0 | DR25: =IF(DS25-DT25=0, "ok",DS25-DT25) -> ok | DS25: =+AK25+AL25 -> 0 | DT25: =+AV25+AW25+AX25 -> 0
A26: Merkantil csoport | B26: 30204146115 | C26: 45785048462 | D26: 19402627927 | E26: 16488191846 | F26: 816532005 | G26: 343015000 | H26: 17009855377 | I26: 255354756 | J26: 0 | K26: 0 | L26: 5810551 | M26: =82746105424-F26-G26 -> 81586558419 | N26: 30287645380 | O26: 0 | P26: 10272953347 | Q26: 920295945 | R26: 6071960841 | S26: 0 | T26: 1173071866 | U26: 0 | V26: 0 | W26: 1286471203 | X26: 0 | Y26: 0 | Z26: 10149263535 | AA26: 0 | AB26: 12352500 | AC26: 4980151320 | AD26: 0 | AE26: 15695801851 | AF26: 5887773428 | AG26: 2375779243 | AH26: 1400115643 | AI26: 632817595 | AJ26: 1253373641 | AK26: 4596101692 | AL26: 154706632 | AM26: 2553282235 | AN26: 19030293044 | AO26: 0 | AP26: 849860071 | AQ26: 2716661329 | AR26: 209373486 | AS26: 0 | AT26: 632817595 | AU26: 1253373641 | AV26: 789403200 | AW26: 3920652019 | AX26: 40753106 | AY26: 0 | AZ26: 0 | BA26: 0 | BB26: 0 | BC26: 0 | BD26: 0 | BE26: 0 | BF26: 0 | BG26: 1833088461 | BH26: 0 | BI26: 0 | BJ26: 0 | BL26: =SUM(B26:E26) -> 111880014350 | BM26: =SUM(F26:G26) -> 1159547005 | BN26: =SUM(H26:I26) -> 17265210133 | BO26: =SUM(J26:K26) -> 0 | BP26: =SUM(S26:X26) -> 2459543069 | BQ26: =SUM(Y26:AD26) -> 15141767355 | BR26: =SUM(AE26:AF26) -> 21583575279 | BS26: =SUM(AG26:AH26) -> 3775894886 | BT26: =SUM(AI26:AJ26) -> 1886191236 | BU26: =SUM(AK26:AL26) -> 4750808324 | BV26: =AY26+AZ26+BC26+BD26+BE26 -> 0 | BW26: =BA26+BB26+BF26+BG26+BH26 -> 1833088461 | BX26: =SUM(BI26:BJ26) -> 0 | BZ26: =SUM(BL26:BO26) -> 130304771488 | CA26: =SUM(BP26:BQ26) -> 17601310424 | CB26: =SUM(BR26:BU26) -> 31996469725 | CC26: =SUM(BV26:BW26) -> 1833088461 | CD26: =SUM(BX26) -> 0 | CE26: =SUM(BZ26:CD26) -> 181735640098 | CG26: =B26+C26 -> 75989194577 | CH26: =D26+E26 -> 35890819773 | CI26: =B26+D26 -> 49606774042 | CJ26: =C26+E26 -> 62273240308 | DC26: =IF(DD26-DE26=0, "ok",DD26-DE26) -> ok | DD26: =+B26+C26+D26+E26 -> 111880014350 | DE26: =+L26+N26+M26 -> 111880014350 | DF26: =IF(DG26-DH26=0, "ok",DG26-DH26) -> ok | DG26: =+H26+I26 -> 17265210133 | DH26: =+O26+P26+Q26+R26 -> 17265210133 | DI26: =IF(DJ26-DK26=0, "ok",DJ26-DK26) -> ok | DJ26: =+AE26+AF26 -> 21583575279 | DK26: =+AM26+AN26+AO26 -> 21583575279 | DL26: =IF(DM26-DN26=0, "ok",DM26-DN26) -> ok | DM26: =+AG26+AH26 -> 3775894886 | DN26: =+AP26+AQ26+AR26 -> 3775894886 | DO26: =IF(DP26-DQ26=0, "ok",DP26-DQ26) -> ok | DP26: =+AI26+AJ26 -> 1886191236 | DQ26: =+AS26+AT26+AU26 -> 1886191236 | DR26: =IF(DS26-DT26=0, "ok",DS26-DT26) -> -1 | DS26: =+AK26+AL26 -> 4750808324 | DT26: =+AV26+AW26+AX26 -> 4750808325
A27: Indotek Lízing Zrt. | B27: 0 | C27: 0 | D27: 0 | E27: 0 | F27: 0 | G27: 0 | H27: 0 | I27: 0 | J27: 0 | K27: 0 | L27: 0 | M27: 0 | N27: 0 | O27: 0 | P27: 0 | Q27: 0 | R27: 0 | S27: 0 | T27: 0 | U27: 0 | V27: 0 | W27: 0 | X27: 0 | Y27: 0 | Z27: 0 | AA27: 0 | AB27: 0 | AC27: 0 | AD27: 0 | AE27: 0 | AF27: 0 | AG27: 0 | AH27: 0 | AI27: 0 | AJ27: 0 | AK27: 0 | AL27: 0 | AM27: 0 | AN27: 0 | AO27: 0 | AP27: 0 | AQ27: 0 | AR27: 0 | AS27: 0 | AT27: 0 | AU27: 0 | AV27: 0 | AW27: 0 | AX27: 0 | AY27: 0 | AZ27: 0 | BA27: 0 | BB27: 0 | BC27: 0 | BD27: 0 | BE27: 0 | BF27: 0 | BG27: 0 | BH27: 0 | BI27: 0 | BJ27: 0 | BL27: =SUM(B27:E27) -> 0 | BM27: =SUM(F27:G27) -> 0 | BN27: =SUM(H27:I27) -> 0 | BO27: =SUM(J27:K27) -> 0 | BP27: =SUM(S27:X27) -> 0 | BQ27: =SUM(Y27:AD27) -> 0 | BR27: =SUM(AE27:AF27) -> 0 | BS27: =SUM(AG27:AH27) -> 0 | BT27: =SUM(AI27:AJ27) -> 0 | BU27: =SUM(AK27:AL27) -> 0 | BV27: =AY27+AZ27+BC27+BD27+BE27 -> 0 | BW27: =BA27+BB27+BF27+BG27+BH27 -> 0 | BX27: =SUM(BI27:BJ27) -> 0 | BZ27: =SUM(BL27:BO27) -> 0 | CA27: =SUM(BP27:BQ27) -> 0 | CB27: =SUM(BR27:BU27) -> 0 | CC27: =SUM(BV27:BW27) -> 0 | CD27: =SUM(BX27) -> 0 | CE27: =SUM(BZ27:CD27) -> 0 | CG27: =B27+C27 -> 0 | CH27: =D27+E27 -> 0 | CI27: =B27+D27 -> 0 | CJ27: =C27+E27 -> 0 | DC27: =IF(DD27-DE27=0, "ok",DD27-DE27) -> ok | DD27: =+B27+C27+D27+E27 -> 0 | DE27: =+L27+N27+M27 -> 0 | DF27: =IF(DG27-DH27=0, "ok",DG27-DH27) -> ok | DG27: =+H27+I27 -> 0 | DH27: =+O27+P27+Q27+R27 -> 0 | DI27: =IF(DJ27-DK27=0, "ok",DJ27-DK27) -> ok | DJ27: =+AE27+AF27 -> 0 | DK27: =+AM27+AN27+AO27 -> 0 | DL27: =IF(DM27-DN27=0, "ok",DM27-DN27) -> ok | DM27: =+AG27+AH27 -> 0 | DN27: =+AP27+AQ27+AR27 -> 0 | DO27: =IF(DP27-DQ27=0, "ok",DP27-DQ27) -> ok | DP27: =+AI27+AJ27 -> 0 | DQ27: =+AS27+AT27+AU27 -> 0 | DR27: =IF(DS27-DT27=0, "ok",DS27-DT27) -> ok | DS27: =+AK27+AL27 -> 0 | DT27: =+AV27+AW27+AX27 -> 0
A28: Merkantrade Zrt | B28: 0 | C28: 178407028 | D28: 0 | E28: 55080424 | F28: 0 | G28: 0 | H28: 0 | I28: 0 | J28: 0 | K28: 0 | L28: 0 | M28: 40561194 | N28: 29109230 | O28: 0 | P28: 0 | Q28: 0 | R28: 0 | S28: 0 | T28: 0 | U28: 0 | V28: 0 | W28: 0 | X28: 0 | Y28: 0 | Z28: 0 | AA28: 0 | AB28: 0 | AC28: 21287300 | AD28: 0 | AE28: 0 | AF28: 0 | AG28: 0 | AH28: 0 | AI28: 0 | AJ28: 0 | AK28: 73445214 | AL28: 0 | AM28: 0 | AN28: 0 | AO28: 0 | AP28: 0 | AQ28: 0 | AR28: 0 | AS28: 0 | AT28: 0 | AU28: 0 | AV28: 0 | AW28: 35815313 | AX28: 37629841 | AY28: 0 | AZ28: 0 | BA28: 0 | BB28: 0 | BC28: 0 | BD28: 0 | BE28: 0 | BF28: 12188187 | BG28: 126773097 | BH28: 201446849 | BI28: 0 | BJ28: 0 | BL28: =SUM(B28:E28) -> 233487452 | BM28: =SUM(F28:G28) -> 0 | BN28: =SUM(H28:I28) -> 0 | BO28: =SUM(J28:K28) -> 0 | BP28: =SUM(S28:X28) -> 0 | BQ28: =SUM(Y28:AD28) -> 21287300 | BR28: =SUM(AE28:AF28) -> 0 | BS28: =SUM(AG28:AH28) -> 0 | BT28: =SUM(AI28:AJ28) -> 0 | BU28: =SUM(AK28:AL28) -> 73445214 | BV28: =AY28+AZ28+BC28+BD28+BE28 -> 0 | BW28: =BA28+BB28+BF28+BG28+BH28 -> 340408133 | BX28: =SUM(BI28:BJ28) -> 0 | BZ28: =SUM(BL28:BO28) -> 233487452 | CA28: =SUM(BP28:BQ28) -> 21287300 | CB28: =SUM(BR28:BU28) -> 73445214 | CC28: =SUM(BV28:BW28) -> 340408133 | CD28: =SUM(BX28) -> 0 | CE28: =SUM(BZ28:CD28) -> 668628099 | CG28: =B28+C28 -> 178407028 | CH28: =D28+E28 -> 55080424 | CI28: =B28+D28 -> 0 | CJ28: =C28+E28 -> 233487452 | DC28: =IF(DD28-DE28=0, "ok",DD28-DE28) -> 163817028 | DD28: =+B28+C28+D28+E28 -> 233487452 | DE28: =+L28+N28+M28 -> 69670424 | DF28: =IF(DG28-DH28=0, "ok",DG28-DH28) -> ok | DG28: =+H28+I28 -> 0 | DH28: =+O28+P28+Q28+R28 -> 0 | DI28: =IF(DJ28-DK28=0, "ok",DJ28-DK28) -> ok | DJ28: =+AE28+AF28 -> 0 | DK28: =+AM28+AN28+AO28 -> 0 | DL28: =IF(DM28-DN28=0, "ok",DM28-DN28) -> ok | DM28: =+AG28+AH28 -> 0 | DN28: =+AP28+AQ28+AR28 -> 0 | DO28: =IF(DP28-DQ28=0, "ok",DP28-DQ28) -> ok | DP28: =+AI28+AJ28 -> 0 | DQ28: =+AS28+AT28+AU28 -> 0 | DR28: =IF(DS28-DT28=0, "ok",DS28-DT28) -> 60 | DS28: =+AK28+AL28 -> 73445214 | DT28: =+AV28+AW28+AX28 -> 73445154
A29: MKB-Euroleasing | B29: 6781908837 | C29: 36693338868 | D29: 6635383862 | E29: 12636178939 | F29: 552265378 | G29: 115950633 | H29: 0 | I29: 0 | J29: 0 | K29: 0 | L29: 0 | M29: 43221889720 | N29: 19524920786 | O29: 0 | P29: 0 | Q29: 0 | R29: 0 | S29: 0 | T29: 1481765047 | U29: 0 | V29: 0 | W29: 4520723242 | X29: 0 | Y29: 0 | Z29: 10502251911 | AA29: 0 | AB29: 0 | AC29: 1207835305 | AD29: 0 | AE29: 19601674704 | AF29: 2413768258 | AG29: 0 | AH29: 0 | AI29: 0 | AJ29: 0 | AK29: 2364350799 | AL29: 227169341 | AM29: 1941464959 | AN29: 20073978003 | AO29: 0 | AP29: 0 | AQ29: 0 | AR29: 0 | AS29: 0 | AT29: 0 | AU29: 0 | AV29: 374528976 | AW29: 2216991164 | AX29: 0 | AY29: 0 | AZ29: 0 | BA29: 0 | BB29: 0 | BC29: 0 | BD29: 0 | BE29: 0 | BF29: 0 | BG29: 0 | BH29: 0 | BI29: 0 | BJ29: 0 | BL29: =SUM(B29:E29) -> 62746810506 | BM29: =SUM(F29:G29) -> 668216011 | BN29: =SUM(H29:I29) -> 0 | BO29: =SUM(J29:K29) -> 0 | BP29: =SUM(S29:X29) -> 6002488289 | BQ29: =SUM(Y29:AD29) -> 11710087216 | BR29: =SUM(AE29:AF29) -> 22015442962 | BS29: =SUM(AG29:AH29) -> 0 | BT29: =SUM(AI29:AJ29) -> 0 | BU29: =SUM(AK29:AL29) -> 2591520140 | BV29: =AY29+AZ29+BC29+BD29+BE29 -> 0 | BW29: =BA29+BB29+BF29+BG29+BH29 -> 0 | BX29: =SUM(BI29:BJ29) -> 0 | BZ29: =SUM(BL29:BO29) -> 63415026517 | CA29: =SUM(BP29:BQ29) -> 17712575505 | CB29: =SUM(BR29:BU29) -> 24606963102 | CC29: =SUM(BV29:BW29) -> 0 | CD29: =SUM(BX29) -> 0 | CE29: =SUM(BZ29:CD29) -> 105734565124 | CG29: =B29+C29 -> 43475247705 | CH29: =D29+E29 -> 19271562801 | CI29: =B29+D29 -> 13417292699 | CJ29: =C29+E29 -> 49329517807 | DC29: =IF(DD29-DE29=0, "ok",DD29-DE29) -> ok | DD29: =+B29+C29+D29+E29 -> 62746810506 | DE29: =+L29+N29+M29 -> 62746810506 | DF29: =IF(DG29-DH29=0, "ok",DG29-DH29) -> ok | DG29: =+H29+I29 -> 0 | DH29: =+O29+P29+Q29+R29 -> 0 | DI29: =IF(DJ29-DK29=0, "ok",DJ29-DK29) -> ok | DJ29: =+AE29+AF29 -> 22015442962 | DK29: =+AM29+AN29+AO29 -> 22015442962 | DL29: =IF(DM29-DN29=0, "ok",DM29-DN29) -> ok | DM29: =+AG29+AH29 -> 0 | DN29: =+AP29+AQ29+AR29 -> 0 | DO29: =IF(DP29-DQ29=0, "ok",DP29-DQ29) -> ok | DP29: =+AI29+AJ29 -> 0 | DQ29: =+AS29+AT29+AU29 -> 0 | DR29: =IF(DS29-DT29=0, "ok",DS29-DT29) -> ok | DS29: =+AK29+AL29 -> 2591520140 | DT29: =+AV29+AW29+AX29 -> 2591520140
A30: TFSH | B30: 8777908058 | C30: 11887214432 | D30: 543894246 | E30: 465011173 | F30: 0 | G30: 1000000 | H30: 0 | I30: 0 | J30: 0 | K30: 0 | L30: 0 | M30: 15787043160 | N30: 5886984749 | O30: 0 | P30: 0 | Q30: 0 | R30: 0 | S30: 0 | T30: 0 | U30: 0 | V30: 0 | W30: 0 | X30: 0 | Y30: 0 | Z30: 0 | AA30: 0 | AB30: 0 | AC30: 0 | AD30: 0 | AE30: 0 | AF30: 0 | AG30: 0 | AH30: 0 | AI30: 0 | AJ30: 0 | AK30: 0 | AL30: 0 | AM30: 0 | AN30: 0 | AO30: 0 | AP30: 0 | AQ30: 0 | AR30: 0 | AS30: 0 | AT30: 0 | AU30: 0 | AV30: 0 | AW30: 0 | AX30: 0 | AY30: 0 | AZ30: 0 | BA30: 0 | BB30: 0 | BC30: 0 | BD30: 0 | BE30: 0 | BF30: 0 | BG30: 0 | BH30: 0 | BI30: 0 | BJ30: 0 | BL30: =SUM(B30:E30) -> 21674027909 | BM30: =SUM(F30:G30) -> 1000000 | BN30: =SUM(H30:I30) -> 0 | BO30: =SUM(J30:K30) -> 0 | BP30: =SUM(S30:X30) -> 0 | BQ30: =SUM(Y30:AD30) -> 0 | BR30: =SUM(AE30:AF30) -> 0 | BS30: =SUM(AG30:AH30) -> 0 | BT30: =SUM(AI30:AJ30) -> 0 | BU30: =SUM(AK30:AL30) -> 0 | BV30: =AY30+AZ30+BC30+BD30+BE30 -> 0 | BW30: =BA30+BB30+BF30+BG30+BH30 -> 0 | BX30: =SUM(BI30:BJ30) -> 0 | BZ30: =SUM(BL30:BO30) -> 21675027909 | CA30: =SUM(BP30:BQ30) -> 0 | CB30: =SUM(BR30:BU30) -> 0 | CC30: =SUM(BV30:BW30) -> 0 | CD30: =SUM(BX30) -> 0 | CE30: =SUM(BZ30:CD30) -> 21675027909 | CG30: =B30+C30 -> 20665122490 | CH30: =D30+E30 -> 1008905419 | CI30: =B30+D30 -> 9321802304 | CJ30: =C30+E30 -> 12352225605 | DC30: =IF(DD30-DE30=0, "ok",DD30-DE30) -> ok | DD30: =+B30+C30+D30+E30 -> 21674027909 | DE30: =+L30+N30+M30 -> 21674027909 | DF30: =IF(DG30-DH30=0, "ok",DG30-DH30) -> ok | DG30: =+H30+I30 -> 0 | DH30: =+O30+P30+Q30+R30 -> 0 | DI30: =IF(DJ30-DK30=0, "ok",DJ30-DK30) -> ok | DJ30: =+AE30+AF30 -> 0 | DK30: =+AM30+AN30+AO30 -> 0 | DL30: =IF(DM30-DN30=0, "ok",DM30-DN30) -> ok | DM30: =+AG30+AH30 -> 0 | DN30: =+AP30+AQ30+AR30 -> 0 | DO30: =IF(DP30-DQ30=0, "ok",DP30-DQ30) -> ok | DP30: =+AI30+AJ30 -> 0 | DQ30: =+AS30+AT30+AU30 -> 0 | DR30: =IF(DS30-DT30=0, "ok",DS30-DT30) -> ok | DS30: =+AK30+AL30 -> 0 | DT30: =+AV30+AW30+AX30 -> 0
A31: Fraikin | B31: 0 | C31: 0 | D31: 0 | E31: 0 | F31: 0 | G31: 0 | H31: 0 | I31: 0 | J31: 0 | K31: 0 | L31: 0 | M31: 0 | N31: 0 | O31: 0 | P31: 0 | Q31: 0 | R31: 0 | S31: 0 | T31: 0 | U31: 0 | V31: 0 | W31: 0 | X31: 0 | Y31: 1632035325 | Z31: 0 | AA31: 0 | AB31: 836904362 | AC31: 0 | AD31: 0 | AE31: 0 | AF31: 0 | AG31: 0 | AH31: 0 | AI31: 0 | AJ31: 0 | AK31: 0 | AL31: 0 | AM31: 0 | AN31: 0 | AO31: 0 | AP31: 0 | AQ31: 0 | AR31: 0 | AS31: 0 | AT31: 0 | AU31: 0 | AV31: 0 | AW31: 0 | AX31: 0 | AY31: 0 | AZ31: 0 | BA31: 0 | BB31: 0 | BC31: 0 | BD31: 0 | BE31: 0 | BF31: 0 | BG31: 0 | BH31: 0 | BI31: 0 | BJ31: 0 | BL31: =SUM(B31:E31) -> 0 | BM31: =SUM(F31:G31) -> 0 | BN31: =SUM(H31:I31) -> 0 | BO31: =SUM(J31:K31) -> 0 | BP31: =SUM(S31:X31) -> 0 | BQ31: =SUM(Y31:AD31) -> 2468939687 | BR31: =SUM(AE31:AF31) -> 0 | BS31: =SUM(AG31:AH31) -> 0 | BT31: =SUM(AI31:AJ31) -> 0 | BU31: =SUM(AK31:AL31) -> 0 | BV31: =AY31+AZ31+BC31+BD31+BE31 -> 0 | BW31: =BA31+BB31+BF31+BG31+BH31 -> 0 | BX31: =SUM(BI31:BJ31) -> 0 | BZ31: =SUM(BL31:BO31) -> 0 | CA31: =SUM(BP31:BQ31) -> 2468939687 | CB31: =SUM(BR31:BU31) -> 0 | CC31: =SUM(BV31:BW31) -> 0 | CD31: =SUM(BX31) -> 0 | CE31: =SUM(BZ31:CD31) -> 2468939687 | CG31: =B31+C31 -> 0 | CH31: =D31+E31 -> 0 | CI31: =B31+D31 -> 0 | CJ31: =C31+E31 -> 0 | DC31: =IF(DD31-DE31=0, "ok",DD31-DE31) -> ok | DD31: =+B31+C31+D31+E31 -> 0 | DE31: =+L31+N31+M31 -> 0 | DF31: =IF(DG31-DH31=0, "ok",DG31-DH31) -> ok | DG31: =+H31+I31 -> 0 | DH31: =+O31+P31+Q31+R31 -> 0 | DI31: =IF(DJ31-DK31=0, "ok",DJ31-DK31) -> ok | DJ31: =+AE31+AF31 -> 0 | DK31: =+AM31+AN31+AO31 -> 0 | DL31: =IF(DM31-DN31=0, "ok",DM31-DN31) -> ok | DM31: =+AG31+AH31 -> 0 | DN31: =+AP31+AQ31+AR31 -> 0 | DO31: =IF(DP31-DQ31=0, "ok",DP31-DQ31) -> ok | DP31: =+AI31+AJ31 -> 0 | DQ31: =+AS31+AT31+AU31 -> 0 | DR31: =IF(DS31-DT31=0, "ok",DS31-DT31) -> ok | DS31: =+AK31+AL31 -> 0 | DT31: =+AV31+AW31+AX31 -> 0
BL32: =SUM(B32:E32) -> 0 | BM32: =SUM(F32:G32) -> 0 | BN32: =SUM(H32:I32) -> 0 | BO32: =SUM(J32:K32) -> 0 | BP32: =SUM(S32:X32) -> 0 | BQ32: =SUM(Y32:AD32) -> 0 | BR32: =SUM(AE32:AF32) -> 0 | BS32: =SUM(AG32:AH32) -> 0 | BT32: =SUM(AI32:AJ32) -> 0 | BU32: =SUM(AK32:AL32) -> 0 | BV32: =AY32+AZ32+BC32+BD32+BE32 -> 0 | BW32: =BA32+BB32+BF32+BG32+BH32 -> 0 | BX32: =SUM(BI32:BJ32) -> 0 | BZ32: =SUM(BL32:BO32) -> 0 | CA32: =SUM(BP32:BQ32) -> 0 | CB32: =SUM(BR32:BU32) -> 0 | CC32: =SUM(BV32:BW32) -> 0 | CD32: =SUM(BX32) -> 0 | CE32: =SUM(BZ32:CD32) -> 0 | CG32: =B32+C32 -> 0 | CH32: =D32+E32 -> 0 | CI32: =B32+D32 -> 0 | CJ32: =C32+E32 -> 0 | DC32: =IF(DD32-DE32=0, "ok",DD32-DE32) -> ok | DD32: =+B32+C32+D32+E32 -> 0 | DE32: =+L32+N32+M32 -> 0 | DF32: =IF(DG32-DH32=0, "ok",DG32-DH32) -> ok | DG32: =+H32+I32 -> 0 | DH32: =+O32+P32+Q32+R32 -> 0 | DI32: =IF(DJ32-DK32=0, "ok",DJ32-DK32) -> ok | DJ32: =+AE32+AF32 -> 0 | DK32: =+AM32+AN32+AO32 -> 0 | DL32: =IF(DM32-DN32=0, "ok",DM32-DN32) -> ok | DM32: =+AG32+AH32 -> 0 | DN32: =+AP32+AQ32+AR32 -> 0 | DO32: =IF(DP32-DQ32=0, "ok",DP32-DQ32) -> ok | DP32: =+AI32+AJ32 -> 0 | DQ32: =+AS32+AT32+AU32 -> 0 | DR32: =IF(DS32-DT32=0, "ok",DS32-DT32) -> ok | DS32: =+AK32+AL32 -> 0 | DT32: =+AV32+AW32+AX32 -> 0
BL33: =SUM(B33:E33) -> 0 | BM33: =SUM(F33:G33) -> 0 | BN33: =SUM(H33:I33) -> 0 | BO33: =SUM(J33:K33) -> 0 | BP33: =SUM(S33:X33) -> 0 | BQ33: =SUM(Y33:AD33) -> 0 | BR33: =SUM(AE33:AF33) -> 0 | BS33: =SUM(AG33:AH33) -> 0 | BT33: =SUM(AI33:AJ33) -> 0 | BU33: =SUM(AK33:AL33) -> 0 | BV33: =AY33+AZ33+BC33+BD33+BE33 -> 0 | BW33: =BA33+BB33+BF33+BG33+BH33 -> 0 | BX33: =SUM(BI33:BJ33) -> 0 | BZ33: =SUM(BL33:BO33) -> 0 | CA33: =SUM(BP33:BQ33) -> 0 | CB33: =SUM(BR33:BU33) -> 0 | CC33: =SUM(BV33:BW33) -> 0 | CD33: =SUM(BX33) -> 0 | CE33: =SUM(BZ33:CD33) -> 0 | CG33: =B33+C33 -> 0 | CH33: =D33+E33 -> 0 | CI33: =B33+D33 -> 0 | CJ33: =C33+E33 -> 0 | DC33: =IF(DD33-DE33=0, "ok",DD33-DE33) -> ok | DD33: =+B33+C33+D33+E33 -> 0 | DE33: =+L33+N33+M33 -> 0 | DF33: =IF(DG33-DH33=0, "ok",DG33-DH33) -> ok | DG33: =+H33+I33 -> 0 | DH33: =+O33+P33+Q33+R33 -> 0 | DI33: =IF(DJ33-DK33=0, "ok",DJ33-DK33) -> ok | DJ33: =+AE33+AF33 -> 0 | DK33: =+AM33+AN33+AO33 -> 0 | DL33: =IF(DM33-DN33=0, "ok",DM33-DN33) -> ok | DM33: =+AG33+AH33 -> 0 | DN33: =+AP33+AQ33+AR33 -> 0 | DO33: =IF(DP33-DQ33=0, "ok",DP33-DQ33) -> ok | DP33: =+AI33+AJ33 -> 0 | DQ33: =+AS33+AT33+AU33 -> 0 | DR33: =IF(DS33-DT33=0, "ok",DS33-DT33) -> ok | DS33: =+AK33+AL33 -> 0 | DT33: =+AV33+AW33+AX33 -> 0
BL34: =SUM(B34:E34) -> 0 | BM34: =SUM(F34:G34) -> 0 | BN34: =SUM(H34:I34) -> 0 | BO34: =SUM(J34:K34) -> 0 | BP34: =SUM(S34:X34) -> 0 | BQ34: =SUM(Y34:AD34) -> 0 | BR34: =SUM(AE34:AF34) -> 0 | BS34: =SUM(AG34:AH34) -> 0 | BT34: =SUM(AI34:AJ34) -> 0 | BU34: =SUM(AK34:AL34) -> 0 | BV34: =AY34+AZ34+BC34+BD34+BE34 -> 0 | BW34: =BA34+BB34+BF34+BG34+BH34 -> 0 | BX34: =SUM(BI34:BJ34) -> 0 | BZ34: =SUM(BL34:BO34) -> 0 | CA34: =SUM(BP34:BQ34) -> 0 | CB34: =SUM(BR34:BU34) -> 0 | CC34: =SUM(BV34:BW34) -> 0 | CD34: =SUM(BX34) -> 0 | CE34: =SUM(BZ34:CD34) -> 0 | CG34: =B34+C34 -> 0 | CH34: =D34+E34 -> 0 | CI34: =B34+D34 -> 0 | CJ34: =C34+E34 -> 0 | DC34: =IF(DD34-DE34=0, "ok",DD34-DE34) -> ok | DD34: =+B34+C34+D34+E34 -> 0 | DE34: =+L34+N34+M34 -> 0 | DF34: =IF(DG34-DH34=0, "ok",DG34-DH34) -> ok | DG34: =+H34+I34 -> 0 | DH34: =+O34+P34+Q34+R34 -> 0 | DI34: =IF(DJ34-DK34=0, "ok",DJ34-DK34) -> ok | DJ34: =+AE34+AF34 -> 0 | DK34: =+AM34+AN34+AO34 -> 0 | DL34: =IF(DM34-DN34=0, "ok",DM34-DN34) -> ok | DM34: =+AG34+AH34 -> 0 | DN34: =+AP34+AQ34+AR34 -> 0 | DO34: =IF(DP34-DQ34=0, "ok",DP34-DQ34) -> ok | DP34: =+AI34+AJ34 -> 0 | DQ34: =+AS34+AT34+AU34 -> 0 | DR34: =IF(DS34-DT34=0, "ok",DS34-DT34) -> ok | DS34: =+AK34+AL34 -> 0 | DT34: =+AV34+AW34+AX34 -> 0
A35: Összesen | B35: =SUM(B2:B34) -> 78665010305 | C35: =SUM(C2:C34) -> 1.7491107e+11 | D35: =SUM(D2:D34) -> 42694013891 | E35: =SUM(E2:E34) -> 4.3778586e+10 | F35: =SUM(F2:F34) -> 1385949942 | G35: =SUM(G2:G34) -> 466104633 | H35: =SUM(H2:H34) -> 8.2828846e+10 | I35: =SUM(I2:I34) -> 2678658853 | ... BX35: =SUM(BX2:BX34) -> 2389062537 | BZ35: =SUM(BZ2:BZ34) -> 4.4306707e+11 | CA35: =SUM(CA2:CA34) -> 2.1123884e+11 | CB35: =SUM(CB2:CB34) -> 2.8696531e+11 | CC35: =SUM(CC2:CC34) -> 3895891744 | CD35: =SUM(CD2:CD34) -> 2389062537 | CE35: =SUM(CE2:CE34) -> 9.4755618e+11 | CG35: =SUM(CG2:CG34) -> 2.5357608e+11 | CH35: =SUM(CH2:CH34) -> 8.64726e+10 | CI35: =SUM(CI2:CI34) -> 121359024196 | CJ35: =SUM(CJ2:CJ34) -> 2.1868966e+11 | DC35: =+DD35-DE35 -> 6.3689741e+08 | DD35: =+B35+C35+D35+E35 -> 3.4004868e+11 | DE35: =+L35+N35+M35 -> 3.3941179e+11 | DF35: =IF(DG35-DH35=0, "ok",DG35-DH35) -> -214756401 | DG35: =+H35+I35 -> 8.5507505e+10 | DH35: =+O35+P35+Q35+R35 -> 8.5722262e+10 | DI35: =IF(DJ35-DK35=0, "ok",DJ35-DK35) -> -10160001 | DJ35: =+AE35+AF35 -> 1.0337882e+11 | DK35: =+AM35+AN35+AO35 -> 1.0338898e+11 | DL35: =IF(DM35-DN35=0, "ok",DM35-DN35) -> -3.8146973e-06 | DM35: =+AG35+AH35 -> 2.3913333e+10 | DN35: =+AP35+AQ35+AR35 -> 2.3913333e+10 | DO35: =IF(DP35-DQ35=0, "ok",DP35-DQ35) -> 74035746 | DP35: =+AI35+AJ35 -> 61349212005 | DQ35: =+AS35+AT35+AU35 -> 61275176259 | DR35: =IF(DS35-DT35=0, "ok",DS35-DT35) -> 2.4509675e+09 | DS35: =+AK35+AL35 -> 9.8323943e+10 | DT35: =+AV35+AW35+AX35 -> 9.5872976e+10
A37: adatszolgáltatók | B37: =COUNTIF(B2:B34,">0") -> 7 | C37: =COUNTIF(C2:C34,">0") -> 15 | D37: =COUNTIF(D2:D34,">0") -> 7 | E37: =COUNTIF(E2:E34,">0") -> 15 | F37: =COUNTIF(F2:F34,">0") -> 4 | G37: =COUNTIF(G2:G34,">0") -> 4 | H37: =COUNTIF(H2:H34,">0") -> 10 | I37: =COUNTIF(I2:I34,">0") -> 5 | ... BX37: =COUNTIF(BX2:BX34,">0") -> 3 | BZ37: =COUNTIF(BZ2:BZ34,">0") -> 23 | CA37: =COUNTIF(CA2:CA34,">0") -> 18 | CB37: =COUNTIF(CB2:CB34,">0") -> 17 | CC37: =COUNTIF(CC2:CC34,">0") -> 3 | CD37: =COUNTIF(CD2:CD34,">0") -> 3 | CE37: =COUNTIF(CE2:CE34,">0") -> 27 | CG37: =COUNTIF(CG2:CG34,">0") -> 15 | CH37: =COUNTIF(CH2:CH34,">0") -> 15 | CI37: =COUNTIF(CI2:CI34,">0") -> 7 | CJ37: =COUNTIF(CJ2:CJ34,">0") -> 15
AE39: =+AE35/1.27 -> 6.3784712e+10
AE40: =+#REF!/'Bruttó eszk'!AE39 -> #REF!

Sheet Fin összeg hely
A1: CÉG | B1: Retail - új személygépjármû - magánszemély - finanszírozott összeg | C1: Retail - új személygépjármû - jogi személy - finanszírozott összeg | D1: Retail - használt személygépjármû - magánszemély - finanszírozott összeg | E1: Retail - használt személygépjármû - jogi személy - finanszírozott összeg | F1: Motor - új - finanszírozott eszköz | G1: Motor - használt - finanszírozott eszköz | H1: Flotta - új személygépjármû - finanszírozott összeg | I1: Flotta - használt személygépjármû - finanszírozott összeg | J1: Refinanszírozott flotta - új - finanszírozott összeg | K1: Refinanszírozott flotta - használt - finanszírozott összeg | L1: Retail - személygépjármû - hitel - finanszírozott összeg | M1: Retail - személygépjármû - zárt végû pénzügyi lízing - finanszírozott összeg | N1: Retail - személygépjármû - nyílt végû pénzügyi lízing - finanszírozott összeg | O1: Flotta - személygépjármû - hitel - finanszírozott összeg | P1: Flotta - személygépjármû - zárt végû pénzügyi lízing - finanszírozott összeg | Q1: Flotta - személygépjármû - nyílt végû pénzügyi lízing - finanszírozott összeg | R1: Flotta - személygépjármû - operatív lízing - finanszírozott összeg | S1: Új busz - operatív lízing - finanszírozott összeg | T1: Új busz - pénzügyi lízing - finanszírozott összeg | U1: Új busz - hitel - finanszírozott összeg | V1: Használt busz - operatív lízing - finanszírozott összeg | W1: Használt busz - pénzügyi lízing - finanszírozott összeg | X1: Használt busz - hitel - finanszírozott összeg | Y1: Új teherautó - operatív lízing - finanszírozott összeg | Z1: Új teherautó - pénzügyi lízing - finanszírozott összeg | AA1: Új teherautó - hitel - finanszírozott összeg | AB1: Használt teherautó - operatív lízing - finanszírozott összeg | AC1: Használt teherautó - pénzügyi lízing - finanszírozott összeg | AD1: Használt teherautó - hitel - finanszírozott összeg | AE1: Új mezõgazdasági gép - finanszírozott összeg | AF1: Használt mezõgazdasági gép - finanszírozott összeg | AG1: Új építõipari gép - finanszírozott összeg | AH1: Használt építõipari gép - finanszírozott összeg | AI1: Új IT, szoftver, irodagép - finanszírozott összeg | AJ1: Használt IT, szoftver, irodagép - finanszírozott összeg | AK1: Új egyéb gép - finanszírozott összeg | AL1: Használt egyéb gép - finanszírozott összeg | AM1: Mezõgazdasági gép - hitel - finanszírozott összeg | AN1: Mezõgazdasági gép - pénzügyi lízing - finanszírozott összeg | AO1: Mezõgazdasági gép - operatív lízing - finanszírozott összeg | AP1: Építõipari gép - hitel - finanszírozott összeg | AQ1: Építõipari gép - pénzügyi lízing - finanszírozott összeg | AR1: Építõipari gép - operatív lízing - finanszírozott összeg | AS1: IT, szoftver, irodagép - hitel - finanszírozott összeg | AT1: IT, szoftver, irodagép - pénzügyi lízing - finanszírozott összeg | AU1: IT, szoftver, irodagép - operatív lízing - finanszírozott összeg | AV1: Egyéb gép - hitel - finanszírozott összeg | AW1: Egyéb gép - pénzügyi lízing - finanszírozott összeg | AX1: Egyéb gép - operatív lízing - finanszírozott összeg | AY1: Lakossági - lakás - hitel - finanszírozott összeg | AZ1: Lakossági - lakás - pénzügyi lízing - finanszírozott összeg | BA1: Lakossági nem lakás - hitel - finanszírozott összeg | BB1: Lakossági - nem lakás - pénzügyi lízing - finanszírozott összeg | BC1: Vállalati - lakás - hitel - finanszírozott összeg | BD1: Vállalati - lakás - pénzügyi lízing - finanszírozott összeg | BE1: Vállalati - lakás - operatív lízing - finanszírozott összeg | BF1: Vállalati - nem lakás - hitel - finanszírozott összeg | BG1: Vállalati - nem lakás - pénzügyi lízing - finanszírozott összeg | BH1: Vállalati - nem lakás - operatív lízing - finanszírozott összeg | BI1: Vasút, hajó, repülõ - finanszírozott összeg | BJ1: Egyéb eszköz - finanszírozott összeg | BL1: Retail | BM1: Motor | BN1: Flotta | BO1: Refi flotta | BP1: Busz | BQ1: Truck | BR1: Mezőgép | BS1: Építőgép | BT1: IT | BU1: Egyéb | BV1: Lakás | BW1: Ingatlan | BX1: Vasút, egyéb | BZ1: Autó | CA1: Truck | CB1: Gép | CC1: Ingatlan | CD1: Vasút, egyéb | CE1: Összesen | CG1: Retail új autó | CH1: Retail használt autó | CI1: Retail magánszemély | CJ1: Retail jogi személy
A2: ALD | H2: 3 | BN2: 3 | BZ2: 6 | CE2: 15
A3: Arval | H3: 5 | BN3: 5 | BZ3: 14 | CE3: 20
A4: Budapest Lízing | B4: 2 | C4: 2 | D4: 2 | E4: 2 | M4: 3 | N4: 2 | T4: 1 | W4: 3 | AE4: 3 | AF4: 6 | AG4: 5 | AH4: 5 | AI4: 3 | AK4: 5 | AL4: 3 | AM4: 2 | AN4: 5 | AP4: 6 | AQ4: 4 | AT4: 2 | AV4: 3 | AW4: 3 | AX4: 4 | BL4: 2 | BO4: 2 | BP4: 1 | BQ4: 1 | BR4: 5 | BS4: 5 | BT4: 3 | BU4: 4 | BZ4: 2 | CA4: 1 | CB4: 4 | CE4: 2 | CG4: 2 | CH4: 2 | CI4: 2 | CJ4: 2
A5: CIB Lízing | B5: 5 | C5: 5 | D5: 5 | E5: 4 | F5: 4 | H5: 6 | M5: 5 | N5: 4 | T5: 9 | W5: 7 | AE5: 6 | AF5: 3 | AG5: 12 | AI5: 5 | AK5: 8 | AL5: 6 | AM5: 7 | AN5: 4 | AQ5: 11 | AT5: 5 | AV5: 6 | AW5: 7 | BL5: 5 | BM5: 4 | BN5: 6 | BP5: 9 | BQ5: 8 | BR5: 4 | BS5: 13 | BT5: 5 | BU5: 8 | BZ5: 7 | CA5: 8 | CB5: 8 | CE5: 8 | CG5: 5 | CH5: 5 | CI5: 6 | CJ5: 5
A6: Cofidis | B6: 6 | C6: 13 | D6: 3 | E6: 9 | F6: 3 | M6: 6 | BL6: 8 | BM6: 3 | BZ6: 13 | CE6: 19 | CG6: 10 | CH6: 4 | CI6: 5 | CJ6: 10
A7: Deutsche Leasing | C7: 9 | E7: 13 | M7: 9 | N7: 8 | T7: 6 | AE7: 5 | AF7: 9 | AG7: 6 | AH7: 7 | AK7: 1 | AL7: 1 | AM7: 6 | AN7: 6 | AP7: 1 | AQ7: 8 | AV7: 1 | AW7: 1 | AX7: 2 | BL7: 10 | BP7: 8 | BQ7: 15 | BR7: 7 | BS7: 6 | BU7: 1 | BZ7: 15 | CA7: 15 | CB7: 2 | CE7: 6 | CG7: 9 | CH7: 13 | CJ7: 9
A8: DLL | C8: 6 | E8: 8 | M8: 7 | N8: 7 | W8: 4 | Z8: 3 | AC8: 2 | AE8: 10 | AF8: 11 | AG8: 1 | AH8: 2 | AI8: 1 | AK8: 9 | AL8: 11 | AM8: 5 | AN8: 9 | AP8: 7 | AQ8: 1 | AR8: 1 | AT8: 3 | AV8: 8 | AW8: 10 | AX8: 3 | BL8: 6 | BP8: 7 | BQ8: 6 | BR8: 11 | BS8: 1 | BT8: 1 | BU8: 10 | BZ8: 10 | CA8: 6 | CB8: 7 | CE8: 9 | CG8: 6 | CH8: 9 | CJ8: 6
A9: Erste | C9: 8 | E9: 5 | AE9: 8 | AK9: 11 | AN9: 8 | AW9: 8 | BL9: 9 | BO9: 3 | BQ9: 9 | BR9: 9 | BU9: 12 | BZ9: 12 | CA9: 9 | CB9: 11 | CE9: 11 | CG9: 8 | CH9: 7 | CJ9: 8
A10: KH | C10: 14 | E10: 14 | H10: 4 | N10: 12 | T10: 3 | W10: 5 | Z10: 2 | AC10: 3 | AE10: 9 | AF10: 7 | AG10: 8 | AH10: 6 | AI10: 6 | AK10: 4 | AL10: 12 | AN10: 7 | AQ10: 6 | AT10: 6 | AW10: 2 | AX10: 5 | BL10: 14 | BN10: 4 | BO10: 4 | BP10: 3 | BQ10: 5 | BR10: 8 | BS10: 9 | BT10: 6 | BU10: 5 | BZ10: 9 | CA10: 5 | CB10: 6 | CE10: 7 | CG10: 14 | CH10: 14 | CJ10: 14
A11: Leaseplan | H11: 2 | BN11: 2 | BZ11: 5 | CE11: 10
A12: Lombard
A13: Merkantil | B13: 1 | C13: 1 | D13: 1 | E13: 1 | F13: 2 | H13: 1 | M13: 1 | N13: 1 | T13: 2 | W13: 2 | AE13: 1 | AF13: 1 | AG13: 2 | AH13: 3 | AI13: 2 | AK13: 2 | AL13: 9 | AM13: 1 | AN13: 1 | AP13: 2 | AQ13: 2 | AR13: 4 | AT13: 1 | AV13: 2 | AW13: 5 | AX13: 1 | BL13: 1 | BM13: 1 | BN13: 1 | BP13: 2 | BQ13: 4 | BR13: 1 | BS13: 2 | BT13: 2 | BU13: 3 | BZ13: 1 | CA13: 3 | CB13: 1 | CC13: 3 | CE13: 1 | CG13: 1 | CH13: 1 | CI13: 1 | CJ13: 1
A14: MKB Euroleasing | B14: 4 | C14: 3 | D14: 4 | E14: 3 | F14: 1 | M14: 2 | N14: 3 | T14: 11 | AE14: 2 | AF14: 5 | AG14: 10 | AH14: 11 | AK14: 10 | AL14: 4 | AM14: 3 | AN14: 2 | AP14: 5 | AQ14: 9 | AV14: 5 | AW14: 9 | BL14: 3 | BM14: 2 | BP14: 13 | BQ14: 14 | BR14: 2 | BS14: 10 | BU14: 7 | BZ14: 3 | CA14: 14 | CB14: 5 | CE14: 3 | CG14: 3 | CH14: 3 | CI14: 3 | CJ14: 3
A15: Oberlizing | T15: 4 | W15: 6 | AE15: 11 | AF15: 8 | AG15: 9 | AH15: 1 | AI15: 7 | AK15: 3 | AL15: 5 | BO15: 1 | BP15: 4 | BQ15: 2 | BR15: 10 | BS15: 7 | BT15: 7 | BU15: 2 | BZ15: 8 | CA15: 2 | CB15: 9 | CC15: 5 | CE15: 5
A16: OTP | CC16: 1 | CE16: 18
A17: Raiffeisen Lízing | C17: 7 | E17: 7 | M17: 8 | N17: 6 | T17: 10 | AE17: 12 | AG17: 7 | AH17: 12 | AK17: 7 | AN17: 10 | AQ17: 7 | AR17: 2 | AW17: 6 | BL17: 7 | BP17: 12 | BQ17: 11 | BR17: 12 | BS17: 8 | BU17: 9 | BZ17: 11 | CA17: 12 | CB17: 13 | CC17: 4 | CE17: 13 | CG17: 7 | CH17: 8 | CJ17: 7
A18: Regio | C18: 12 | E18: 11 | M18: 11 | N18: 11 | Z18: 5 | AC18: 5 | AE18: 14 | AF18: 12 | AG18: 13 | AH18: 10 | AK18: 14 | AL18: 7 | AN18: 12 | AQ18: 10 | AR18: 5 | AW18: 12 | AX18: 6 | BL18: 13 | BQ18: 16 | BR18: 14 | BS18: 12 | BU18: 14 | BZ18: 18 | CA18: 16 | CB18: 14 | CE18: 21 | CG18: 13 | CH18: 11 | CJ18: 13
A19: SME Property Leasing
A20: Sociate Generale L | C20: 10 | E20: 12 | M20: 12 | N20: 9 | T20: 7 | W20: 1 | AE20: 13 | AF20: 10 | AG20: 4 | AH20: 4 | AI20: 4 | AK20: 13 | AM20: 8 | AN20: 11 | AP20: 4 | AQ20: 5 | AT20: 4 | AV20: 7 | AW20: 11 | BL20: 11 | BP20: 5 | BQ20: 12 | BR20: 13 | BS20: 4 | BT20: 4 | BU20: 13 | BZ20: 16 | CA20: 11 | CB20: 12 | CE20: 17 | CG20: 11 | CH20: 12 | CJ20: 11
A21: Takaréklízing | T21: 5 | W21: 8 | AE21: 7 | AF21: 2 | AG21: 11 | AH21: 8 | AK21: 12 | AL21: 8 | BP21: 6 | BQ21: 13 | BR21: 6 | BS21: 11 | BU21: 11 | CA21: 13 | CB21: 10 | CC21: 2 | CE21: 14
A22: Unicredit Leasing | B22: 3 | C22: 4 | D22: 6 | E22: 6 | F22: 5 | M22: 4 | N22: 5 | T22: 8 | AE22: 4 | AF22: 4 | AG22: 3 | AH22: 9 | AI22: 8 | AK22: 6 | AL22: 2 | AM22: 4 | AN22: 3 | AP22: 3 | AQ22: 3 | AR22: 3 | AT22: 7 | AV22: 4 | AW22: 4 | AX22: 7 | BL22: 4 | BM22: 5 | BO22: 5 | BP22: 10 | BQ22: 10 | BR22: 3 | BS22: 3 | BT22: 8 | BU22: 6 | BZ22: 4 | CA22: 10 | CB22: 3 | CE22: 4 | CG22: 4 | CH22: 6 | CI22: 4 | CJ22: 4
A23: CITY Leasing | C23: 11 | E23: 10 | M23: 10 | N23: 10 | W23: 9 | AE23: 15 | AF23: 13 | AG23: 14 | AH23: 13 | AK23: 15 | AL23: 10 | AN23: 13 | AQ23: 12 | AW23: 13 | BL23: 12 | BP23: 11 | BQ23: 17 | BR23: 15 | BS23: 14 | BU23: 15 | BZ23: 17 | CA23: 17 | CB23: 15 | CE23: 22 | CG23: 12 | CH23: 10 | CJ23: 12
A24: Scania becslés | Z24: 1 | AC24: 4 | BQ24: 3 | CA24: 4 | CE24: 12
A25: VFS | Z25: 4 | AC25: 1 | BQ25: 7 | CA25: 7 | CE25: 16
A26: PEAC
A27: 0
A28: 0
A29: 0
A30: 0
A31: 0
A32: 0
A33: 0
A34: 0
A35: 0
A36: 0
A37: Összesen | B37: 4.3656825e+10 | C37: 1.0703771e+11 | D37: 19786425529 | E37: 2.5719722e+10 | F37: 1351950989 | H37: 5.1799002e+10 | M37: 1.3183218e+11 | N37: 6.0640173e+10 | T37: 1.5767048e+10 | W37: 3.7423591e+09 | Z37: 3.3455431e+10 | AC37: 4.6509135e+09 | AE37: 6.0292627e+10 | AF37: 1.3958147e+10 | AG37: 1.6901587e+10 | AH37: 3.2353893e+09 | AI37: 1.5032648e+09 | AK37: 5.1231944e+10 | AL37: 2.7192097e+09 | AM37: 4.6610363e+09 | AN37: 6.0538973e+10 | AP37: 2.3430471e+09 | AQ37: 1.4609198e+10 | AR37: 1854461454 | AT37: 1.2392467e+09 | AV37: 1.0572128e+10 | AW37: 3.2579866e+10 | AX37: 4.028002e+09 | BL37: 1.9620068e+11 | BM37: 1569116022 | BN37: 5.3109918e+10 | BO37: 12789967494 | BP37: 1.9509407e+10 | BQ37: 1.067131e+11 | BR37: 7.4250774e+10 | BS37: 2.0136977e+10 | BT37: 1.5286656e+09 | BU37: 5.3951153e+10 | BV37: 4767642481 | BW37: 1770218680 | BX37: 1.0758292e+09 | BZ37: 2.6366968e+11 | CA37: 1.262225e+11 | CB37: 1.4986757e+11 | CC37: 6537861161 | CD37: 1.0758292e+09 | CE37: 5.4737344e+11 | CG37: 1.5069453e+11 | CH37: 4.5506148e+10 | CI37: 6.3443251e+10 | CJ37: 1.3275743e+11
A39: adatszolgáltatók | B39: 6 | C39: 14 | D39: 6 | E39: 14 | F39: 5 | H39: 6 | M39: 12 | N39: 12 | T39: 11 | W39: 9 | Z39: 5 | AC39: 5 | AE39: 15 | AF39: 13 | AG39: 14 | AH39: 13 | AI39: 8 | AK39: 15 | AL39: 12 | AM39: 8 | AN39: 13 | AP39: 7 | AQ39: 12 | AR39: 5 | AT39: 7 | AV39: 8 | AW39: 13 | AX39: 7 | BL39: 14 | BM39: 5 | BN39: 6 | BO39: 5 | BP39: 13 | BQ39: 17 | BR39: 15 | BS39: 14 | BT39: 8 | BU39: 15 | BZ39: 18 | CA39: 17 | CB39: 15 | CC39: 5 | CE39: 22 | CG39: 14 | CH39: 14 | CI39: 6 | CJ39: 14
A40: adatszolgáltatók száma | B40: ok | C40: ok | D40: ok | E40: ok | F40: ok | G40: <5 | H40: ok | I40: <5 | J40: <5 | K40: <5 | L40: <5 | M40: ok | N40: ok | O40: <5 | P40: <5 | Q40: <5 | R40: <5 | S40: <5 | T40: ok | U40: <5 | V40: <5 | W40: ok | X40: <5 | Y40: <5 | Z40: ok | AA40: <5 | AB40: <5 | AC40: ok | AD40: <5 | AE40: ok | AF40: ok | AG40: ok | AH40: ok | AI40: ok | AJ40: <5 | AK40: ok | AL40: ok | AM40: ok | AN40: ok | AO40: <5 | AP40: ok | AQ40: ok | AR40: ok | AS40: <5 | AT40: ok | AU40: <5 | AV40: ok | AW40: ok | AX40: ok | AY40: <5 | AZ40: <5 | BA40: <5 | BB40: <5 | BC40: <5 | BD40: <5 | BE40: <5 | BF40: <5 | BG40: <5 | BH40: <5 | BI40: <5 | BJ40: <5 | BK40: <5 | BL40: ok | BM40: ok | BN40: ok | BO40: ok | BP40: ok | BQ40: ok | BR40: ok | BS40: ok | BT40: ok | BU40: ok | BV40: <5 | BW40: <5 | BX40: <5 | BZ40: ok | CA40: ok | CB40: ok | CC40: ok | CD40: <5 | CE40: ok | CG40: ok | CH40: ok | CI40: ok | CJ40: ok

Sheet Szerződésszám hely
B1: Retail - új személygépjármû - magánszemély - darabszám | C1: Retail - új személygépjármû - jogi személy - darabszám | D1: Retail - használt személygépjármû - magánszemély - darabszám | E1: Retail - használt személygépjármû - jogi személy - darabszám | F1: Motor - új - szerzõdésszám | G1: Motor - használt - szerzõdésszám | H1: Flotta - új személygépjármû - darabszám | I1: Flotta - használt személygépjármû - darabszám | J1: Refinanszírozott flotta - használt - darabszám | K1: Refinanszírozott flotta - új - darabszám | L1: Flotta - csak kezelt - új személygépjármû darabszám | M1: Flotta - csak kezelt - használt személygépjármû - darabszám | N1: Retail - személygépjármû - hitel - darabszám | O1: Retail - személygépjármû - zárt végû pénzügyi lízing - darabszám | P1: Retail - személygépjármû - nyílt végû pénzügyi lízing - darabszám | Q1: Flotta - személygépjármû - hitel - darabszám | R1: Flotta -személygépjármû - zárt végû pénzügyi lízing - darabszám | S1: Flotta - személygépjármû - nyílt végû pénzügyi lízing - darabszám | T1: Flotta -személygépjármû - operatív lízing - darabszám | U1: Új busz - hitel - szerzõdések száma | V1: Új busz - pénzügyi lízing - szerzõdések száma | W1: Új busz - operatív lízing - szerzõdések száma | X1: Használt busz - hitel - szerzõdések száma | Y1: Használt busz - pénzügyi lízing - szerzõdések száma | Z1: Használt busz - operatív lízing - szerzõdések száma | AA1: Új teherautó - hitel - szerzõdések száma | AB1: Új teherautó - pénzügyi lízing - szerzõdések száma | AC1: Új teherautó - operatív lízing - szerzõdések száma | AD1: Használt teherautó - hitel - szerzõdések száma | AE1: Használt teherautó - pénzügyi lízing - szerzõdések száma | AF1: Használt teherautó - operatív lízing - szerzõdések száma | AG1: Új mezõgazdasági gép - szerzõdés szám | AH1: Használt mezõgazdasági gép - szerzõdés szám | AI1: Új építõipari gép - szerzõdés szám | AJ1: Használt építõipari gép - szerzõdés szám | AK1: Új IT, szoftver, irodagép - szerzõdés szám | AL1: Használt IT, szoftver, irodagép - szerzõdés szám | AM1: Új egyéb gép - szerzõdés szám | AN1: Használt egyéb gép - szerzõdés szám | AO1: Mezõgazdasági gép - hitel - szerzõdés szám | AP1: Mezõgazdasági gép - pénzügyi lízing - szerzõdés szám | AQ1: Mezõgazdasági gép - operatív lízing - szerzõdés szám | AR1: Építõipari gép - hitel lízing - szerzõdés szám | AS1: Építõipari gép - pénzügyi lízing - szerzõdés szám | AT1: Építõipari gép - operatív lízing - szerzõdés szám | AU1: IT, szoftver, irodagép - hitel - szerzõdés szám | AV1: IT, szoftver, irodagép - pénzügyi lízing - szerzõdés szám | AW1: IT, szoftver, irodagép - operatív lízing - szerzõdés szám | AX1: Egyép gép - hitel - szerzõdés szám | AY1: Egyép gép - pénzügyi lízing - szerzõdés szám | AZ1: Egyép gép - operatív lízing - szerzõdés szám | BA1: Lakossági - lakás - hitel - szerzõdés szám | BB1: Lakossági - lakás - pénzügyi lízing - szerzõdés szám | BC1: Lakossági - nem lakás - hitel - szerzõdésszám | BD1: Lakossági - nem lakás - pénzügyi lízing - szerzõdésszám | BE1: Vállalati - lakás - hitel - szerzõdésszám | BF1: Vállalati - lakás - pénzügyi lízing - szerzõdésszám | BG1: Vállalati - lakás - operatív lízing - szerzõdésszám | BH1: Vállalati - nem lakás - hitel - szerzõdésszám | BI1: Vállalati - nem lakás - pénzügyi lízing - szerzõdésszám | BJ1: Vállalati - nem lakás - operatív lízing - szerzõdésszám | BK1: Vasút, hajó, repülõ - szerzõdés szám | BL1: Egyéb eszköz - szerzõdés szám | BN1: Retail | BO1: Motor | BP1: Flotta | BQ1: Refi flotta | BR1: Busz | BS1: Truck | BT1: Mezőgép | BU1: Építőgép | BV1: IT | BW1: Egyéb | BX1: Lakás | BY1: Ingatlan | BZ1: Vasút, egyéb | CB1: Autó | CC1: Truck | CD1: Gép | CE1: Ingatlan | CF1: Vasút | CG1: Összesen | CI1: Retail új autó | CJ1: Retail használt autó | CK1: Retail magánszemély | CL1: Retail jogi személy
A2: =Szerződésszám!A2 -> Ober Pénzügyi Lízing Zrt. | B2: =IF(Szerződésszám!B2>0,_xlfn.RANK.EQ(Szerződésszám!B2,Szerződésszám!B$2:B$34),"") | C2: =IF(Szerződésszám!C2>0,_xlfn.RANK.EQ(Szerződésszám!C2,Szerződésszám!C$2:C$34),"") | D2: =IF(Szerződésszám!D2>0,_xlfn.RANK.EQ(Szerződésszám!D2,Szerződésszám!D$2:D$34),"") | E2: =IF(Szerződésszám!E2>0,_xlfn.RANK.EQ(Szerződésszám!E2,Szerződésszám!E$2:E$34),"") | F2: =IF(Szerződésszám!F2>0,_xlfn.RANK.EQ(Szerződésszám!F2,Szerződésszám!F$2:F$34),"") | G2: =IF(Szerződésszám!G2>0,_xlfn.RANK.EQ(Szerződésszám!G2,Szerződésszám!G$2:G$34),"") | H2: =IF(Szerződésszám!H2>0,_xlfn.RANK.EQ(Szerződésszám!H2,Szerződésszám!H$2:H$34),"") -> 8 | I2: =IF(Szerződésszám!I2>0,_xlfn.RANK.EQ(Szerződésszám!I2,Szerződésszám!I$2:I$34),"") -> 2 | ... CL2: =IF(Szerződésszám!CL2>0,_xlfn.RANK.EQ(Szerződésszám!CL2,Szerződésszám!CL$2:CL$34),"")
A3: =Szerződésszám!A3 -> CIB Lízing Csoport | B3: =IF(Szerződésszám!B3>0,_xlfn.RANK.EQ(Szerződésszám!B3,Szerződésszám!B$2:B$34),"") -> 6 | C3: =IF(Szerződésszám!C3>0,_xlfn.RANK.EQ(Szerződésszám!C3,Szerződésszám!C$2:C$34),"") -> 6 | D3: =IF(Szerződésszám!D3>0,_xlfn.RANK.EQ(Szerződésszám!D3,Szerződésszám!D$2:D$34),"") -> 5 | E3: =IF(Szerződésszám!E3>0,_xlfn.RANK.EQ(Szerződésszám!E3,Szerződésszám!E$2:E$34),"") -> 4 | F3: =IF(Szerződésszám!F3>0,_xlfn.RANK.EQ(Szerződésszám!F3,Szerződésszám!F$2:F$34),"") | G3: =IF(Szerződésszám!G3>0,_xlfn.RANK.EQ(Szerződésszám!G3,Szerződésszám!G$2:G$34),"") | H3: =IF(Szerződésszám!H3>0,_xlfn.RANK.EQ(Szerződésszám!H3,Szerződésszám!H$2:H$34),"") -> 11 | I3: =IF(Szerződésszám!I3>0,_xlfn.RANK.EQ(Szerződésszám!I3,Szerződésszám!I$2:I$34),"") -> 5 | ... CL3: =IF(Szerződésszám!CL3>0,_xlfn.RANK.EQ(Szerződésszám!CL3,Szerződésszám!CL$2:CL$34),"") -> 5
A4: =Szerződésszám!A4 -> ARVAL Magyarország Jármûparkkezelõ Kft. | B4: =IF(Szerződésszám!B4>0,_xlfn.RANK.EQ(Szerződésszám!B4,Szerződésszám!B$2:B$34),"") | C4: =IF(Szerződésszám!C4>0,_xlfn.RANK.EQ(Szerződésszám!C4,Szerződésszám!C$2:C$34),"") | D4: =IF(Szerződésszám!D4>0,_xlfn.RANK.EQ(Szerződésszám!D4,Szerződésszám!D$2:D$34),"") | E4: =IF(Szerződésszám!E4>0,_xlfn.RANK.EQ(Szerződésszám!E4,Szerződésszám!E$2:E$34),"") | F4: =IF(Szerződésszám!F4>0,_xlfn.RANK.EQ(Szerződésszám!F4,Szerződésszám!F$2:F$34),"") | G4: =IF(Szerződésszám!G4>0,_xlfn.RANK.EQ(Szerződésszám!G4,Szerződésszám!G$2:G$34),"") | H4: =IF(Szerződésszám!H4>0,_xlfn.RANK.EQ(Szerződésszám!H4,Szerződésszám!H$2:H$34),"") -> 5 | I4: =IF(Szerződésszám!I4>0,_xlfn.RANK.EQ(Szerződésszám!I4,Szerződésszám!I$2:I$34),"") | ... CL4: =IF(Szerződésszám!CL4>0,_xlfn.RANK.EQ(Szerződésszám!CL4,Szerződésszám!CL$2:CL$34),"")
A5: =Szerződésszám!A5 -> Raiffeisen Corporate Lízing Zrt. | B5: =IF(Szerződésszám!B5>0,_xlfn.RANK.EQ(Szerződésszám!B5,Szerződésszám!B$2:B$34),"") | C5: =IF(Szerződésszám!C5>0,_xlfn.RANK.EQ(Szerződésszám!C5,Szerződésszám!C$2:C$34),"") -> 7 | D5: =IF(Szerződésszám!D5>0,_xlfn.RANK.EQ(Szerződésszám!D5,Szerződésszám!D$2:D$34),"") | E5: =IF(Szerződésszám!E5>0,_xlfn.RANK.EQ(Szerződésszám!E5,Szerződésszám!E$2:E$34),"") -> 8 | F5: =IF(Szerződésszám!F5>0,_xlfn.RANK.EQ(Szerződésszám!F5,Szerződésszám!F$2:F$34),"") -> 4 | G5: =IF(Szerződésszám!G5>0,_xlfn.RANK.EQ(Szerződésszám!G5,Szerződésszám!G$2:G$34),"") | H5: =IF(Szerződésszám!H5>0,_xlfn.RANK.EQ(Szerződésszám!H5,Szerződésszám!H$2:H$34),"") | I5: =IF(Szerződésszám!I5>0,_xlfn.RANK.EQ(Szerződésszám!I5,Szerződésszám!I$2:I$34),"") | ... CL5: =IF(Szerződésszám!CL5>0,_xlfn.RANK.EQ(Szerződésszám!CL5,Szerződésszám!CL$2:CL$34),"") -> 7
A6: =Szerződésszám!A6 -> Lombard Lízing Csoport | B6: =IF(Szerződésszám!B6>0,_xlfn.RANK.EQ(Szerződésszám!B6,Szerződésszám!B$2:B$34),"") | C6: =IF(Szerződésszám!C6>0,_xlfn.RANK.EQ(Szerződésszám!C6,Szerződésszám!C$2:C$34),"") | D6: =IF(Szerződésszám!D6>0,_xlfn.RANK.EQ(Szerződésszám!D6,Szerződésszám!D$2:D$34),"") | E6: =IF(Szerződésszám!E6>0,_xlfn.RANK.EQ(Szerződésszám!E6,Szerződésszám!E$2:E$34),"") | F6: =IF(Szerződésszám!F6>0,_xlfn.RANK.EQ(Szerződésszám!F6,Szerződésszám!F$2:F$34),"") | G6: =IF(Szerződésszám!G6>0,_xlfn.RANK.EQ(Szerződésszám!G6,Szerződésszám!G$2:G$34),"") | H6: =IF(Szerződésszám!H6>0,_xlfn.RANK.EQ(Szerződésszám!H6,Szerződésszám!H$2:H$34),"") | I6: =IF(Szerződésszám!I6>0,_xlfn.RANK.EQ(Szerződésszám!I6,Szerződésszám!I$2:I$34),"") | ... CL6: =IF(Szerződésszám!CL6>0,_xlfn.RANK.EQ(Szerződésszám!CL6,Szerződésszám!CL$2:CL$34),"")
A7: =Szerződésszám!A7 -> ALD Automotive Magyarország Kft. | B7: =IF(Szerződésszám!B7>0,_xlfn.RANK.EQ(Szerződésszám!B7,Szerződésszám!B$2:B$34),"") | C7: =IF(Szerződésszám!C7>0,_xlfn.RANK.EQ(Szerződésszám!C7,Szerződésszám!C$2:C$34),"") | D7: =IF(Szerződésszám!D7>0,_xlfn.RANK.EQ(Szerződésszám!D7,Szerződésszám!D$2:D$34),"") | E7: =IF(Szerződésszám!E7>0,_xlfn.RANK.EQ(Szerződésszám!E7,Szerződésszám!E$2:E$34),"") | F7: =IF(Szerződésszám!F7>0,_xlfn.RANK.EQ(Szerződésszám!F7,Szerződésszám!F$2:F$34),"") | G7: =IF(Szerződésszám!G7>0,_xlfn.RANK.EQ(Szerződésszám!G7,Szerződésszám!G$2:G$34),"") | H7: =IF(Szerződésszám!H7>0,_xlfn.RANK.EQ(Szerződésszám!H7,Szerződésszám!H$2:H$34),"") -> 3 | I7: =IF(Szerződésszám!I7>0,_xlfn.RANK.EQ(Szerződésszám!I7,Szerződésszám!I$2:I$34),"") | ... CL7: =IF(Szerződésszám!CL7>0,_xlfn.RANK.EQ(Szerződésszám!CL7,Szerződésszám!CL$2:CL$34),"")
A8: =Szerződésszám!A8 -> OTP Ingatlanlízing Zrt. | B8: =IF(Szerződésszám!B8>0,_xlfn.RANK.EQ(Szerződésszám!B8,Szerződésszám!B$2:B$34),"") | C8: =IF(Szerződésszám!C8>0,_xlfn.RANK.EQ(Szerződésszám!C8,Szerződésszám!C$2:C$34),"") | D8: =IF(Szerződésszám!D8>0,_xlfn.RANK.EQ(Szerződésszám!D8,Szerződésszám!D$2:D$34),"") | E8: =IF(Szerződésszám!E8>0,_xlfn.RANK.EQ(Szerződésszám!E8,Szerződésszám!E$2:E$34),"") | F8: =IF(Szerződésszám!F8>0,_xlfn.RANK.EQ(Szerződésszám!F8,Szerződésszám!F$2:F$34),"") | G8: =IF(Szerződésszám!G8>0,_xlfn.RANK.EQ(Szerződésszám!G8,Szerződésszám!G$2:G$34),"") | H8: =IF(Szerződésszám!H8>0,_xlfn.RANK.EQ(Szerződésszám!H8,Szerződésszám!H$2:H$34),"") | I8: =IF(Szerződésszám!I8>0,_xlfn.RANK.EQ(Szerződésszám!I8,Szerződésszám!I$2:I$34),"") | ... CL8: =IF(Szerződésszám!CL8>0,_xlfn.RANK.EQ(Szerződésszám!CL8,Szerződésszám!CL$2:CL$34),"")
A9: =Szerződésszám!A9 -> Cofidis | B9: =IF(Szerződésszám!B9>0,_xlfn.RANK.EQ(Szerződésszám!B9,Szerződésszám!B$2:B$34),"") -> 7 | C9: =IF(Szerződésszám!C9>0,_xlfn.RANK.EQ(Szerződésszám!C9,Szerződésszám!C$2:C$34),"") -> 15 | D9: =IF(Szerződésszám!D9>0,_xlfn.RANK.EQ(Szerződésszám!D9,Szerződésszám!D$2:D$34),"") -> 2 | E9: =IF(Szerződésszám!E9>0,_xlfn.RANK.EQ(Szerződésszám!E9,Szerződésszám!E$2:E$34),"") -> 6 | F9: =IF(Szerződésszám!F9>0,_xlfn.RANK.EQ(Szerződésszám!F9,Szerződésszám!F$2:F$34),"") -> 3 | G9: =IF(Szerződésszám!G9>0,_xlfn.RANK.EQ(Szerződésszám!G9,Szerződésszám!G$2:G$34),"") -> 3 | H9: =IF(Szerződésszám!H9>0,_xlfn.RANK.EQ(Szerződésszám!H9,Szerződésszám!H$2:H$34),"") | I9: =IF(Szerződésszám!I9>0,_xlfn.RANK.EQ(Szerződésszám!I9,Szerződésszám!I$2:I$34),"") | ... CL9: =IF(Szerződésszám!CL9>0,_xlfn.RANK.EQ(Szerződésszám!CL9,Szerződésszám!CL$2:CL$34),"") -> 10
A10: =Szerződésszám!A10 -> UniCredit Leasing csoport | B10: =IF(Szerződésszám!B10>0,_xlfn.RANK.EQ(Szerződésszám!B10,Szerződésszám!B$2:B$34),"") -> 2 | C10: =IF(Szerződésszám!C10>0,_xlfn.RANK.EQ(Szerződésszám!C10,Szerződésszám!C$2:C$34),"") -> 4 | D10: =IF(Szerződésszám!D10>0,_xlfn.RANK.EQ(Szerződésszám!D10,Szerződésszám!D$2:D$34),"") -> 7 | E10: =IF(Szerződésszám!E10>0,_xlfn.RANK.EQ(Szerződésszám!E10,Szerződésszám!E$2:E$34),"") -> 5 | F10: =IF(Szerződésszám!F10>0,_xlfn.RANK.EQ(Szerződésszám!F10,Szerződésszám!F$2:F$34),"") | G10: =IF(Szerződésszám!G10>0,_xlfn.RANK.EQ(Szerződésszám!G10,Szerződésszám!G$2:G$34),"") | H10: =IF(Szerződésszám!H10>0,_xlfn.RANK.EQ(Szerződésszám!H10,Szerződésszám!H$2:H$34),"") -> 10 | I10: =IF(Szerződésszám!I10>0,_xlfn.RANK.EQ(Szerződésszám!I10,Szerződésszám!I$2:I$34),"") -> 6 | ... CL10: =IF(Szerződésszám!CL10>0,_xlfn.RANK.EQ(Szerződésszám!CL10,Szerződésszám!CL$2:CL$34),"") -> 4
A11: =Szerződésszám!A11 -> Erste Leasing Cégcsoport | B11: =IF(Szerződésszám!B11>0,_xlfn.RANK.EQ(Szerződésszám!B11,Szerződésszám!B$2:B$34),"") | C11: =IF(Szerződésszám!C11>0,_xlfn.RANK.EQ(Szerződésszám!C11,Szerződésszám!C$2:C$34),"") -> 8 | D11: =IF(Szerződésszám!D11>0,_xlfn.RANK.EQ(Szerződésszám!D11,Szerződésszám!D$2:D$34),"") | E11: =IF(Szerződésszám!E11>0,_xlfn.RANK.EQ(Szerződésszám!E11,Szerződésszám!E$2:E$34),"") -> 8 | F11: =IF(Szerződésszám!F11>0,_xlfn.RANK.EQ(Szerződésszám!F11,Szerződésszám!F$2:F$34),"") | G11: =IF(Szerződésszám!G11>0,_xlfn.RANK.EQ(Szerződésszám!G11,Szerződésszám!G$2:G$34),"") | H11: =IF(Szerződésszám!H11>0,_xlfn.RANK.EQ(Szerződésszám!H11,Szerződésszám!H$2:H$34),"") | I11: =IF(Szerződésszám!I11>0,_xlfn.RANK.EQ(Szerződésszám!I11,Szerződésszám!I$2:I$34),"") | ... CL11: =IF(Szerződésszám!CL11>0,_xlfn.RANK.EQ(Szerződésszám!CL11,Szerződésszám!CL$2:CL$34),"") -> 8
A12: =Szerződésszám!A12 -> Budapest Bank Zrt., Budapest Lízing Zrt. | B12: =IF(Szerződésszám!B12>0,_xlfn.RANK.EQ(Szerződésszám!B12,Szerződésszám!B$2:B$34),"") -> 3 | C12: =IF(Szerződésszám!C12>0,_xlfn.RANK.EQ(Szerződésszám!C12,Szerződésszám!C$2:C$34),"") -> 3 | D12: =IF(Szerződésszám!D12>0,_xlfn.RANK.EQ(Szerződésszám!D12,Szerződésszám!D$2:D$34),"") -> 3 | E12: =IF(Szerződésszám!E12>0,_xlfn.RANK.EQ(Szerződésszám!E12,Szerződésszám!E$2:E$34),"") -> 3 | F12: =IF(Szerződésszám!F12>0,_xlfn.RANK.EQ(Szerződésszám!F12,Szerződésszám!F$2:F$34),"") | G12: =IF(Szerződésszám!G12>0,_xlfn.RANK.EQ(Szerződésszám!G12,Szerződésszám!G$2:G$34),"") | H12: =IF(Szerződésszám!H12>0,_xlfn.RANK.EQ(Szerződésszám!H12,Szerződésszám!H$2:H$34),"") | I12: =IF(Szerződésszám!I12>0,_xlfn.RANK.EQ(Szerződésszám!I12,Szerződésszám!I$2:I$34),"") | ... CL12: =IF(Szerződésszám!CL12>0,_xlfn.RANK.EQ(Szerződésszám!CL12,Szerződésszám!CL$2:CL$34),"") -> 3
A13: =Szerződésszám!A13 -> Régió Holding Kft. | B13: =IF(Szerződésszám!B13>0,_xlfn.RANK.EQ(Szerződésszám!B13,Szerződésszám!B$2:B$34),"") | C13: =IF(Szerződésszám!C13>0,_xlfn.RANK.EQ(Szerződésszám!C13,Szerződésszám!C$2:C$34),"") -> 14 | D13: =IF(Szerződésszám!D13>0,_xlfn.RANK.EQ(Szerződésszám!D13,Szerződésszám!D$2:D$34),"") | E13: =IF(Szerződésszám!E13>0,_xlfn.RANK.EQ(Szerződésszám!E13,Szerződésszám!E$2:E$34),"") -> 13 | F13: =IF(Szerződésszám!F13>0,_xlfn.RANK.EQ(Szerződésszám!F13,Szerződésszám!F$2:F$34),"") | G13: =IF(Szerződésszám!G13>0,_xlfn.RANK.EQ(Szerződésszám!G13,Szerződésszám!G$2:G$34),"") | H13: =IF(Szerződésszám!H13>0,_xlfn.RANK.EQ(Szerződésszám!H13,Szerződésszám!H$2:H$34),"") | I13: =IF(Szerződésszám!I13>0,_xlfn.RANK.EQ(Szerződésszám!I13,Szerződésszám!I$2:I$34),"") | ... CL13: =IF(Szerződésszám!CL13>0,_xlfn.RANK.EQ(Szerződésszám!CL13,Szerződésszám!CL$2:CL$34),"") -> 14
... A34: =Szerződésszám!A34 -> 0 | B34: =IF(Szerződésszám!B34>0,_xlfn.RANK.EQ(Szerződésszám!B34,Szerződésszám!B$2:B$34),"") | C34: =IF(Szerződésszám!C34>0,_xlfn.RANK.EQ(Szerződésszám!C34,Szerződésszám!C$2:C$34),"") | D34: =IF(Szerződésszám!D34>0,_xlfn.RANK.EQ(Szerződésszám!D34,Szerződésszám!D$2:D$34),"") | E34: =IF(Szerződésszám!E34>0,_xlfn.RANK.EQ(Szerződésszám!E34,Szerződésszám!E$2:E$34),"") | F34: =IF(Szerződésszám!F34>0,_xlfn.RANK.EQ(Szerződésszám!F34,Szerződésszám!F$2:F$34),"") | G34: =IF(Szerződésszám!G34>0,_xlfn.RANK.EQ(Szerződésszám!G34,Szerződésszám!G$2:G$34),"") | H34: =IF(Szerződésszám!H34>0,_xlfn.RANK.EQ(Szerződésszám!H34,Szerződésszám!H$2:H$34),"") | I34: =IF(Szerződésszám!I34>0,_xlfn.RANK.EQ(Szerződésszám!I34,Szerződésszám!I$2:I$34),"") | ... CL34: =IF(Szerződésszám!CL34>0,_xlfn.RANK.EQ(Szerződésszám!CL34,Szerződésszám!CL$2:CL$34),"")
A35: Összesen | B35: =Szerződésszám!B35 -> 15928 | C35: =Szerződésszám!C35 -> 17948 | D35: =Szerződésszám!D35 -> 17101 | E35: =Szerződésszám!E35 -> 6853 | F35: =Szerződésszám!F35 -> 444 | G35: =Szerződésszám!G35 -> 205 | H35: =Szerződésszám!H35 -> 15626 | I35: =Szerződésszám!I35 -> 439 | ... BL35: =Szerződésszám!BL35 -> 148 | BN35: =Szerződésszám!BN35 -> 57830 | BO35: =Szerződésszám!BO35 -> 649 | BP35: =Szerződésszám!BP35 -> 16065 | BQ35: =Szerződésszám!BQ35 -> 1795 | BR35: =Szerződésszám!BR35 -> 437 | BS35: =Szerződésszám!BS35 -> 7439 | BT35: =Szerződésszám!BT35 -> 4108 | BU35: =Szerződésszám!BU35 -> 1004 | ... CG35: =Szerződésszám!CG35 -> 92531 | CI35: =Szerződésszám!CI35 -> 33876 | CJ35: =Szerződésszám!CJ35 -> 23954 | CK35: =Szerződésszám!CK35 -> 33029 | CL35: =Szerződésszám!CL35 -> 24801
A37: adatszolgáltatók | B37: =COUNTIF(B1:B34,">0") -> 7 | C37: =COUNTIF(C1:C34,">0") -> 15 | D37: =COUNTIF(D1:D34,">0") -> 7 | E37: =COUNTIF(E1:E34,">0") -> 15 | F37: =COUNTIF(F1:F34,">0") -> 4 | G37: =COUNTIF(G1:G34,">0") -> 4 | H37: =COUNTIF(H1:H34,">0") -> 11 | I37: =COUNTIF(I1:I34,">0") -> 6 | ... BL37: =COUNTIF(BL1:BL34,">0") -> 3 | BN37: =COUNTIF(BN1:BN34,">0") -> 15 | BO37: =COUNTIF(BO1:BO34,">0") -> 5 | BP37: =COUNTIF(BP1:BP34,">0") -> 11 | BQ37: =COUNTIF(BQ1:BQ34,">0") -> 5 | BR37: =COUNTIF(BR1:BR34,">0") -> 10 | BS37: =COUNTIF(BS1:BS34,">0") -> 18 | BT37: =COUNTIF(BT1:BT34,">0") -> 14 | BU37: =COUNTIF(BU1:BU34,">0") -> 13 | ... CG37: =COUNTIF(CG1:CG34,">0") -> 28 | CI37: =COUNTIF(CI1:CI34,">0") -> 15 | CJ37: =COUNTIF(CJ1:CJ34,">0") -> 15 | CK37: =COUNTIF(CK1:CK34,">0") -> 7 | CL37: =COUNTIF(CL1:CL34,">0") -> 15
A38: adatszolgáltatók száma | B38: =IF(COUNTIF(B2:B34,">0")<5,"<5","ok") -> ok | C38: =IF(COUNTIF(C2:C34,">0")<5,"<5","ok") -> ok | D38: =IF(COUNTIF(D2:D34,">0")<5,"<5","ok") -> ok | E38: =IF(COUNTIF(E2:E34,">0")<5,"<5","ok") -> ok | F38: =IF(COUNTIF(F2:F34,">0")<5,"<5","ok") -> <5 | G38: =IF(COUNTIF(G2:G34,">0")<5,"<5","ok") -> <5 | H38: =IF(COUNTIF(H2:H34,">0")<5,"<5","ok") -> ok | I38: =IF(COUNTIF(I2:I34,">0")<5,"<5","ok") -> ok | ... BL38: =IF(COUNTIF(BL2:BL34,">0")<5,"<5","ok") -> <5 | BN38: =IF(COUNTIF(BN2:BN34,">0")<5,"<5","ok") -> ok | BO38: =IF(COUNTIF(BO2:BO34,">0")<5,"<5","ok") -> ok | BP38: =IF(COUNTIF(BP2:BP34,">0")<5,"<5","ok") -> ok | BQ38: =IF(COUNTIF(BQ2:BQ34,">0")<5,"<5","ok") -> ok | BR38: =IF(COUNTIF(BR2:BR34,">0")<5,"<5","ok") -> ok | BS38: =IF(COUNTIF(BS2:BS34,">0")<5,"<5","ok") -> ok | BT38: =IF(COUNTIF(BT2:BT34,">0")<5,"<5","ok") -> ok | BU38: =IF(COUNTIF(BU2:BU34,">0")<5,"<5","ok") -> ok | ... CG38: =IF(COUNTIF(CG2:CG34,">0")<5,"<5","ok") -> ok | CI38: =IF(COUNTIF(CI2:CI34,">0")<5,"<5","ok") -> ok | CJ38: =IF(COUNTIF(CJ2:CJ34,">0")<5,"<5","ok") -> ok | CK38: =IF(COUNTIF(CK2:CK34,">0")<5,"<5","ok") -> ok | CL38: =IF(COUNTIF(CL2:CL34,">0")<5,"<5","ok") -> ok

Sheet Szerződésszám
B1: Retail - új személygépjármû - magánszemély - darabszám | C1: Retail - új személygépjármû - jogi személy - darabszám | D1: Retail - használt személygépjármû - magánszemély - darabszám | E1: Retail - használt személygépjármû - jogi személy - darabszám | F1: Motor - új - szerzõdésszám | G1: Motor - használt - szerzõdésszám | H1: Flotta - új személygépjármû - darabszám | I1: Flotta - használt személygépjármû - darabszám | J1: Refinanszírozott flotta - használt - darabszám | K1: Refinanszírozott flotta - új - darabszám | L1: Flotta - csak kezelt - új személygépjármû darabszám | M1: Flotta - csak kezelt - használt személygépjármû - darabszám | N1: Retail - személygépjármû - hitel - darabszám | O1: Retail - személygépjármû - zárt végû pénzügyi lízing - darabszám | P1: Retail - személygépjármû - nyílt végû pénzügyi lízing - darabszám | Q1: Flotta - személygépjármû - hitel - darabszám | R1: Flotta -személygépjármû - zárt végû pénzügyi lízing - darabszám | S1: Flotta - személygépjármû - nyílt végû pénzügyi lízing - darabszám | T1: Flotta -személygépjármû - operatív lízing - darabszám | U1: Új busz - hitel - szerzõdések száma | V1: Új busz - pénzügyi lízing - szerzõdések száma | W1: Új busz - operatív lízing - szerzõdések száma | X1: Használt busz - hitel - szerzõdések száma | Y1: Használt busz - pénzügyi lízing - szerzõdések száma | Z1: Használt busz - operatív lízing - szerzõdések száma | AA1: Új teherautó - hitel - szerzõdések száma | AB1: Új teherautó - pénzügyi lízing - szerzõdések száma | AC1: Új teherautó - operatív lízing - szerzõdések száma | AD1: Használt teherautó - hitel - szerzõdések száma | AE1: Használt teherautó - pénzügyi lízing - szerzõdések száma | AF1: Használt teherautó - operatív lízing - szerzõdések száma | AG1: Új mezõgazdasági gép - szerzõdés szám | AH1: Használt mezõgazdasági gép - szerzõdés szám | AI1: Új építõipari gép - szerzõdés szám | AJ1: Használt építõipari gép - szerzõdés szám | AK1: Új IT, szoftver, irodagép - szerzõdés szám | AL1: Használt IT, szoftver, irodagép - szerzõdés szám | AM1: Új egyéb gép - szerzõdés szám | AN1: Használt egyéb gép - szerzõdés szám | AO1: Mezõgazdasági gép - hitel - szerzõdés szám | AP1: Mezõgazdasági gép - pénzügyi lízing - szerzõdés szám | AQ1: Mezõgazdasági gép - operatív lízing - szerzõdés szám | AR1: Építõipari gép - hitel lízing - szerzõdés szám | AS1: Építõipari gép - pénzügyi lízing - szerzõdés szám | AT1: Építõipari gép - operatív lízing - szerzõdés szám | AU1: IT, szoftver, irodagép - hitel - szerzõdés szám | AV1: IT, szoftver, irodagép - pénzügyi lízing - szerzõdés szám | AW1: IT, szoftver, irodagép - operatív lízing - szerzõdés szám | AX1: Egyép gép - hitel - szerzõdés szám | AY1: Egyép gép - pénzügyi lízing - szerzõdés szám | AZ1: Egyép gép - operatív lízing - szerzõdés szám | BA1: Lakossági - lakás - hitel - szerzõdés szám | BB1: Lakossági - lakás - pénzügyi lízing - szerzõdés szám | BC1: Lakossági - nem lakás - hitel - szerzõdésszám | BD1: Lakossági - nem lakás - pénzügyi lízing - szerzõdésszám | BE1: Vállalati - lakás - hitel - szerzõdésszám | BF1: Vállalati - lakás - pénzügyi lízing - szerzõdésszám | BG1: Vállalati - lakás - operatív lízing - szerzõdésszám | BH1: Vállalati - nem lakás - hitel - szerzõdésszám | BI1: Vállalati - nem lakás - pénzügyi lízing - szerzõdésszám | BJ1: Vállalati - nem lakás - operatív lízing - szerzõdésszám | BK1: Vasút, hajó, repülõ - szerzõdés szám | BL1: Egyéb eszköz - szerzõdés szám | BN1: Retail | BO1: Motor | BP1: Flotta | BQ1: Refi flotta | BR1: Busz | BS1: Truck | BT1: Mezőgép | BU1: Építőgép | BV1: IT | BW1: Egyéb | BX1: Lakás | BY1: Ingatlan | BZ1: Vasút, egyéb | CB1: Autó | CC1: Truck | CD1: Gép | CE1: Ingatlan | CF1: Vasút | CG1: Összesen | CI1: Retail új autó | CJ1: Retail használt autó | CK1: Retail magánszemély | CL1: Retail jogi személy | DA1: ELLENŐRZÉSEK | DC1: retail | DD1: uh | DE1: konstr | DF1: flotta | DG1: uh | DH1: konstr | DI1: mg | DJ1: uh | DK1: konstr | DL1: építő | DM1: uh | DN1: konstr | DO1: it | DP1: uh | DQ1: konstr | DR1: egyéb gép | DS1: uh | DT1: konstr
A2: Ober Pénzügyi Lízing Zrt. | B2: 0 | C2: 0 | D2: 0 | E2: 0 | F2: 0 | G2: 0 | H2: 616 | I2: 121 | J2: 616 | K2: 121 | L2: 0 | M2: 0 | N2: 0 | O2: 0 | P2: 0 | Q2: 0 | R2: 0 | S2: 0 | T2: 0 | U2: 0 | V2: 0 | W2: 0 | X2: 0 | Y2: 0 | Z2: 0 | AA2: 4 | AB2: 837 | AC2: 6 | AD2: 0 | AE2: 162 | AF2: 2 | AG2: 152 | AH2: 15 | AI2: 79 | AJ2: 6 | AK2: 1 | AL2: 0 | AM2: 35 | AN2: 3 | AO2: 18 | AP2: 149 | AQ2: 0 | AR2: 9 | AS2: 73 | AT2: 3 | AU2: 0 | AV2: 0 | AW2: 0 | AX2: 0 | AY2: 0 | AZ2: 0 | BA2: 0 | BB2: 0 | BC2: 0 | BD2: 0 | BE2: 0 | BF2: 0 | BG2: 0 | BH2: 0 | BI2: 0 | BJ2: 0 | BK2: 1 | BL2: 59 | BN2: =SUM(B2:E2) -> 0 | BO2: =SUM(F2:G2) -> 0 | BP2: =SUM(H2:I2) -> 737 | BQ2: =SUM(J2:K2) -> 737 | BR2: =SUM(U2:Z2) -> 0 | BS2: =SUM(AA2:AF2) -> 1011 | BT2: =SUM(AG2:AH2) -> 167 | BU2: =SUM(AI2:AJ2) -> 85 | BV2: =SUM(AK2:AL2) -> 1 | BW2: =SUM(AM2:AN2) -> 38 | BX2: =BA2+BB2+BE2+BF2+BG2 -> 0 | BY2: =BC2+BD2+BH2+BI2+BJ2 -> 0 | BZ2: =SUM(BK2:BL2) -> 60 | CB2: =SUM(BN2:BQ2) -> 1474 | CC2: =SUM(BR2:BS2) -> 1011 | CD2: =SUM(BT2:BW2) -> 291 | CE2: =SUM(BX2:BY2) -> 0 | CF2: =SUM(BZ2) -> 60 | CG2: =SUM(CB2:CF2) -> 2836 | CI2: =B2+C2 -> 0 | CJ2: =D2+E2 -> 0 | CK2: =B2+D2 -> 0 | CL2: =C2+E2 -> 0 | DC2: =IF(DD2-DE2=0, "ok",DD2-DE2) -> ok | DD2: =+B2+C2+D2+E2 -> 0 | DE2: =+N2+O2+P2 -> 0 | DF2: =IF(DG2-DH2=0, "ok",DG2-DH2) -> 737 | DG2: =+H2+I2 -> 737 | DH2: =+Q2+R2+S2+T2 -> 0 | DI2: =IF(DJ2-DK2=0, "ok",DJ2-DK2) -> ok | DJ2: =+AG2+AH2 -> 167 | DK2: =+AO2+AP2+AQ2 -> 167 | DL2: =IF(DM2-DN2=0, "ok",DM2-DN2) -> ok | DM2: =+AI2+AJ2 -> 85 | DN2: =+AS2+AT2+AR2 -> 85 | DO2: =IF(DP2-DQ2=0, "ok",DP2-DQ2) -> 1 | DP2: =+AK2+AL2 -> 1 | DQ2: =+AU2+AV2+AW2 -> 0 | DR2: =IF(DS2-DT2=0, "ok",DS2-DT2) -> 38 | DS2: =+AM2+AN2 -> 38 | DT2: =+AX2+AY2+AZ2 -> 0
A3: CIB Lízing Csoport | B3: 1126 | C3: 1174 | D3: 559 | E3: 376 | F3: 0 | G3: 0 | H3: 26 | I3: 9 | J3: 0 | K3: 0 | L3: 0 | M3: 0 | N3: 0 | O3: 2386 | P3: 849 | Q3: 0 | R3: 25 | S3: 10 | T3: 0 | U3: 0 | V3: 6 | W3: 0 | X3: 0 | Y3: 1 | Z3: 0 | AA3: 0 | AB3: 208 | AC3: 0 | AD3: 0 | AE3: 55 | AF3: 0 | AG3: 321 | AH3: 225 | AI3: 8 | AJ3: 4 | AK3: 9 | AL3: 0 | AM3: 71 | AN3: 18 | AO3: 22 | AP3: 524 | AQ3: 0 | AR3: 0 | AS3: 12 | AT3: 0 | AU3: 0 | AV3: 9 | AW3: 0 | AX3: 29 | AY3: 60 | AZ3: 0 | BA3: 0 | BB3: 0 | BC3: 0 | BD3: 0 | BE3: 0 | BF3: 0 | BG3: 0 | BH3: 0 | BI3: 0 | BJ3: 0 | BK3: 0 | BL3: 0 | BN3: =SUM(B3:E3) -> 3235 | BO3: =SUM(F3:G3) -> 0 | BP3: =SUM(H3:I3) -> 35 | BQ3: =SUM(J3:K3) -> 0 | BR3: =SUM(U3:Z3) -> 7 | BS3: =SUM(AA3:AF3) -> 263 | BT3: =SUM(AG3:AH3) -> 546 | BU3: =SUM(AI3:AJ3) -> 12 | BV3: =SUM(AK3:AL3) -> 9 | BW3: =SUM(AM3:AN3) -> 89 | BX3: =BA3+BB3+BE3+BF3+BG3 -> 0 | BY3: =BC3+BD3+BH3+BI3+BJ3 -> 0 | BZ3: =SUM(BK3:BL3) -> 0 | CB3: =SUM(BN3:BQ3) -> 3270 | CC3: =SUM(BR3:BS3) -> 270 | CD3: =SUM(BT3:BW3) -> 656 | CE3: =SUM(BX3:BY3) -> 0 | CF3: =SUM(BZ3) -> 0 | CG3: =SUM(CB3:CF3) -> 4196 | CI3: =B3+C3 -> 2300 | CJ3: =D3+E3 -> 935 | CK3: =B3+D3 -> 1685 | CL3: =C3+E3 -> 1550 | DC3: =IF(DD3-DE3=0, "ok",DD3-DE3) -> ok | DD3: =+B3+C3+D3+E3 -> 3235 | DE3: =+N3+O3+P3 -> 3235 | DF3: =IF(DG3-DH3=0, "ok",DG3-DH3) -> ok | DG3: =+H3+I3 -> 35 | DH3: =+Q3+R3+S3+T3 -> 35 | DI3: =IF(DJ3-DK3=0, "ok",DJ3-DK3) -> ok | DJ3: =+AG3+AH3 -> 546 | DK3: =+AO3+AP3+AQ3 -> 546 | DL3: =IF(DM3-DN3=0, "ok",DM3-DN3) -> ok | DM3: =+AI3+AJ3 -> 12 | DN3: =+AS3+AT3+AR3 -> 12 | DO3: =IF(DP3-DQ3=0, "ok",DP3-DQ3) -> ok | DP3: =+AK3+AL3 -> 9 | DQ3: =+AU3+AV3+AW3 -> 9 | DR3: =IF(DS3-DT3=0, "ok",DS3-DT3) -> ok | DS3: =+AM3+AN3 -> 89 | DT3: =+AX3+AY3+AZ3 -> 89
A4: ARVAL Magyarország Jármûparkkezelõ Kft. | B4: 0 | C4: 0 | D4: 0 | E4: 0 | F4: 0 | G4: 0 | H4: 1300 | I4: 0 | J4: 0 | K4: 0 | L4: 400 | M4: 0 | N4: 0 | O4: 0 | P4: 0 | Q4: 0 | R4: 0 | S4: 0 | T4: =+H4+I4 -> 1300 | U4: 0 | V4: 0 | W4: 0 | X4: 0 | Y4: 0 | Z4: 0 | AA4: 0 | AB4: 0 | AC4: 0 | AD4: 0 | AE4: 0 | AF4: 0 | AG4: 0 | AH4: 0 | AI4: 0 | AJ4: 0 | AK4: 0 | AL4: 0 | AM4: 0 | AN4: 0 | AO4: 0 | AP4: 0 | AQ4: 0 | AR4: 0 | AS4: 0 | AT4: 0 | AU4: 0 | AV4: 0 | AW4: 0 | AX4: 0 | AY4: 0 | AZ4: 0 | BA4: 0 | BB4: 0 | BC4: 0 | BD4: 0 | BE4: 0 | BF4: 0 | BG4: 0 | BH4: 0 | BI4: 0 | BJ4: 0 | BK4: 0 | BL4: 0 | BN4: =SUM(B4:E4) -> 0 | BO4: =SUM(F4:G4) -> 0 | BP4: =SUM(H4:I4) -> 1300 | BQ4: =SUM(J4:K4) -> 0 | BR4: =SUM(U4:Z4) -> 0 | BS4: =SUM(AA4:AF4) -> 0 | BT4: =SUM(AG4:AH4) -> 0 | BU4: =SUM(AI4:AJ4) -> 0 | BV4: =SUM(AK4:AL4) -> 0 | BW4: =SUM(AM4:AN4) -> 0 | BX4: =BA4+BB4+BE4+BF4+BG4 -> 0 | BY4: =BC4+BD4+BH4+BI4+BJ4 -> 0 | BZ4: =SUM(BK4:BL4) -> 0 | CB4: =SUM(BN4:BQ4) -> 1300 | CC4: =SUM(BR4:BS4) -> 0 | CD4: =SUM(BT4:BW4) -> 0 | CE4: =SUM(BX4:BY4) -> 0 | CF4: =SUM(BZ4) -> 0 | CG4: =SUM(CB4:CF4) -> 1300 | CI4: =B4+C4 -> 0 | CJ4: =D4+E4 -> 0 | CK4: =B4+D4 -> 0 | CL4: =C4+E4 -> 0 | DC4: =IF(DD4-DE4=0, "ok",DD4-DE4) -> ok | DD4: =+B4+C4+D4+E4 -> 0 | DE4: =+N4+O4+P4 -> 0 | DF4: =IF(DG4-DH4=0, "ok",DG4-DH4) -> ok | DG4: =+H4+I4 -> 1300 | DH4: =+Q4+R4+S4+T4 -> 1300 | DI4: =IF(DJ4-DK4=0, "ok",DJ4-DK4) -> ok | DJ4: =+AG4+AH4 -> 0 | DK4: =+AO4+AP4+AQ4 -> 0 | DL4: =IF(DM4-DN4=0, "ok",DM4-DN4) -> ok | DM4: =+AI4+AJ4 -> 0 | DN4: =+AS4+AT4+AR4 -> 0 | DO4: =IF(DP4-DQ4=0, "ok",DP4-DQ4) -> ok | DP4: =+AK4+AL4 -> 0 | DQ4: =+AU4+AV4+AW4 -> 0 | DR4: =IF(DS4-DT4=0, "ok",DS4-DT4) -> ok | DS4: =+AM4+AN4 -> 0 | DT4: =+AX4+AY4+AZ4 -> 0
A5: Raiffeisen Corporate Lízing Zrt. | B5: 0 | C5: 623 | D5: 0 | E5: 36 | F5: 1 | G5: 0 | H5: 0 | I5: 0 | J5: 0 | K5: 0 | L5: 0 | M5: 0 | N5: 0 | O5: 259 | P5: 400 | Q5: 0 | R5: 0 | S5: 0 | T5: 0 | U5: 0 | V5: 51 | W5: 0 | X5: 0 | Y5: 0 | Z5: 0 | AA5: 0 | AB5: 101 | AC5: 0 | AD5: 0 | AE5: 21 | AF5: 0 | AG5: 59 | AH5: 0 | AI5: 27 | AJ5: 12 | AK5: 0 | AL5: 0 | AM5: 28 | AN5: 0 | AO5: 0 | AP5: 59 | AQ5: 0 | AR5: 0 | AS5: 39 | AT5: 0 | AU5: 0 | AV5: 0 | AW5: 0 | AX5: 0 | AY5: 28 | AZ5: 0 | BA5: 0 | BB5: 0 | BC5: 0 | BD5: 0 | BE5: 0 | BF5: 0 | BG5: 0 | BH5: 0 | BI5: 0 | BJ5: 0 | BK5: 0 | BL5: 0 | BN5: =SUM(B5:E5) -> 659 | BO5: =SUM(F5:G5) -> 1 | BP5: =SUM(H5:I5) -> 0 | BQ5: =SUM(J5:K5) -> 0 | BR5: =SUM(U5:Z5) -> 51 | BS5: =SUM(AA5:AF5) -> 122 | BT5: =SUM(AG5:AH5) -> 59 | BU5: =SUM(AI5:AJ5) -> 39 | BV5: =SUM(AK5:AL5) -> 0 | BW5: =SUM(AM5:AN5) -> 28 | BX5: =BA5+BB5+BE5+BF5+BG5 -> 0 | BY5: =BC5+BD5+BH5+BI5+BJ5 -> 0 | BZ5: =SUM(BK5:BL5) -> 0 | CB5: =SUM(BN5:BQ5) -> 660 | CC5: =SUM(BR5:BS5) -> 173 | CD5: =SUM(BT5:BW5) -> 126 | CE5: =SUM(BX5:BY5) -> 0 | CF5: =SUM(BZ5) -> 0 | CG5: =SUM(CB5:CF5) -> 959 | CI5: =B5+C5 -> 623 | CJ5: =D5+E5 -> 36 | CK5: =B5+D5 -> 0 | CL5: =C5+E5 -> 659 | DC5: =IF(DD5-DE5=0, "ok",DD5-DE5) -> ok | DD5: =+B5+C5+D5+E5 -> 659 | DE5: =+N5+O5+P5 -> 659 | DF5: =IF(DG5-DH5=0, "ok",DG5-DH5) -> ok | DG5: =+H5+I5 -> 0 | DH5: =+Q5+R5+S5+T5 -> 0 | DI5: =IF(DJ5-DK5=0, "ok",DJ5-DK5) -> ok | DJ5: =+AG5+AH5 -> 59 | DK5: =+AO5+AP5+AQ5 -> 59 | DL5: =IF(DM5-DN5=0, "ok",DM5-DN5) -> ok | DM5: =+AI5+AJ5 -> 39 | DN5: =+AS5+AT5+AR5 -> 39 | DO5: =IF(DP5-DQ5=0, "ok",DP5-DQ5) -> ok | DP5: =+AK5+AL5 -> 0 | DQ5: =+AU5+AV5+AW5 -> 0 | DR5: =IF(DS5-DT5=0, "ok",DS5-DT5) -> ok | DS5: =+AM5+AN5 -> 28 | DT5: =+AX5+AY5+AZ5 -> 28
A6: Lombard Lízing Csoport | B6: 0 | C6: 0 | D6: 0 | E6: 0 | F6: 0 | G6: 0 | H6: 0 | I6: 0 | J6: 0 | K6: 0 | L6: 0 | M6: 0 | N6: 0 | O6: 0 | P6: 0 | Q6: 0 | R6: 0 | S6: 0 | T6: 0 | U6: 0 | V6: 0 | W6: 0 | X6: 0 | Y6: 0 | Z6: 0 | AA6: 0 | AB6: 0 | AC6: 0 | AD6: 0 | AE6: 0 | AF6: 0 | AG6: 0 | AH6: 0 | AI6: 0 | AJ6: 0 | AK6: 0 | AL6: 0 | AM6: 0 | AN6: 0 | AO6: 0 | AP6: 0 | AQ6: 0 | AR6: 0 | AS6: 0 | AT6: 0 | AU6: 0 | AV6: 0 | AW6: 0 | AX6: 0 | AY6: 0 | AZ6: 0 | BA6: 0 | BB6: 0 | BC6: 0 | BD6: 0 | BE6: 0 | BF6: 0 | BG6: 0 | BH6: 0 | BI6: 0 | BJ6: 0 | BK6: 0 | BL6: 0 | BN6: =SUM(B6:E6) -> 0 | BO6: =SUM(F6:G6) -> 0 | BP6: =SUM(H6:I6) -> 0 | BQ6: =SUM(J6:K6) -> 0 | BR6: =SUM(U6:Z6) -> 0 | BS6: =SUM(AA6:AF6) -> 0 | BT6: =SUM(AG6:AH6) -> 0 | BU6: =SUM(AI6:AJ6) -> 0 | BV6: =SUM(AK6:AL6) -> 0 | BW6: =SUM(AM6:AN6) -> 0 | BX6: =BA6+BB6+BE6+BF6+BG6 -> 0 | BY6: =BC6+BD6+BH6+BI6+BJ6 -> 0 | BZ6: =SUM(BK6:BL6) -> 0 | CB6: =SUM(BN6:BQ6) -> 0 | CC6: =SUM(BR6:BS6) -> 0 | CD6: =SUM(BT6:BW6) -> 0 | CE6: =SUM(BX6:BY6) -> 0 | CF6: =SUM(BZ6) -> 0 | CG6: =SUM(CB6:CF6) -> 0 | CI6: =B6+C6 -> 0 | CJ6: =D6+E6 -> 0 | CK6: =B6+D6 -> 0 | CL6: =C6+E6 -> 0 | DC6: =IF(DD6-DE6=0, "ok",DD6-DE6) -> ok | DD6: =+B6+C6+D6+E6 -> 0 | DE6: =+N6+O6+P6 -> 0 | DF6: =IF(DG6-DH6=0, "ok",DG6-DH6) -> ok | DG6: =+H6+I6 -> 0 | DH6: =+Q6+R6+S6+T6 -> 0 | DI6: =IF(DJ6-DK6=0, "ok",DJ6-DK6) -> ok | DJ6: =+AG6+AH6 -> 0 | DK6: =+AO6+AP6+AQ6 -> 0 | DL6: =IF(DM6-DN6=0, "ok",DM6-DN6) -> ok | DM6: =+AI6+AJ6 -> 0 | DN6: =+AS6+AT6+AR6 -> 0 | DO6: =IF(DP6-DQ6=0, "ok",DP6-DQ6) -> ok | DP6: =+AK6+AL6 -> 0 | DQ6: =+AU6+AV6+AW6 -> 0 | DR6: =IF(DS6-DT6=0, "ok",DS6-DT6) -> ok | DS6: =+AM6+AN6 -> 0 | DT6: =+AX6+AY6+AZ6 -> 0
A7: ALD Automotive Magyarország Kft. | B7: 0 | C7: 0 | D7: 0 | E7: 0 | F7: 0 | G7: 0 | H7: 3047 | I7: 0 | J7: 0 | K7: 0 | L7: 471 | M7: 0 | N7: 0 | O7: 0 | P7: 0 | Q7: 0 | R7: 0 | S7: 0 | T7: =+H7+I7 -> 3047 | U7: 0 | V7: 0 | W7: 0 | X7: 0 | Y7: 0 | Z7: 0 | AA7: 0 | AB7: 0 | AC7: 0 | AD7: 0 | AE7: 0 | AF7: 0 | AG7: 0 | AH7: 0 | AI7: 0 | AJ7: 0 | AK7: 0 | AL7: 0 | AM7: 0 | AN7: 0 | AO7: 0 | AP7: 0 | AQ7: 0 | AR7: 0 | AS7: 0 | AT7: 0 | AU7: 0 | AV7: 0 | AW7: 0 | AX7: 0 | AY7: 0 | AZ7: 0 | BA7: 0 | BB7: 0 | BC7: 0 | BD7: 0 | BE7: 0 | BF7: 0 | BG7: 0 | BH7: 0 | BI7: 0 | BJ7: 0 | BK7: 0 | BL7: 0 | BN7: =SUM(B7:E7) -> 0 | BO7: =SUM(F7:G7) -> 0 | BP7: =SUM(H7:I7) -> 3047 | BQ7: =SUM(J7:K7) -> 0 | BR7: =SUM(U7:Z7) -> 0 | BS7: =SUM(AA7:AF7) -> 0 | BT7: =SUM(AG7:AH7) -> 0 | BU7: =SUM(AI7:AJ7) -> 0 | BV7: =SUM(AK7:AL7) -> 0 | BW7: =SUM(AM7:AN7) -> 0 | BX7: =BA7+BB7+BE7+BF7+BG7 -> 0 | BY7: =BC7+BD7+BH7+BI7+BJ7 -> 0 | BZ7: =SUM(BK7:BL7) -> 0 | CB7: =SUM(BN7:BQ7) -> 3047 | CC7: =SUM(BR7:BS7) -> 0 | CD7: =SUM(BT7:BW7) -> 0 | CE7: =SUM(BX7:BY7) -> 0 | CF7: =SUM(BZ7) -> 0 | CG7: =SUM(CB7:CF7) -> 3047 | CI7: =B7+C7 -> 0 | CJ7: =D7+E7 -> 0 | CK7: =B7+D7 -> 0 | CL7: =C7+E7 -> 0 | DC7: =IF(DD7-DE7=0, "ok",DD7-DE7) -> ok | DD7: =+B7+C7+D7+E7 -> 0 | DE7: =+N7+O7+P7 -> 0 | DF7: =IF(DG7-DH7=0, "ok",DG7-DH7) -> ok | DG7: =+H7+I7 -> 3047 | DH7: =+Q7+R7+S7+T7 -> 3047 | DI7: =IF(DJ7-DK7=0, "ok",DJ7-DK7) -> ok | DJ7: =+AG7+AH7 -> 0 | DK7: =+AO7+AP7+AQ7 -> 0 | DL7: =IF(DM7-DN7=0, "ok",DM7-DN7) -> ok | DM7: =+AI7+AJ7 -> 0 | DN7: =+AS7+AT7+AR7 -> 0 | DO7: =IF(DP7-DQ7=0, "ok",DP7-DQ7) -> ok | DP7: =+AK7+AL7 -> 0 | DQ7: =+AU7+AV7+AW7 -> 0 | DR7: =IF(DS7-DT7=0, "ok",DS7-DT7) -> ok | DS7: =+AM7+AN7 -> 0 | DT7: =+AX7+AY7+AZ7 -> 0
A8: OTP Ingatlanlízing Zrt. | B8: 0 | C8: 0 | D8: 0 | E8: 0 | F8: 0 | G8: 0 | H8: 0 | I8: 0 | J8: 0 | K8: 0 | L8: 0 | M8: 0 | N8: 0 | O8: 0 | P8: 0 | Q8: 0 | R8: 0 | S8: 0 | T8: 0 | U8: 0 | V8: 0 | W8: 0 | X8: 0 | Y8: 0 | Z8: 0 | AA8: 0 | AB8: 0 | AC8: 0 | AD8: 0 | AE8: 0 | AF8: 0 | AG8: 0 | AH8: 0 | AI8: 0 | AJ8: 0 | AK8: 0 | AL8: 0 | AM8: 0 | AN8: 0 | AO8: 0 | AP8: 0 | AQ8: 0 | AR8: 0 | AS8: 0 | AT8: 0 | AU8: 0 | AV8: 0 | AW8: 0 | AX8: 0 | AY8: 0 | AZ8: 0 | BA8: 0 | BB8: 62 | BC8: 0 | BD8: 12 | BE8: 0 | BF8: 2 | BG8: 0 | BH8: 0 | BI8: 1 | BJ8: 0 | BK8: 0 | BL8: 0 | BN8: =SUM(B8:E8) -> 0 | BO8: =SUM(F8:G8) -> 0 | BP8: =SUM(H8:I8) -> 0 | BQ8: =SUM(J8:K8) -> 0 | BR8: =SUM(U8:Z8) -> 0 | BS8: =SUM(AA8:AF8) -> 0 | BT8: =SUM(AG8:AH8) -> 0 | BU8: =SUM(AI8:AJ8) -> 0 | BV8: =SUM(AK8:AL8) -> 0 | BW8: =SUM(AM8:AN8) -> 0 | BX8: =BA8+BB8+BE8+BF8+BG8 -> 64 | BY8: =BC8+BD8+BH8+BI8+BJ8 -> 13 | BZ8: =SUM(BK8:BL8) -> 0 | CB8: =SUM(BN8:BQ8) -> 0 | CC8: =SUM(BR8:BS8) -> 0 | CD8: =SUM(BT8:BW8) -> 0 | CE8: =SUM(BX8:BY8) -> 77 | CF8: =SUM(BZ8) -> 0 | CG8: =SUM(CB8:CF8) -> 77 | CI8: =B8+C8 -> 0 | CJ8: =D8+E8 -> 0 | CK8: =B8+D8 -> 0 | CL8: =C8+E8 -> 0 | DC8: =IF(DD8-DE8=0, "ok",DD8-DE8) -> ok | DD8: =+B8+C8+D8+E8 -> 0 | DE8: =+N8+O8+P8 -> 0 | DF8: =IF(DG8-DH8=0, "ok",DG8-DH8) -> ok | DG8: =+H8+I8 -> 0 | DH8: =+Q8+R8+S8+T8 -> 0 | DI8: =IF(DJ8-DK8=0, "ok",DJ8-DK8) -> ok | DJ8: =+AG8+AH8 -> 0 | DK8: =+AO8+AP8+AQ8 -> 0 | DL8: =IF(DM8-DN8=0, "ok",DM8-DN8) -> ok | DM8: =+AI8+AJ8 -> 0 | DN8: =+AS8+AT8+AR8 -> 0 | DO8: =IF(DP8-DQ8=0, "ok",DP8-DQ8) -> ok | DP8: =+AK8+AL8 -> 0 | DQ8: =+AU8+AV8+AW8 -> 0 | DR8: =IF(DS8-DT8=0, "ok",DS8-DT8) -> ok | DS8: =+AM8+AN8 -> 0 | DT8: =+AX8+AY8+AZ8 -> 0
A9: Cofidis | B9: 13 | C9: 2 | D9: 4265 | E9: 172 | F9: 3 | G9: 6 | H9: 0 | I9: 0 | J9: 0 | K9: 0 | L9: 0 | M9: 0 | N9: 0 | O9: 4452 | P9: 0 | Q9: 0 | R9: 0 | S9: 0 | T9: 0 | U9: 0 | V9: 0 | W9: 0 | X9: 0 | Y9: 0 | Z9: 0 | AA9: 0 | AB9: 0 | AC9: 0 | AD9: 0 | AE9: 0 | AF9: 0 | AG9: 0 | AH9: 0 | AI9: 0 | AJ9: 0 | AK9: 0 | AL9: 0 | AM9: 0 | AN9: 0 | AO9: 0 | AP9: 0 | AQ9: 0 | AR9: 0 | AS9: 0 | AT9: 0 | AU9: 0 | AV9: 0 | AW9: 0 | AX9: 0 | AY9: 0 | AZ9: 0 | BA9: 0 | BB9: 0 | BC9: 0 | BD9: 0 | BE9: 0 | BF9: 0 | BG9: 0 | BH9: 0 | BI9: 0 | BJ9: 0 | BK9: 0 | BL9: 1 | BN9: =SUM(B9:E9) -> 4452 | BO9: =SUM(F9:G9) -> 9 | BP9: =SUM(H9:I9) -> 0 | BQ9: =SUM(J9:K9) -> 0 | BR9: =SUM(U9:Z9) -> 0 | BS9: =SUM(AA9:AF9) -> 0 | BT9: =SUM(AG9:AH9) -> 0 | BU9: =SUM(AI9:AJ9) -> 0 | BV9: =SUM(AK9:AL9) -> 0 | BW9: =SUM(AM9:AN9) -> 0 | BX9: =BA9+BB9+BE9+BF9+BG9 -> 0 | BY9: =BC9+BD9+BH9+BI9+BJ9 -> 0 | BZ9: =SUM(BK9:BL9) -> 1 | CB9: =SUM(BN9:BQ9) -> 4461 | CC9: =SUM(BR9:BS9) -> 0 | CD9: =SUM(BT9:BW9) -> 0 | CE9: =SUM(BX9:BY9) -> 0 | CF9: =SUM(BZ9) -> 1 | CG9: =SUM(CB9:CF9) -> 4462 | CI9: =B9+C9 -> 15 | CJ9: =D9+E9 -> 4437 | CK9: =B9+D9 -> 4278 | CL9: =C9+E9 -> 174 | DC9: =IF(DD9-DE9=0, "ok",DD9-DE9) -> ok | DD9: =+B9+C9+D9+E9 -> 4452 | DE9: =+N9+O9+P9 -> 4452 | DF9: =IF(DG9-DH9=0, "ok",DG9-DH9) -> ok | DG9: =+H9+I9 -> 0 | DH9: =+Q9+R9+S9+T9 -> 0 | DI9: =IF(DJ9-DK9=0, "ok",DJ9-DK9) -> ok | DJ9: =+AG9+AH9 -> 0 | DK9: =+AO9+AP9+AQ9 -> 0 | DL9: =IF(DM9-DN9=0, "ok",DM9-DN9) -> ok | DM9: =+AI9+AJ9 -> 0 | DN9: =+AS9+AT9+AR9 -> 0 | DO9: =IF(DP9-DQ9=0, "ok",DP9-DQ9) -> ok | DP9: =+AK9+AL9 -> 0 | DQ9: =+AU9+AV9+AW9 -> 0 | DR9: =IF(DS9-DT9=0, "ok",DS9-DT9) -> ok | DS9: =+AM9+AN9 -> 0 | DT9: =+AX9+AY9+AZ9 -> 0
