Workbook

Sheet uj sablon rangsorok
A1: Sorszám | B1: Elnevezés | C1: Összesen | D1: adatszolgálttaók száma | E1: rendben? | F1: ALD | G1: Arval | H1: Budapest Lízing | I1: CIB Lízing | J1: Cofidis | K1: Deutsche Leasing | L1: DLL | M1: Erste | N1: KH | O1: Leaseplan | P1: Lombard | Q1: Merkantil | R1: MKB Euroleasing | S1: Oberlizing | T1: OTP | U1: Raiffeisen Lízing | V1: Regio | W1: SME Property Leasing | X1: Sociate Generale L | Y1: Takaréklízing | Z1: Unicredit Leasing | AA1: CITY Leasing | AB1: Scania becslés | AC1: VFS | AD1: PEAC | AE1: 0 | AF1: 0 | AG1: 0 | AH1: 0 | AI1: 0 | AK1: Új üzlet / Portfólió / Visszavett | AL1: Tábla | AM1: Eszköz kategória 1 | AN1: Eszköz kategória 2 | AO1: Eszköz kategória 3 (csak SZGK: Flotta, Retail, stb.) | AP1: Ügyfél besorolás | AQ1: Finanszírozás típusa | AR1: Új / Használt | AS1: Deviza | AT1: Futamidő (hónap) | AU1: EXIM Export / Verseny | BC1: Információ | BD1: Belsõ azonosító
A2: 1. | BC2: Kedves Kollégák, Változás! 2018. I. negyedévétõl az adatszolgáltatás megújult! Kérjük az új kérdõívnek, vagy az új sablonnak megfelelõen végezzétek a feltöltést! Javasoljuk a levélben kiküldött sablon tervezet felhasználását is, ahol ellenõrzéseket is lehet végezni. Az adatmezõk melletti definiciókat folyamatosan töltjük, javítjuk, ezért kérlek kérdés esetén használjátok a kiküldött sablon tervezetet is, ahol az egyes mezõk leírása és az összegzõ, ellenõrzõ mezõk is segítséget nyújthatnak. Az adatszolgáltatásra minden hónapban 3 hét áll rendelkezésre, az eredményeket az adattisztítás után, 1-1,5 héttel késõbb publikáljuk. | BD2: 185
A3: 2. | BC3: Statisztikai adatgyûjtés - Alapelvek Deviza vagy deviza-alapú szerzõdések esetén a forintösszegeket a finanszírozók saját számviteli politikájában meghatározott (át)értékelési módjának megfelelõen jelentik. A finanszírozott összeg illetve tõkekintlévõség értékek nem tartalmazzák a jutalék-elõfinanszírozáshoz, készletfinanszírozáshoz, visszavett eszközökhöz illetve fedezetlen követeléshez nyújtott kölcsönök összegeit. A bruttó eszközérték, finanszírozott összeg, szerzõdésszám értékek nem tartalmazzák az ugyanazon ügyféllel átstruktúrált, újrakötött, ezáltal jogilag újnak számító szerzõdések adatait. | BD3: 186
A4: 3. | BC4: Definíciók Jutalék-elõfinanszírozás: A kereskedõvel kötött együttmûködési szerzõdés részeként vagy annak kiegészítéseként megkötött megállapodás, mely szerint meghatározott forgalomvállalás esetén a kereskedõ a kialkudott kamatfeltételek mellett elõre egy összegben megkapja az idõszakra tervezett jutalékot. Készletfinanszírozás: A kereskedõk számára új gépjármûvek importõrtõl vagy más beszállítótól történõ beszerzésére, vagy a kereskedés tulajdonába került használt gépjármûvekre a gépjármû harmadik fél részére történõ továbbértékesítéséig történõ finanszírozása, annak típusától függetlenül. Fedezetlen követeléshez nyújtott kölcsön: A tervezett futamidõ elõtt lezárt/felmondott lízingszerzõdések elszámolását követõen fennmaradó tartozások rendezésére a lízingszerzõdés szerinti szerzõdõnek nyújtott áthidaló kölcsön. Bruttó eszközérték: A vonatkozó idõszakban a társaság által finanszírozott eszközök teljes - a beszerzés idõpontjában érvényes, általános forgalmi adót is tartalmazó ? értéke. Finanszírozott érték / Kihelyezés: A fenti alapelveknek megfelelõen, a vonatkozó idõszakban a finanszírozó és ügyfél közötti szerzõdésben kikötött, folyósításra került, az ügyfél által elismert tõkerész forintban kifejezett értéke. Tõkekintlévõség: A fenti alapelveknek megfelelõen, a jelentés fordulónapja után esedékessé váló, már folyósított, de még nem lejárt ügyféllel szembeni tõkekövetelések összege. Tipikusan nem tartoznak ide a fordulónap elõtti esedékességû, de még meg nem fizetett tõke-, kamat-, késedelmi kamat és áfa összegek. Ebben a kategóriában jelentendõ azonban a zártvégû pénzügyi lízing indulásakor kiszámlázott áfa összege akkor, ha azt az ügy indításakor a lízingbevevõ teljes egészében nem térítette meg a lízingbeadónak. Ide tartozik operatív lízing esetén az International Financial Reporting Strandards (IFRS) 17. sztenderdje szerint meghatározott nettó lízing befektetés, az induláskor közvetlenül felmerülõ költségek ( pl. jutalék, jogi költség) kivételével. Ha az adat nem áll rendelkezésre, akkor a tagvállalat Számviteli politikában meghatárzott értékcsökkenéssel számított nettó tárgyi eszköz értéket kell bemutatni a fordulónapra vonatkozóan. Szerzõdésszám: A vonatkozó idõszakban megkötött és folyósított új szerzõdések darabszáma. Állományra vonatkozó adatszolgáltatás esetén (portfolió méret) az idõszak végén fennálló, már folyósított élõ szerzõdések darabszáma. Eszköz kategóriák Személygépjármû: 3,5 tonna illetve az alatti összteherbírású személy- és kishaszonjármûvek, kivéve ahol az szgk vagy kishaszon megjelölés külön szerepel. Ebben az esetben csak a szûkített (szgk vagy kishaszon) állományt kell beírni. Motorkerékpár: egy nyomon haladó, kétkerekû motoros közlekedési eszköz. Flotta: A személygépjármûvek finanszírozási szerzõdésektõl független kategóriája, melyekhez minimálisan ? a casco biztosításra vonatkozó szolgáltatás kivételével ? legalább egy egyéb szolgáltatás kapcsolódik. Ebbe a kategóriába csak a saját kezelésben lévõ gépjármûvekre vonatkozó szerzõdések kerülnek. Refinanszírozott Flotta: A személygépjármûvek finanszírozási szerzõdésektõl független kategóriája, melyekhez minimálisan ? a casco biztosításra vonatkozó szolgáltatás kivételével ? legalább egy egyéb szolgáltatás kapcsolódik. Ebbe a kategóriába csak a nem saját kezelésben lévõ gépjármûvekre vonatkozó szerzõdések adatai kerülnek. Irányelvként szabályozott fogalom, a tagvállalatok flottafinanszírozásként a saját besorolási rendjüknek megfelelõen jelenthetnek. Flotta - csak kezelt: finanszírozási szolgáltatás nélkül az ügyfél tulajdonában maradó gépjármûvekhez nyújtott flotta kezelési szolgáltatásra kötött szerzõdések Tehergépjármû: 3,5 tonna feletti összteherbírású gépjármûvek. Busz: 18 fõnél nagyobb számú személyek szállítására alkalmas jármû Új gépjármû: Gyártástól számított maximum 12 hónapos újonnan forgalomba helyezett gépjármû. Mezõgazdasági gép: Mezõgazdasági erõ- és munkagépek Építõipari gép: Építõipari erõ- és munkagépek IT, szoftver, irodagép: Személyi számítógép, laptop, szerver, nyomtató, fax, fénymásoló, scanner, egyéb irodai használatú gép, szoftver Egyéb gép: a mezõgazdasági, építõipari és IT, szoftver, irodagép kategóriába nem sorolható eszközök (úgy mint a teljesség igénye nélkül: nyomdaipari eszközök, csomagolástechnikai eszközök, fém és mûanyag megmunkálás eszközei, anyagmozgatásra szolgáló eszközök, mûszeripari eszközök, orvostechnikai eszközök, fa- és asztalosipari eszközök, egyéb eszközök) Vasút, hajó, repülõ: Vasúti, légi és vizi közlekedés jármûvei Ingatlanok besorolásai: Négy kategóriát különböztetünk meg az ügyfél és az ingatlan jellege szerint: Lakossági és vállalati ügyfeleknek nyújtott lakáscélú és nem lakás célú finanszírozás. Ügyfelek besorolása Mikro-, kis- és középvállalkozások (KKV): A Gazdasági és Közlekedési Minisztérium által definiált vállalkozások. A minõsítés kritériumait az alábbi táblázat tartlamazza: Nagyvállalat: A mikro-, kis- és középvállalati kritériumoknak meg nem felelõ vállalkozás. Lakosság: Természetes devizabelföldi vagy devizakülföldi személyek. Egyéb: A lakosság, KKV illetve nagyvállalat definíciókon kívül esõ ügyfelek (ti.:állam, önkormányzat, külképviselet, stb.) | BD4: 187
A5: 4. | B5: Személy és kishaszonjármû - finanszírozott összeg - Exim Export | E5: <5 | AK5: Új üzlet | AL5: Finanszírozott összeg | AM5: SZGK, Kishaszon, Motor | AN5: TOTAL | AU5: EXIM - EXPORT | BC5: Az adott évben január 1 és a statisztikai adatgyûjtési idõszak vége között az EXIM Bank refinanszírozása keretében személy és kishaszonjármûvekre kihelyezett finanszírozott összeg. | BD5: 915
A6: 5. | B6: Tehergépjármû - finanszírozott összeg - Exim Export | E6: <5 | AK6: Új üzlet | AL6: Finanszírozott összeg | AM6: TGK, Pótkocsi, Busz | AN6: TOTAL | AU6: EXIM - EXPORT | BC6: Az adott évben január 1 és a statisztikai adatgyûjtési idõszak vége között az Exim Bank refinanszírozása keretében tehergépjármûvekre kihelyezett finanszírozott összeg. | BD6: 916
A7: 6. | B7: Mezõgazdasági gép - finanszírozott összeg - Exim Export | E7: <5 | AK7: Új üzlet | AL7: Finanszírozott összeg | AM7: Gép | AN7: Mezőgazdasági gép | AU7: EXIM - EXPORT | BC7: Az adott évben január 1 és a statisztikai adatgyûjtési idõszak vége között az Exim Bank refinanszírozása keretében mezõgazdasági gépekre kihelyezett finanszírozott összeg. | BD7: 917
A8: 7. | B8: Építõipari gép - finanszírozott összeg - Exim Export | E8: <5 | AK8: Új üzlet | AL8: Finanszírozott összeg | AM8: Gép | AN8: Építőipari gép | AU8: EXIM - EXPORT | BC8: Az adott évben január 1 és a statisztikai adatgyûjtési idõszak vége között az Exim Bank refinanszírozása keretében építõipari gépekre kihelyezett finanszírozott összeg. | BD8: 918
A9: 8. | B9: IT-irodai gépek - finanszírozott összeg - Exim Export | E9: <5 | AK9: Új üzlet | AL9: Finanszírozott összeg | AM9: Gép | AN9: IT és irodai gépek | AU9: EXIM - EXPORT | BC9: Az adott évben január 1 és a statisztikai adatgyûjtési idõszak vége között az Exim Bank refinanszírozása keretében IT és irodai eszközökre kihelyezett finanszírozott összeg. | BD9: 919
A10: 9. | B10: Egyéb gépek - finanszírozott összeg - Exim Export | E10: <5 | AK10: Új üzlet | AL10: Finanszírozott összeg | AM10: Gép | AN10: Egyéb gép | AU10: EXIM - EXPORT | BC10: Az adott évben január 1 és a statisztikai adatgyûjtési idõszak vége között az Exim Bank refinanszírozása keretében általános gépekre kihelyezett finanszírozott összeg. | BD10: 920
A11: 10. | B11: Lakás - finanszírozott összeg - Exim Export | E11: <5 | AK11: Új üzlet | AL11: Finanszírozott összeg | AM11: Ingatlan | AN11: Lakás | AU11: EXIM - EXPORT | BC11: Az adott évben január 1 és a statisztikai adatgyûjtési idõszak vége között az Exim Bank refinanszírozása keretében lakásfinanszírozásra kihelyezett finanszírozott összeg. | BD11: 921
A12: 11. | B12: Ingatlan - finanszírozott összeg - Exim Export | E12: <5 | AK12: Új üzlet | AL12: Finanszírozott összeg | AM12: Ingatlan | AN12: Nem lakás | AU12: EXIM - EXPORT | BC12: Az adott évben január 1 és a statisztikai adatgyûjtési idõszak vége között az Exim Bank refinanszírozása keretében nem lakás célú ingatlanokra kihelyezett finanszírozott összeg. | BD12: 922
A13: 12. | B13: Hajó, vasút, repülõ - finanszírozott összeg - Exim Export | E13: <5 | AK13: Új üzlet | AL13: Finanszírozott összeg | AM13: Vasút, Hajó, Repülő | AN13: TOTAL | AU13: EXIM - EXPORT | BC13: Az adott évben január 1 és a statisztikai adatgyûjtési idõszak vége között az Exim Bank refinanszírozása keretében hajóra, vasútra, repülõgépre kihelyezett finanszírozott összeg. | BD13: 923
A14: 13. | B14: Személy és kishaszonjárm? - finanszírozott összeg - EXIM Versenyképességi | E14: <5 | AK14: Új üzlet | AL14: Finanszírozott összeg | AM14: SZGK, Kishaszon, Motor | AN14: TOTAL | AU14: EXIM - VERSENY | BD14: 989
A15: 14. | B15: Tehergépjárm? - finanszírozott összeg - EXIM Versenyképességi | E15: <5 | AK15: Új üzlet | AL15: Finanszírozott összeg | AM15: TGK, Pótkocsi, Busz | AN15: TOTAL | AU15: EXIM - VERSENY | BD15: 990
A16: 15. | B16: Mezõgazdasági gép - finanszírozott összeg - EXIM Versenyképességi | E16: <5 | AK16: Új üzlet | AL16: Finanszírozott összeg | AM16: Gép | AN16: Mezőgazdasági gép | AU16: EXIM - VERSENY | BD16: 991
A17: 16. | B17: Építõipari gép - finanszírozott összeg - EXIM Versenyképességi | E17: <5 | AK17: Új üzlet | AL17: Finanszírozott összeg | AM17: Gép | AN17: Építőipari gép | AU17: EXIM - VERSENY | BD17: 992
A18: 17. | B18: IT-irodai gépek - finanszírozott összeg - EXIM Versenyképességi | E18: <5 | AK18: Új üzlet | AL18: Finanszírozott összeg | AM18: Gép | AN18: IT és irodai gépek | AU18: EXIM - VERSENY | BD18: 993
A19: 18. | B19: Egyéb gépek - finanszírozott összeg - EXIM Versenyképességi | E19: <5 | AK19: Új üzlet | AL19: Finanszírozott összeg | AM19: Gép | AN19: Egyéb gép | AU19: EXIM - VERSENY | BD19: 994
A20: 19. | B20: Lakás - finanszírozott összeg - EXIM Versenyképességi | E20: <5 | AK20: Új üzlet | AL20: Finanszírozott összeg | AM20: Ingatlan | AN20: Lakás | AU20: EXIM - VERSENY | BD20: 995
A21: 20. | B21: Ingatlan - finanszírozott összeg - EXIM Versenyképességi | E21: <5 | AK21: Új üzlet | AL21: Finanszírozott összeg | AM21: Ingatlan | AN21: Nem lakás | AU21: EXIM - VERSENY | BD21: 996
A22: 21. | B22: Hajó, vasút, repülõ - finanszírozott összeg - EXIM Versenyképességi | E22: <5 | AK22: Új üzlet | AL22: Finanszírozott összeg | AM22: Vasút, Hajó, Repülő | AN22: TOTAL | AU22: EXIM - VERSENY | BD22: 997
A23: 22. | B23: Személy és kishaszonjárm? - finanszírozott összeg - NHP Fix | C23: 30138291335 | D23: 10 | E23: ok | H23: 3 | I23: 6 | K23: 9 | M23: 7 | N23: 5 | Q23: 1 | R23: 2 | U23: 8 | Y23: 10 | Z23: 4 | AK23: Új üzlet | AL23: Finanszírozott összeg | AM23: SZGK, Kishaszon, Motor | AN23: TOTAL | AU23: NHP Fix
A24: 23. | B24: Tehergépjárm? - finanszírozott összeg - NHP Fix | C24: 2.0132422e+10 | D24: 11 | E24: ok | H24: 1 | I24: 4 | K24: 11 | M24: 8 | N24: 3 | Q24: 2 | R24: 6 | S24: 5 | U24: 10 | Y24: 9 | Z24: 7 | AK24: Új üzlet | AL24: Finanszírozott összeg | AM24: TGK, Pótkocsi, Busz | AN24: TOTAL | AU24: NHP Fix
A25: 24. | B25: Mezõgazdasági gép - finanszírozott összeg - NHP Fix | C25: 6.0471389e+10 | D25: 11 | E25: ok | H25: 5 | I25: 4 | K25: 6 | M25: 9 | N25: 8 | Q25: 1 | R25: 2 | S25: 10 | U25: 11 | Y25: 7 | Z25: 3 | AK25: Új üzlet | AL25: Finanszírozott összeg | AM25: Gép | AN25: Mezőgazdasági gép | AU25: NHP Fix
A26: 25. | B26: Építõipari gép - finanszírozott összeg - NHP Fix | C26: 7184679454 | D26: 11 | E26: ok | H26: 3 | I26: 10 | K26: 5 | M26: 11 | N26: 7 | Q26: 2 | R26: 6 | S26: 4 | U26: 8 | Y26: 9 | Z26: 1 | AK26: Új üzlet | AL26: Finanszírozott összeg | AM26: Gép | AN26: Építőipari gép | AU26: NHP Fix
A27: 26. | B27: IT-irodai gépek - finanszírozott összeg - NHP Fix | C27: 2.5768533e+08 | D27: 5 | E27: ok | H27: 1 | I27: 3 | N27: 4 | Q27: 2 | Z27: 5 | AK27: Új üzlet | AL27: Finanszírozott összeg | AM27: Gép | AN27: IT és irodai gépek | AU27: NHP Fix
A28: 27. | B28: Egyéb gépek - finanszírozott összeg - NHP Fix | C28: 9.8880057e+09 | D28: 11 | E28: ok | H28: 3 | I28: 4 | K28: 1 | M28: 9 | N28: 10 | Q28: 2 | R28: 5 | S28: 7 | U28: 8 | Y28: 11 | Z28: 6 | AK28: Új üzlet | AL28: Finanszírozott összeg | AM28: Gép | AN28: Egyéb gép | AU28: NHP Fix
A29: 28. | B29: Lakás - finanszírozott összeg - NHP Fix | E29: <5 | AK29: Új üzlet | AL29: Finanszírozott összeg | AM29: Ingatlan | AN29: Lakás | AU29: NHP Fix
A30: 29. | B30: Ingatlan - finanszírozott összeg - NHP Fix | E30: <5 | AK30: Új üzlet | AL30: Finanszírozott összeg | AM30: Ingatlan | AN30: Nem lakás | AU30: NHP Fix
A31: 30. | B31: Hajó, vasút, repülõ - finanszírozott összeg - NHP Fix | E31: <5 | AK31: Új üzlet | AL31: Finanszírozott összeg | AM31: Vasút, Hajó, Repülő | AN31: TOTAL | AU31: NHP Fix
A32: 31. | BC32: 3,5 tonna összteherbírás alatti személy-, és kishaszongépjármû RETAIL, MOTOR, FLOTTA, REFINANSZIROZOTT és CSAK KEZELT FLOTTA statisztikai adatokKérjük, az adatokat az ÉV ELEJÉTÕL AZ IDÕSZAK UTOLSÓ NAPJÁIG KUMMULÁLTAN adják meg! Kérjük, az adatokat Ft-ban (NEM millió Ft-ban!), vesszõ, pont, szünet, és egyéb karakterek használata nélkül adják meg! Kérjük, az adatokat úgy adják meg, hogy a Retail, Motor, Flotta és Refinanszírozott Flotta sorban szereplõ adatok ÖSSZEGE adja ki a teljes gépjármû finanszírozási volument, tehát a négy mezõben közölt adatok között NE LEGYEN ÁTFEDÉS! A LEASEUROPE adatszolgáltatásnak megfelelõen kérjük, adja meg a szerzõdések futamideje szerint megbontott finanszírozási volumen adatokat is! | BD32: 30
A33: 32. | B33: Retail - SZGK - Új - Bruttó eszközérték | C33: 1.9975581e+11 | D33: 13 | E33: ok | H33: 2 | I33: 5 | J33: 8 | K33: 9 | L33: 6 | N33: 13 | Q33: 1 | R33: 3 | U33: 7 | V33: 11 | X33: 10 | Z33: 4 | AA33: 12 | AK33: Új üzlet | AL33: Bruttó eszközérték | AM33: SZGK, Kishaszon, Motor | AN33: SZGK | AO33: Retail | AR33: Új | BD33: 998
A34: 33. | B34: Retail - SZGK - Használt - Bruttó eszközérték | C34: 6.836332e+10 | D34: 13 | E34: ok | H34: 2 | I34: 5 | J34: 4 | K34: 13 | L34: 7 | N34: 12 | Q34: 1 | R34: 3 | U34: 8 | V34: 9 | X34: 11 | Z34: 6 | AA34: 10 | AK34: Új üzlet | AL34: Bruttó eszközérték | AM34: SZGK, Kishaszon, Motor | AN34: SZGK | AO34: Retail | AR34: Használt | BD34: 999
A35: 34. | B35: Retail - Kishaszon - Új - Bruttó eszközérték | C35: 5.4816571e+10 | D35: 10 | E35: ok | H35: 3 | I35: 6 | K35: 8 | L35: 7 | Q35: 1 | R35: 2 | U35: 5 | V35: 10 | Z35: 4 | AA35: 9 | AK35: Új üzlet | AL35: Bruttó eszközérték | AM35: SZGK, Kishaszon, Motor | AN35: Kishaszon | AO35: Retail | AR35: Új | BD35: 1000
A36: 35. | B36: Retail - Kishaszon - Használt - Bruttó eszközérték | C36: 8.2715233e+09 | D36: 10 | E36: ok | H36: 3 | I36: 4 | K36: 10 | L36: 9 | Q36: 1 | R36: 2 | U36: 6 | V36: 8 | Z36: 5 | AA36: 7 | AK36: Új üzlet | AL36: Bruttó eszközérték | AM36: SZGK, Kishaszon, Motor | AN36: Kishaszon | AO36: Retail | AR36: Használt | BD36: 1001
A37: 36. | B37: Retail - Új - Lakossági - Bruttó eszközérték | C37: 82127531847 | D37: 6 | E37: ok | H37: 3 | I37: 5 | J37: 6 | Q37: 1 | R37: 4 | Z37: 2 | AK37: Új üzlet | AL37: Bruttó eszközérték | AM37: SZGK, Kishaszon, Motor | AO37: Retail | AP37: Lakossági | AR37: Új | BD37: 1002
A38: 37. | B38: Retail - Új - Vállalati - Bruttó eszközérték | C38: 1.6888185e+11 | D38: 13 | E38: ok | H38: 2 | I38: 5 | J38: 12 | K38: 8 | M38: 7 | N38: 13 | Q38: 1 | R38: 3 | U38: 6 | V38: 11 | X38: 9 | Z38: 4 | AA38: 10 | AK38: Új üzlet | AL38: Bruttó eszközérték | AM38: SZGK, Kishaszon, Motor | AO38: Retail | AP38: Mikro, Kis, Közép, Nagy, Állami | AR38: Új | BD38: 1003
A39: 38. | B39: Retail - Használt - Lakossági - Bruttó eszközérték | C39: 32870263477 | D39: 6 | E39: ok | H39: 2 | I39: 5 | J39: 4 | Q39: 1 | R39: 3 | Z39: 6 | AK39: Új üzlet | AL39: Bruttó eszközérték | AM39: SZGK, Kishaszon, Motor | AO39: Retail | AP39: Lakossági | AR39: Használt | BD39: 1004
A40: 39. | B40: Retail - Használt - Vállalati - Bruttó eszközérték | C40: 4.419031e+10 | D40: 13 | E40: ok | H40: 3 | I40: 4 | J40: 8 | K40: 13 | M40: 5 | N40: 12 | Q40: 1 | R40: 2 | U40: 7 | V40: 9 | X40: 11 | Z40: 6 | AA40: 10 | AK40: Új üzlet | AL40: Bruttó eszközérték | AM40: SZGK, Kishaszon, Motor | AO40: Retail | AP40: Mikro, Kis, Közép, Nagy, Állami | AR40: Használt | BD40: 1005
...

Sheet Bruttó eszk hely
B1: Retail - új személygépjármû - magánszemély - bruttó eszközérték | C1: Retail - új személygépjármû - jogi személy - bruttó eszközérték | D1: Retail - használt személygépjármû - magánszemély - bruttó eszközérték | E1: Retail - használt személygépjármû - jogi személy - bruttó eszközérték | F1: Motor - új - bruttó eszközérték | G1: Motor - használt - bruttó eszközérték | H1: Flotta - új személygépjármû - bruttó eszközérték | I1: Flotta - használt személygépjármû - bruttó eszközérték | J1: Refinanszírozott flotta - új - bruttó eszközérték | K1: Refinanszírozott flotta - használt - bruttó eszközérték | L1: Retail - személygépjármû - hitel - bruttó eszközérték | M1: Retail - személygépjármû - zárt végû pénzügyi lízing - bruttó eszközérték | N1: Retail - személygépjármû - nyílt végû pénzügyi lízing - bruttó eszközérték | O1: Flotta - személygépjármû - hitel - bruttó eszközérték | P1: Flotta - személygépjármû - zárt végû pénzügyi lízing - bruttó eszközérték | Q1: Flotta - személygépjármû - nyílt végû pénzügyi lízing- bruttó eszközérték | R1: Flotta - személygépjármû - operatív lízing - bruttó eszközérték | S1: Új busz - operatív lízing - bruttó eszközérték | T1: Új busz - pénzügyi lízing - bruttó eszközérték | U1: Új busz - hitel - bruttó eszközérték | V1: Használt busz - operatív lízing - bruttó eszközérték | W1: Használt busz - pénzügyi lízing - bruttó eszközérték | X1: Használt busz - hitel - bruttó eszközérték | Y1: Új teherautó - operatív lízing - bruttó eszközérték | Z1: Új teherautó - pénzügyi lízing - bruttó eszközérték | AA1: Új teherautó - hitel - bruttó eszközérték | AB1: Használt teherautó - operatív lízing - bruttó eszközérték | AC1: Használt teherautó - pénzügyi lízing - bruttó eszközérték | AD1: Használt teherautó - hitel - bruttó eszközérték | AE1: Új mezõgazdasági gép - bruttó eszközérték | AF1: Használt mezõgazdasági gép - bruttó eszközérték | AG1: Új építõipari gép - bruttó eszközérték | AH1: Használt építõipari gép - bruttó eszközérték | AI1: Új IT, szoftver, irodagép - bruttó eszközérték | AJ1: Használt IT, szoftver, irodagép - bruttó eszközérték | AK1: Új egyéb gép - bruttó eszközérték | AL1: Használt egyéb gép - bruttó eszközérték | AM1: Mezõgazdasági gép - hitel - bruttó eszközérték | AN1: Mezõgazdasági gép - pénzügyi lízing - bruttó eszközérték | AO1: Mezõgazdasági gép - operatív lízing - bruttó eszközérték | AP1: Építõipari gép - hitel - bruttó eszközérték | AQ1: Építõipari gép - pénzügyi lízing - bruttó eszközérték | AR1: Építõipari gép - operatív lízing - bruttó eszközérték | AS1: IT, szoftver, irodagép - hitel - bruttó eszközérték | AT1: IT, szoftver, irodagép - pénzügyi lízing - bruttó eszközérték | AU1: IT, szoftver, irodagép - operatív lízing - bruttó eszközérték | AV1: Egyéb gép - hitel - bruttó eszközérték | AW1: Egyép gép - pénzügyi lízing - bruttó eszközérték | AX1: Egyép gép - operatív lízing - bruttó eszközérték | AY1: Lakossági - lakás - hitel - bruttó eszközérték | AZ1: Lakossági - lakás - pénzügyi lízing - bruttó eszközérték | BA1: Lakossági - nem lakás - hitel - bruttó eszközérték | BB1: Lakossági - nem lakás - pénzügyi lízing - bruttó eszközérték | BC1: Vállalati - lakás - hitel - bruttó eszközérték | BD1: Vállalati - lakás - pénzügyi lízing - bruttó eszközérték | BE1: Vállalati - lakás - operatív lízing - bruttó eszközérték | BF1: Vállalati - nem lakás - hitel - bruttó eszközérték | BG1: Vállalati - nem lakás - pénzügyi lízing - bruttó eszközérték | BH1: Vállalati - nem lakás - operatív lízing - bruttó eszközérték | BI1: Vasút, hajó, repülõ - bruttó eszközérték | BJ1: Egyéb eszköz - bruttó eszközérték | BL1: Retail | BM1: Motor | BN1: Flotta | BO1: Refi flotta | BP1: Busz | BQ1: Truck | BR1: Mezőgép | BS1: Építőgép | BT1: IT | BU1: Egyéb | BV1: Lakás | BW1: Ingatlan | BX1: Vasút, egyéb | BZ1: Autó | CA1: Truck | CB1: Gép | CC1: Ingatlan | CD1: Vasút | CE1: Összesen | CG1: Retail új autó | CH1: Retail használt autó | CI1: Retail magánszemély | CJ1: Retail jogi személy
A2: ='Bruttó eszk'!A2 -> Ober Pénzügyi Lízing Zrt. | B2: =IF('Bruttó eszk'!B2>0,_xlfn.RANK.EQ('Bruttó eszk'!B2,'Bruttó eszk'!B$2:B$34,0),"") | C2: =IF('Bruttó eszk'!C2>0,_xlfn.RANK.EQ('Bruttó eszk'!C2,'Bruttó eszk'!C$2:C$34,0),"") | D2: =IF('Bruttó eszk'!D2>0,_xlfn.RANK.EQ('Bruttó eszk'!D2,'Bruttó eszk'!D$2:D$34,0),"") | E2: =IF('Bruttó eszk'!E2>0,_xlfn.RANK.EQ('Bruttó eszk'!E2,'Bruttó eszk'!E$2:E$34,0),"") | F2: =IF('Bruttó eszk'!F2>0,_xlfn.RANK.EQ('Bruttó eszk'!F2,'Bruttó eszk'!F$2:F$34,0),"") | G2: =IF('Bruttó eszk'!G2>0,_xlfn.RANK.EQ('Bruttó eszk'!G2,'Bruttó eszk'!G$2:G$34,0),"") | H2: =IF('Bruttó eszk'!H2>0,_xlfn.RANK.EQ('Bruttó eszk'!H2,'Bruttó eszk'!H$2:H$34,0),"") | I2: =IF('Bruttó eszk'!I2>0,_xlfn.RANK.EQ('Bruttó eszk'!I2,'Bruttó eszk'!I$2:I$34,0),"") | ... BJ2: =IF('Bruttó eszk'!BJ2>0,_xlfn.RANK.EQ('Bruttó eszk'!BJ2,'Bruttó eszk'!BJ$2:BJ$34,0),"") -> 1 | BL2: =IF('Bruttó eszk'!BL2>0,_xlfn.RANK.EQ('Bruttó eszk'!BL2,'Bruttó eszk'!BL$2:BL$34,0),"") | BM2: =IF('Bruttó eszk'!BM2>0,_xlfn.RANK.EQ('Bruttó eszk'!BM2,'Bruttó eszk'!BM$2:BM$34,0),"") | BN2: =IF('Bruttó eszk'!BN2>0,_xlfn.RANK.EQ('Bruttó eszk'!BN2,'Bruttó eszk'!BN$2:BN$34,0),"") | BO2: =IF('Bruttó eszk'!BO2>0,_xlfn.RANK.EQ('Bruttó eszk'!BO2,'Bruttó eszk'!BO$2:BO$34,0),"") -> 2 | BP2: =IF('Bruttó eszk'!BP2>0,_xlfn.RANK.EQ('Bruttó eszk'!BP2,'Bruttó eszk'!BP$2:BP$34,0),"") | BQ2: =IF('Bruttó eszk'!BQ2>0,_xlfn.RANK.EQ('Bruttó eszk'!BQ2,'Bruttó eszk'!BQ$2:BQ$34,0),"") -> 1 | BR2: =IF('Bruttó eszk'!BR2>0,_xlfn.RANK.EQ('Bruttó eszk'!BR2,'Bruttó eszk'!BR$2:BR$34,0),"") -> 8 | BS2: =IF('Bruttó eszk'!BS2>0,_xlfn.RANK.EQ('Bruttó eszk'!BS2,'Bruttó eszk'!BS$2:BS$34,0),"") -> 7 | ... BX2: =IF('Bruttó eszk'!BX2>0,_xlfn.RANK.EQ('Bruttó eszk'!BX2,'Bruttó eszk'!BX$2:BX$34,0),"") -> 1 | BZ2: =IF('Bruttó eszk'!BZ2>0,_xlfn.RANK.EQ('Bruttó eszk'!BZ2,'Bruttó eszk'!BZ$2:BZ$34,0),"") -> 13 | CA2: =IF('Bruttó eszk'!CA2>0,_xlfn.RANK.EQ('Bruttó eszk'!CA2,'Bruttó eszk'!CA$2:CA$34,0),"") -> 2 | CB2: =IF('Bruttó eszk'!CB2>0,_xlfn.RANK.EQ('Bruttó eszk'!CB2,'Bruttó eszk'!CB$2:CB$34,0),"") -> 10 | CC2: =IF('Bruttó eszk'!CC2>0,_xlfn.RANK.EQ('Bruttó eszk'!CC2,'Bruttó eszk'!CC$2:CC$34,0),"") | CD2: =IF('Bruttó eszk'!CD2>0,_xlfn.RANK.EQ('Bruttó eszk'!CD2,'Bruttó eszk'!CD$2:CD$34,0),"") -> 1 | CE2: =IF('Bruttó eszk'!CE2>0,_xlfn.RANK.EQ('Bruttó eszk'!CE2,'Bruttó eszk'!CE$2:CE$34,0),"") -> 8 | CG2: =IF('Bruttó eszk'!CG2>0,_xlfn.RANK.EQ('Bruttó eszk'!CG2,'Bruttó eszk'!CG$2:CG$34,0),"") | CH2: =IF('Bruttó eszk'!CH2>0,_xlfn.RANK.EQ('Bruttó eszk'!CH2,'Bruttó eszk'!CH$2:CH$34,0),"") | CI2: =IF('Bruttó eszk'!CI2>0,_xlfn.RANK.EQ('Bruttó eszk'!CI2,'Bruttó eszk'!CI$2:CI$34,0),"") | CJ2: =IF('Bruttó eszk'!CJ2>0,_xlfn.RANK.EQ('Bruttó eszk'!CJ2,'Bruttó eszk'!CJ$2:CJ$34,0),"")
A3: ='Bruttó eszk'!A3 -> CIB Lízing Csoport | B3: =IF('Bruttó eszk'!B3>0,_xlfn.RANK.EQ('Bruttó eszk'!B3,'Bruttó eszk'!B$2:B$34,0),"") -> 6 | C3: =IF('Bruttó eszk'!C3>0,_xlfn.RANK.EQ('Bruttó eszk'!C3,'Bruttó eszk'!C$2:C$34,0),"") -> 6 | D3: =IF('Bruttó eszk'!D3>0,_xlfn.RANK.EQ('Bruttó eszk'!D3,'Bruttó eszk'!D$2:D$34,0),"") -> 5 | E3: =IF('Bruttó eszk'!E3>0,_xlfn.RANK.EQ('Bruttó eszk'!E3,'Bruttó eszk'!E$2:E$34,0),"") -> 4 | F3: =IF('Bruttó eszk'!F3>0,_xlfn.RANK.EQ('Bruttó eszk'!F3,'Bruttó eszk'!F$2:F$34,0),"") | G3: =IF('Bruttó eszk'!G3>0,_xlfn.RANK.EQ('Bruttó eszk'!G3,'Bruttó eszk'!G$2:G$34,0),"") | H3: =IF('Bruttó eszk'!H3>0,_xlfn.RANK.EQ('Bruttó eszk'!H3,'Bruttó eszk'!H$2:H$34,0),"") -> 10 | I3: =IF('Bruttó eszk'!I3>0,_xlfn.RANK.EQ('Bruttó eszk'!I3,'Bruttó eszk'!I$2:I$34,0),"") -> 4 | ... BJ3: =IF('Bruttó eszk'!BJ3>0,_xlfn.RANK.EQ('Bruttó eszk'!BJ3,'Bruttó eszk'!BJ$2:BJ$34,0),"") | BL3: =IF('Bruttó eszk'!BL3>0,_xlfn.RANK.EQ('Bruttó eszk'!BL3,'Bruttó eszk'!BL$2:BL$34,0),"") -> 6 | BM3: =IF('Bruttó eszk'!BM3>0,_xlfn.RANK.EQ('Bruttó eszk'!BM3,'Bruttó eszk'!BM$2:BM$34,0),"") | BN3: =IF('Bruttó eszk'!BN3>0,_xlfn.RANK.EQ('Bruttó eszk'!BN3,'Bruttó eszk'!BN$2:BN$34,0),"") -> 10 | BO3: =IF('Bruttó eszk'!BO3>0,_xlfn.RANK.EQ('Bruttó eszk'!BO3,'Bruttó eszk'!BO$2:BO$34,0),"") | BP3: =IF('Bruttó eszk'!BP3>0,_xlfn.RANK.EQ('Bruttó eszk'!BP3,'Bruttó eszk'!BP$2:BP$34,0),"") -> 8 | BQ3: =IF('Bruttó eszk'!BQ3>0,_xlfn.RANK.EQ('Bruttó eszk'!BQ3,'Bruttó eszk'!BQ$2:BQ$34,0),"") -> 11 | BR3: =IF('Bruttó eszk'!BR3>0,_xlfn.RANK.EQ('Bruttó eszk'!BR3,'Bruttó eszk'!BR$2:BR$34,0),"") -> 3 | BS3: =IF('Bruttó eszk'!BS3>0,_xlfn.RANK.EQ('Bruttó eszk'!BS3,'Bruttó eszk'!BS$2:BS$34,0),"") -> 11 | ... BX3: =IF('Bruttó eszk'!BX3>0,_xlfn.RANK.EQ('Bruttó eszk'!BX3,'Bruttó eszk'!BX$2:BX$34,0),"") | BZ3: =IF('Bruttó eszk'!BZ3>0,_xlfn.RANK.EQ('Bruttó eszk'!BZ3,'Bruttó eszk'!BZ$2:BZ$34,0),"") -> 7 | CA3: =IF('Bruttó eszk'!CA3>0,_xlfn.RANK.EQ('Bruttó eszk'!CA3,'Bruttó eszk'!CA$2:CA$34,0),"") -> 12 | CB3: =IF('Bruttó eszk'!CB3>0,_xlfn.RANK.EQ('Bruttó eszk'!CB3,'Bruttó eszk'!CB$2:CB$34,0),"") -> 8 | CC3: =IF('Bruttó eszk'!CC3>0,_xlfn.RANK.EQ('Bruttó eszk'!CC3,'Bruttó eszk'!CC$2:CC$34,0),"") | CD3: =IF('Bruttó eszk'!CD3>0,_xlfn.RANK.EQ('Bruttó eszk'!CD3,'Bruttó eszk'!CD$2:CD$34,0),"") | CE3: =IF('Bruttó eszk'!CE3>0,_xlfn.RANK.EQ('Bruttó eszk'!CE3,'Bruttó eszk'!CE$2:CE$34,0),"") -> 9 | CG3: =IF('Bruttó eszk'!CG3>0,_xlfn.RANK.EQ('Bruttó eszk'!CG3,'Bruttó eszk'!CG$2:CG$34,0),"") -> 6 | CH3: =IF('Bruttó eszk'!CH3>0,_xlfn.RANK.EQ('Bruttó eszk'!CH3,'Bruttó eszk'!CH$2:CH$34,0),"") -> 5 | CI3: =IF('Bruttó eszk'!CI3>0,_xlfn.RANK.EQ('Bruttó eszk'!CI3,'Bruttó eszk'!CI$2:CI$34,0),"") -> 6 | CJ3: =IF('Bruttó eszk'!CJ3>0,_xlfn.RANK.EQ('Bruttó eszk'!CJ3,'Bruttó eszk'!CJ$2:CJ$34,0),"") -> 5
A4: ='Bruttó eszk'!A4 -> ARVAL Magyarország Jármûparkkezelõ Kft. | B4: =IF('Bruttó eszk'!B4>0,_xlfn.RANK.EQ('Bruttó eszk'!B4,'Bruttó eszk'!B$2:B$34,0),"") | C4: =IF('Bruttó eszk'!C4>0,_xlfn.RANK.EQ('Bruttó eszk'!C4,'Bruttó eszk'!C$2:C$34,0),"") | D4: =IF('Bruttó eszk'!D4>0,_xlfn.RANK.EQ('Bruttó eszk'!D4,'Bruttó eszk'!D$2:D$34,0),"") | E4: =IF('Bruttó eszk'!E4>0,_xlfn.RANK.EQ('Bruttó eszk'!E4,'Bruttó eszk'!E$2:E$34,0),"") | F4: =IF('Bruttó eszk'!F4>0,_xlfn.RANK.EQ('Bruttó eszk'!F4,'Bruttó eszk'!F$2:F$34,0),"") | G4: =IF('Bruttó eszk'!G4>0,_xlfn.RANK.EQ('Bruttó eszk'!G4,'Bruttó eszk'!G$2:G$34,0),"") | H4: =IF('Bruttó eszk'!H4>0,_xlfn.RANK.EQ('Bruttó eszk'!H4,'Bruttó eszk'!H$2:H$34,0),"") -> 5 | I4: =IF('Bruttó eszk'!I4>0,_xlfn.RANK.EQ('Bruttó eszk'!I4,'Bruttó eszk'!I$2:I$34,0),"") | ... BJ4: =IF('Bruttó eszk'!BJ4>0,_xlfn.RANK.EQ('Bruttó eszk'!BJ4,'Bruttó eszk'!BJ$2:BJ$34,0),"") | BL4: =IF('Bruttó eszk'!BL4>0,_xlfn.RANK.EQ('Bruttó eszk'!BL4,'Bruttó eszk'!BL$2:BL$34,0),"") | BM4: =IF('Bruttó eszk'!BM4>0,_xlfn.RANK.EQ('Bruttó eszk'!BM4,'Bruttó eszk'!BM$2:BM$34,0),"") | BN4: =IF('Bruttó eszk'!BN4>0,_xlfn.RANK.EQ('Bruttó eszk'!BN4,'Bruttó eszk'!BN$2:BN$34,0),"") -> 6 | BO4: =IF('Bruttó eszk'!BO4>0,_xlfn.RANK.EQ('Bruttó eszk'!BO4,'Bruttó eszk'!BO$2:BO$34,0),"") | BP4: =IF('Bruttó eszk'!BP4>0,_xlfn.RANK.EQ('Bruttó eszk'!BP4,'Bruttó eszk'!BP$2:BP$34,0),"") | BQ4: =IF('Bruttó eszk'!BQ4>0,_xlfn.RANK.EQ('Bruttó eszk'!BQ4,'Bruttó eszk'!BQ$2:BQ$34,0),"") | BR4: =IF('Bruttó eszk'!BR4>0,_xlfn.RANK.EQ('Bruttó eszk'!BR4,'Bruttó eszk'!BR$2:BR$34,0),"") | BS4: =IF('Bruttó eszk'!BS4>0,_xlfn.RANK.EQ('Bruttó eszk'!BS4,'Bruttó eszk'!BS$2:BS$34,0),"") | ... BX4: =IF('Bruttó eszk'!BX4>0,_xlfn.RANK.EQ('Bruttó eszk'!BX4,'Bruttó eszk'!BX$2:BX$34,0),"") | BZ4: =IF('Bruttó eszk'!BZ4>0,_xlfn.RANK.EQ('Bruttó eszk'!BZ4,'Bruttó eszk'!BZ$2:BZ$34,0),"") -> 12 | CA4: =IF('Bruttó eszk'!CA4>0,_xlfn.RANK.EQ('Bruttó eszk'!CA4,'Bruttó eszk'!CA$2:CA$34,0),"") | CB4: =IF('Bruttó eszk'!CB4>0,_xlfn.RANK.EQ('Bruttó eszk'!CB4,'Bruttó eszk'!CB$2:CB$34,0),"") | CC4: =IF('Bruttó eszk'!CC4>0,_xlfn.RANK.EQ('Bruttó eszk'!CC4,'Bruttó eszk'!CC$2:CC$34,0),"") | CD4: =IF('Bruttó eszk'!CD4>0,_xlfn.RANK.EQ('Bruttó eszk'!CD4,'Bruttó eszk'!CD$2:CD$34,0),"") | CE4: =IF('Bruttó eszk'!CE4>0,_xlfn.RANK.EQ('Bruttó eszk'!CE4,'Bruttó eszk'!CE$2:CE$34,0),"") -> 19 | CG4: =IF('Bruttó eszk'!CG4>0,_xlfn.RANK.EQ('Bruttó eszk'!CG4,'Bruttó eszk'!CG$2:CG$34,0),"") | CH4: =IF('Bruttó eszk'!CH4>0,_xlfn.RANK.EQ('Bruttó eszk'!CH4,'Bruttó eszk'!CH$2:CH$34,0),"") | CI4: =IF('Bruttó eszk'!CI4>0,_xlfn.RANK.EQ('Bruttó eszk'!CI4,'Bruttó eszk'!CI$2:CI$34,0),"") | CJ4: =IF('Bruttó eszk'!CJ4>0,_xlfn.RANK.EQ('Bruttó eszk'!CJ4,'Bruttó eszk'!CJ$2:CJ$34,0),"")
A5: ='Bruttó eszk'!A5 -> Raiffeisen Corporate Lízing Zrt. | B5: =IF('Bruttó eszk'!B5>0,_xlfn.RANK.EQ('Bruttó eszk'!B5,'Bruttó eszk'!B$2:B$34,0),"") | C5: =IF('Bruttó eszk'!C5>0,_xlfn.RANK.EQ('Bruttó eszk'!C5,'Bruttó eszk'!C$2:C$34,0),"") -> 7 | D5: =IF('Bruttó eszk'!D5>0,_xlfn.RANK.EQ('Bruttó eszk'!D5,'Bruttó eszk'!D$2:D$34,0),"") | E5: =IF('Bruttó eszk'!E5>0,_xlfn.RANK.EQ('Bruttó eszk'!E5,'Bruttó eszk'!E$2:E$34,0),"") -> 9 | F5: =IF('Bruttó eszk'!F5>0,_xlfn.RANK.EQ('Bruttó eszk'!F5,'Bruttó eszk'!F$2:F$34,0),"") -> 4 | G5: =IF('Bruttó eszk'!G5>0,_xlfn.RANK.EQ('Bruttó eszk'!G5,'Bruttó eszk'!G$2:G$34,0),"") | H5: =IF('Bruttó eszk'!H5>0,_xlfn.RANK.EQ('Bruttó eszk'!H5,'Bruttó eszk'!H$2:H$34,0),"") | I5: =IF('Bruttó eszk'!I5>0,_xlfn.RANK.EQ('Bruttó eszk'!I5,'Bruttó eszk'!I$2:I$34,0),"") | ... BJ5: =IF('Bruttó eszk'!BJ5>0,_xlfn.RANK.EQ('Bruttó eszk'!BJ5,'Bruttó eszk'!BJ$2:BJ$34,0),"") | BL5: =IF('Bruttó eszk'!BL5>0,_xlfn.RANK.EQ('Bruttó eszk'!BL5,'Bruttó eszk'!BL$2:BL$34,0),"") -> 8 | BM5: =IF('Bruttó eszk'!BM5>0,_xlfn.RANK.EQ('Bruttó eszk'!BM5,'Bruttó eszk'!BM$2:BM$34,0),"") -> 4 | BN5: =IF('Bruttó eszk'!BN5>0,_xlfn.RANK.EQ('Bruttó eszk'!BN5,'Bruttó eszk'!BN$2:BN$34,0),"") | BO5: =IF('Bruttó eszk'!BO5>0,_xlfn.RANK.EQ('Bruttó eszk'!BO5,'Bruttó eszk'!BO$2:BO$34,0),"") | BP5: =IF('Bruttó eszk'!BP5>0,_xlfn.RANK.EQ('Bruttó eszk'!BP5,'Bruttó eszk'!BP$2:BP$34,0),"") -> 3 | BQ5: =IF('Bruttó eszk'!BQ5>0,_xlfn.RANK.EQ('Bruttó eszk'!BQ5,'Bruttó eszk'!BQ$2:BQ$34,0),"") -> 10 | BR5: =IF('Bruttó eszk'!BR5>0,_xlfn.RANK.EQ('Bruttó eszk'!BR5,'Bruttó eszk'!BR$2:BR$34,0),"") -> 10 | BS5: =IF('Bruttó eszk'!BS5>0,_xlfn.RANK.EQ('Bruttó eszk'!BS5,'Bruttó eszk'!BS$2:BS$34,0),"") -> 9 | ... BX5: =IF('Bruttó eszk'!BX5>0,_xlfn.RANK.EQ('Bruttó eszk'!BX5,'Bruttó eszk'!BX$2:BX$34,0),"") | BZ5: =IF('Bruttó eszk'!BZ5>0,_xlfn.RANK.EQ('Bruttó eszk'!BZ5,'Bruttó eszk'!BZ$2:BZ$34,0),"") -> 14 | CA5: =IF('Bruttó eszk'!CA5>0,_xlfn.RANK.EQ('Bruttó eszk'!CA5,'Bruttó eszk'!CA$2:CA$34,0),"") -> 10 | CB5: =IF('Bruttó eszk'!CB5>0,_xlfn.RANK.EQ('Bruttó eszk'!CB5,'Bruttó eszk'!CB$2:CB$34,0),"") -> 11 | CC5: =IF('Bruttó eszk'!CC5>0,_xlfn.RANK.EQ('Bruttó eszk'!CC5,'Bruttó eszk'!CC$2:CC$34,0),"") | CD5: =IF('Bruttó eszk'!CD5>0,_xlfn.RANK.EQ('Bruttó eszk'!CD5,'Bruttó eszk'!CD$2:CD$34,0),"") | CE5: =IF('Bruttó eszk'!CE5>0,_xlfn.RANK.EQ('Bruttó eszk'!CE5,'Bruttó eszk'!CE$2:CE$34,0),"") -> 11 | CG5: =IF('Bruttó eszk'!CG5>0,_xlfn.RANK.EQ('Bruttó eszk'!CG5,'Bruttó eszk'!CG$2:CG$34,0),"") -> 7 | CH5: =IF('Bruttó eszk'!CH5>0,_xlfn.RANK.EQ('Bruttó eszk'!CH5,'Bruttó eszk'!CH$2:CH$34,0),"") -> 9 | CI5: =IF('Bruttó eszk'!CI5>0,_xlfn.RANK.EQ('Bruttó eszk'!CI5,'Bruttó eszk'!CI$2:CI$34,0),"") | CJ5: =IF('Bruttó eszk'!CJ5>0,_xlfn.RANK.EQ('Bruttó eszk'!CJ5,'Bruttó eszk'!CJ$2:CJ$34,0),"") -> 7
A6: ='Bruttó eszk'!A6 -> Lombard Lízing Csoport | B6: =IF('Bruttó eszk'!B6>0,_xlfn.RANK.EQ('Bruttó eszk'!B6,'Bruttó eszk'!B$2:B$34,0),"") | C6: =IF('Bruttó eszk'!C6>0,_xlfn.RANK.EQ('Bruttó eszk'!C6,'Bruttó eszk'!C$2:C$34,0),"") | D6: =IF('Bruttó eszk'!D6>0,_xlfn.RANK.EQ('Bruttó eszk'!D6,'Bruttó eszk'!D$2:D$34,0),"") | E6: =IF('Bruttó eszk'!E6>0,_xlfn.RANK.EQ('Bruttó eszk'!E6,'Bruttó eszk'!E$2:E$34,0),"") | F6: =IF('Bruttó eszk'!F6>0,_xlfn.RANK.EQ('Bruttó eszk'!F6,'Bruttó eszk'!F$2:F$34,0),"") | G6: =IF('Bruttó eszk'!G6>0,_xlfn.RANK.EQ('Bruttó eszk'!G6,'Bruttó eszk'!G$2:G$34,0),"") | H6: =IF('Bruttó eszk'!H6>0,_xlfn.RANK.EQ('Bruttó eszk'!H6,'Bruttó eszk'!H$2:H$34,0),"") | I6: =IF('Bruttó eszk'!I6>0,_xlfn.RANK.EQ('Bruttó eszk'!I6,'Bruttó eszk'!I$2:I$34,0),"") | ... BJ6: =IF('Bruttó eszk'!BJ6>0,_xlfn.RANK.EQ('Bruttó eszk'!BJ6,'Bruttó eszk'!BJ$2:BJ$34,0),"") | BL6: =IF('Bruttó eszk'!BL6>0,_xlfn.RANK.EQ('Bruttó eszk'!BL6,'Bruttó eszk'!BL$2:BL$34,0),"") | BM6: =IF('Bruttó eszk'!BM6>0,_xlfn.RANK.EQ('Bruttó eszk'!BM6,'Bruttó eszk'!BM$2:BM$34,0),"") | BN6: =IF('Bruttó eszk'!BN6>0,_xlfn.RANK.EQ('Bruttó eszk'!BN6,'Bruttó eszk'!BN$2:BN$34,0),"") | BO6: =IF('Bruttó eszk'!BO6>0,_xlfn.RANK.EQ('Bruttó eszk'!BO6,'Bruttó eszk'!BO$2:BO$34,0),"") | BP6: =IF('Bruttó eszk'!BP6>0,_xlfn.RANK.EQ('Bruttó eszk'!BP6,'Bruttó eszk'!BP$2:BP$34,0),"") | BQ6: =IF('Bruttó eszk'!BQ6>0,_xlfn.RANK.EQ('Bruttó eszk'!BQ6,'Bruttó eszk'!BQ$2:BQ$34,0),"") | BR6: =IF('Bruttó eszk'!BR6>0,_xlfn.RANK.EQ('Bruttó eszk'!BR6,'Bruttó eszk'!BR$2:BR$34,0),"") | BS6: =IF('Bruttó eszk'!BS6>0,_xlfn.RANK.EQ('Bruttó eszk'!BS6,'Bruttó eszk'!BS$2:BS$34,0),"") | ... BX6: =IF('Bruttó eszk'!BX6>0,_xlfn.RANK.EQ('Bruttó eszk'!BX6,'Bruttó eszk'!BX$2:BX$34,0),"") | BZ6: =IF('Bruttó eszk'!BZ6>0,_xlfn.RANK.EQ('Bruttó eszk'!BZ6,'Bruttó eszk'!BZ$2:BZ$34,0),"") | CA6: =IF('Bruttó eszk'!CA6>0,_xlfn.RANK.EQ('Bruttó eszk'!CA6,'Bruttó eszk'!CA$2:CA$34,0),"") | CB6: =IF('Bruttó eszk'!CB6>0,_xlfn.RANK.EQ('Bruttó eszk'!CB6,'Bruttó eszk'!CB$2:CB$34,0),"") | CC6: =IF('Bruttó eszk'!CC6>0,_xlfn.RANK.EQ('Bruttó eszk'!CC6,'Bruttó eszk'!CC$2:CC$34,0),"") | CD6: =IF('Bruttó eszk'!CD6>0,_xlfn.RANK.EQ('Bruttó eszk'!CD6,'Bruttó eszk'!CD$2:CD$34,0),"") | CE6: =IF('Bruttó eszk'!CE6>0,_xlfn.RANK.EQ('Bruttó eszk'!CE6,'Bruttó eszk'!CE$2:CE$34,0),"") | CG6: =IF('Bruttó eszk'!CG6>0,_xlfn.RANK.EQ('Bruttó eszk'!CG6,'Bruttó eszk'!CG$2:CG$34,0),"") | CH6: =IF('Bruttó eszk'!CH6>0,_xlfn.RANK.EQ('Bruttó eszk'!CH6,'Bruttó eszk'!CH$2:CH$34,0),"") | CI6: =IF('Bruttó eszk'!CI6>0,_xlfn.RANK.EQ('Bruttó eszk'!CI6,'Bruttó eszk'!CI$2:CI$34,0),"") | CJ6: =IF('Bruttó eszk'!CJ6>0,_xlfn.RANK.EQ('Bruttó eszk'!CJ6,'Bruttó eszk'!CJ$2:CJ$34,0),"")
A7: ='Bruttó eszk'!A7 -> ALD Automotive Magyarország Kft. | B7: =IF('Bruttó eszk'!B7>0,_xlfn.RANK.EQ('Bruttó eszk'!B7,'Bruttó eszk'!B$2:B$34,0),"") | C7: =IF('Bruttó eszk'!C7>0,_xlfn.RANK.EQ('Bruttó eszk'!C7,'Bruttó eszk'!C$2:C$34,0),"") | D7: =IF('Bruttó eszk'!D7>0,_xlfn.RANK.EQ('Bruttó eszk'!D7,'Bruttó eszk'!D$2:D$34,0),"") | E7: =IF('Bruttó eszk'!E7>0,_xlfn.RANK.EQ('Bruttó eszk'!E7,'Bruttó eszk'!E$2:E$34,0),"") | F7: =IF('Bruttó eszk'!F7>0,_xlfn.RANK.EQ('Bruttó eszk'!F7,'Bruttó eszk'!F$2:F$34,0),"") | G7: =IF('Bruttó eszk'!G7>0,_xlfn.RANK.EQ('Bruttó eszk'!G7,'Bruttó eszk'!G$2:G$34,0),"") | H7: =IF('Bruttó eszk'!H7>0,_xlfn.RANK.EQ('Bruttó eszk'!H7,'Bruttó eszk'!H$2:H$34,0),"") -> 1 | I7: =IF('Bruttó eszk'!I7>0,_xlfn.RANK.EQ('Bruttó eszk'!I7,'Bruttó eszk'!I$2:I$34,0),"") | ... BJ7: =IF('Bruttó eszk'!BJ7>0,_xlfn.RANK.EQ('Bruttó eszk'!BJ7,'Bruttó eszk'!BJ$2:BJ$34,0),"") | BL7: =IF('Bruttó eszk'!BL7>0,_xlfn.RANK.EQ('Bruttó eszk'!BL7,'Bruttó eszk'!BL$2:BL$34,0),"") | BM7: =IF('Bruttó eszk'!BM7>0,_xlfn.RANK.EQ('Bruttó eszk'!BM7,'Bruttó eszk'!BM$2:BM$34,0),"") | BN7: =IF('Bruttó eszk'!BN7>0,_xlfn.RANK.EQ('Bruttó eszk'!BN7,'Bruttó eszk'!BN$2:BN$34,0),"") -> 1 | BO7: =IF('Bruttó eszk'!BO7>0,_xlfn.RANK.EQ('Bruttó eszk'!BO7,'Bruttó eszk'!BO$2:BO$34,0),"") | BP7: =IF('Bruttó eszk'!BP7>0,_xlfn.RANK.EQ('Bruttó eszk'!BP7,'Bruttó eszk'!BP$2:BP$34,0),"") | BQ7: =IF('Bruttó eszk'!BQ7>0,_xlfn.RANK.EQ('Bruttó eszk'!BQ7,'Bruttó eszk'!BQ$2:BQ$34,0),"") | BR7: =IF('Bruttó eszk'!BR7>0,_xlfn.RANK.EQ('Bruttó eszk'!BR7,'Bruttó eszk'!BR$2:BR$34,0),"") | BS7: =IF('Bruttó eszk'!BS7>0,_xlfn.RANK.EQ('Bruttó eszk'!BS7,'Bruttó eszk'!BS$2:BS$34,0),"") | ... BX7: =IF('Bruttó eszk'!BX7>0,_xlfn.RANK.EQ('Bruttó eszk'!BX7,'Bruttó eszk'!BX$2:BX$34,0),"") | BZ7: =IF('Bruttó eszk'!BZ7>0,_xlfn.RANK.EQ('Bruttó eszk'!BZ7,'Bruttó eszk'!BZ$2:BZ$34,0),"") -> 6 | CA7: =IF('Bruttó eszk'!CA7>0,_xlfn.RANK.EQ('Bruttó eszk'!CA7,'Bruttó eszk'!CA$2:CA$34,0),"") | CB7: =IF('Bruttó eszk'!CB7>0,_xlfn.RANK.EQ('Bruttó eszk'!CB7,'Bruttó eszk'!CB$2:CB$34,0),"") | CC7: =IF('Bruttó eszk'!CC7>0,_xlfn.RANK.EQ('Bruttó eszk'!CC7,'Bruttó eszk'!CC$2:CC$34,0),"") | CD7: =IF('Bruttó eszk'!CD7>0,_xlfn.RANK.EQ('Bruttó eszk'!CD7,'Bruttó eszk'!CD$2:CD$34,0),"") | CE7: =IF('Bruttó eszk'!CE7>0,_xlfn.RANK.EQ('Bruttó eszk'!CE7,'Bruttó eszk'!CE$2:CE$34,0),"") -> 13 | CG7: =IF('Bruttó eszk'!CG7>0,_xlfn.RANK.EQ('Bruttó eszk'!CG7,'Bruttó eszk'!CG$2:CG$34,0),"") | CH7: =IF('Bruttó eszk'!CH7>0,_xlfn.RANK.EQ('Bruttó eszk'!CH7,'Bruttó eszk'!CH$2:CH$34,0),"") | CI7: =IF('Bruttó eszk'!CI7>0,_xlfn.RANK.EQ('Bruttó eszk'!CI7,'Bruttó eszk'!CI$2:CI$34,0),"") | CJ7: =IF('Bruttó eszk'!CJ7>0,_xlfn.RANK.EQ('Bruttó eszk'!CJ7,'Bruttó eszk'!CJ$2:CJ$34,0),"")
A8: ='Bruttó eszk'!A8 -> OTP Ingatlanlízing Zrt. | B8: =IF('Bruttó eszk'!B8>0,_xlfn.RANK.EQ('Bruttó eszk'!B8,'Bruttó eszk'!B$2:B$34,0),"") | C8: =IF('Bruttó eszk'!C8>0,_xlfn.RANK.EQ('Bruttó eszk'!C8,'Bruttó eszk'!C$2:C$34,0),"") | D8: =IF('Bruttó eszk'!D8>0,_xlfn.RANK.EQ('Bruttó eszk'!D8,'Bruttó eszk'!D$2:D$34,0),"") | E8: =IF('Bruttó eszk'!E8>0,_xlfn.RANK.EQ('Bruttó eszk'!E8,'Bruttó eszk'!E$2:E$34,0),"") | F8: =IF('Bruttó eszk'!F8>0,_xlfn.RANK.EQ('Bruttó eszk'!F8,'Bruttó eszk'!F$2:F$34,0),"") | G8: =IF('Bruttó eszk'!G8>0,_xlfn.RANK.EQ('Bruttó eszk'!G8,'Bruttó eszk'!G$2:G$34,0),"") | H8: =IF('Bruttó eszk'!H8>0,_xlfn.RANK.EQ('Bruttó eszk'!H8,'Bruttó eszk'!H$2:H$34,0),"") | I8: =IF('Bruttó eszk'!I8>0,_xlfn.RANK.EQ('Bruttó eszk'!I8,'Bruttó eszk'!I$2:I$34,0),"") | ... BJ8: =IF('Bruttó eszk'!BJ8>0,_xlfn.RANK.EQ('Bruttó eszk'!BJ8,'Bruttó eszk'!BJ$2:BJ$34,0),"") | BL8: =IF('Bruttó eszk'!BL8>0,_xlfn.RANK.EQ('Bruttó eszk'!BL8,'Bruttó eszk'!BL$2:BL$34,0),"") | BM8: =IF('Bruttó eszk'!BM8>0,_xlfn.RANK.EQ('Bruttó eszk'!BM8,'Bruttó eszk'!BM$2:BM$34,0),"") | BN8: =IF('Bruttó eszk'!BN8>0,_xlfn.RANK.EQ('Bruttó eszk'!BN8,'Bruttó eszk'!BN$2:BN$34,0),"") | BO8: =IF('Bruttó eszk'!BO8>0,_xlfn.RANK.EQ('Bruttó eszk'!BO8,'Bruttó eszk'!BO$2:BO$34,0),"") | BP8: =IF('Bruttó eszk'!BP8>0,_xlfn.RANK.EQ('Bruttó eszk'!BP8,'Bruttó eszk'!BP$2:BP$34,0),"") | BQ8: =IF('Bruttó eszk'!BQ8>0,_xlfn.RANK.EQ('Bruttó eszk'!BQ8,'Bruttó eszk'!BQ$2:BQ$34,0),"") | BR8: =IF('Bruttó eszk'!BR8>0,_xlfn.RANK.EQ('Bruttó eszk'!BR8,'Bruttó eszk'!BR$2:BR$34,0),"") | BS8: =IF('Bruttó eszk'!BS8>0,_xlfn.RANK.EQ('Bruttó eszk'!BS8,'Bruttó eszk'!BS$2:BS$34,0),"") | ... BX8: =IF('Bruttó eszk'!BX8>0,_xlfn.RANK.EQ('Bruttó eszk'!BX8,'Bruttó eszk'!BX$2:BX$34,0),"") | BZ8: =IF('Bruttó eszk'!BZ8>0,_xlfn.RANK.EQ('Bruttó eszk'!BZ8,'Bruttó eszk'!BZ$2:BZ$34,0),"") | CA8: =IF('Bruttó eszk'!CA8>0,_xlfn.RANK.EQ('Bruttó eszk'!CA8,'Bruttó eszk'!CA$2:CA$34,0),"") | CB8: =IF('Bruttó eszk'!CB8>0,_xlfn.RANK.EQ('Bruttó eszk'!CB8,'Bruttó eszk'!CB$2:CB$34,0),"") | CC8: =IF('Bruttó eszk'!CC8>0,_xlfn.RANK.EQ('Bruttó eszk'!CC8,'Bruttó eszk'!CC$2:CC$34,0),"") -> 2 | CD8: =IF('Bruttó eszk'!CD8>0,_xlfn.RANK.EQ('Bruttó eszk'!CD8,'Bruttó eszk'!CD$2:CD$34,0),"") | CE8: =IF('Bruttó eszk'!CE8>0,_xlfn.RANK.EQ('Bruttó eszk'!CE8,'Bruttó eszk'!CE$2:CE$34,0),"") -> 24 | CG8: =IF('Bruttó eszk'!CG8>0,_xlfn.RANK.EQ('Bruttó eszk'!CG8,'Bruttó eszk'!CG$2:CG$34,0),"") | CH8: =IF('Bruttó eszk'!CH8>0,_xlfn.RANK.EQ('Bruttó eszk'!CH8,'Bruttó eszk'!CH$2:CH$34,0),"") | CI8: =IF('Bruttó eszk'!CI8>0,_xlfn.RANK.EQ('Bruttó eszk'!CI8,'Bruttó eszk'!CI$2:CI$34,0),"") | CJ8: =IF('Bruttó eszk'!CJ8>0,_xlfn.RANK.EQ('Bruttó eszk'!CJ8,'Bruttó eszk'!CJ$2:CJ$34,0),"")
A9: ='Bruttó eszk'!A9 -> Cofidis | B9: =IF('Bruttó eszk'!B9>0,_xlfn.RANK.EQ('Bruttó eszk'!B9,'Bruttó eszk'!B$2:B$34,0),"") -> 7 | C9: =IF('Bruttó eszk'!C9>0,_xlfn.RANK.EQ('Bruttó eszk'!C9,'Bruttó eszk'!C$2:C$34,0),"") -> 15 | D9: =IF('Bruttó eszk'!D9>0,_xlfn.RANK.EQ('Bruttó eszk'!D9,'Bruttó eszk'!D$2:D$34,0),"") -> 2 | E9: =IF('Bruttó eszk'!E9>0,_xlfn.RANK.EQ('Bruttó eszk'!E9,'Bruttó eszk'!E$2:E$34,0),"") -> 6 | F9: =IF('Bruttó eszk'!F9>0,_xlfn.RANK.EQ('Bruttó eszk'!F9,'Bruttó eszk'!F$2:F$34,0),"") -> 3 | G9: =IF('Bruttó eszk'!G9>0,_xlfn.RANK.EQ('Bruttó eszk'!G9,'Bruttó eszk'!G$2:G$34,0),"") -> 3 | H9: =IF('Bruttó eszk'!H9>0,_xlfn.RANK.EQ('Bruttó eszk'!H9,'Bruttó eszk'!H$2:H$34,0),"") | I9: =IF('Bruttó eszk'!I9>0,_xlfn.RANK.EQ('Bruttó eszk'!I9,'Bruttó eszk'!I$2:I$34,0),"") | ... BJ9: =IF('Bruttó eszk'!BJ9>0,_xlfn.RANK.EQ('Bruttó eszk'!BJ9,'Bruttó eszk'!BJ$2:BJ$34,0),"") -> 3 | BL9: =IF('Bruttó eszk'!BL9>0,_xlfn.RANK.EQ('Bruttó eszk'!BL9,'Bruttó eszk'!BL$2:BL$34,0),"") -> 7 | BM9: =IF('Bruttó eszk'!BM9>0,_xlfn.RANK.EQ('Bruttó eszk'!BM9,'Bruttó eszk'!BM$2:BM$34,0),"") -> 3 | BN9: =IF('Bruttó eszk'!BN9>0,_xlfn.RANK.EQ('Bruttó eszk'!BN9,'Bruttó eszk'!BN$2:BN$34,0),"") | BO9: =IF('Bruttó eszk'!BO9>0,_xlfn.RANK.EQ('Bruttó eszk'!BO9,'Bruttó eszk'!BO$2:BO$34,0),"") | BP9: =IF('Bruttó eszk'!BP9>0,_xlfn.RANK.EQ('Bruttó eszk'!BP9,'Bruttó eszk'!BP$2:BP$34,0),"") | BQ9: =IF('Bruttó eszk'!BQ9>0,_xlfn.RANK.EQ('Bruttó eszk'!BQ9,'Bruttó eszk'!BQ$2:BQ$34,0),"") | BR9: =IF('Bruttó eszk'!BR9>0,_xlfn.RANK.EQ('Bruttó eszk'!BR9,'Bruttó eszk'!BR$2:BR$34,0),"") | BS9: =IF('Bruttó eszk'!BS9>0,_xlfn.RANK.EQ('Bruttó eszk'!BS9,'Bruttó eszk'!BS$2:BS$34,0),"") | ... BX9: =IF('Bruttó eszk'!BX9>0,_xlfn.RANK.EQ('Bruttó eszk'!BX9,'Bruttó eszk'!BX$2:BX$34,0),"") -> 3 | BZ9: =IF('Bruttó eszk'!BZ9>0,_xlfn.RANK.EQ('Bruttó eszk'!BZ9,'Bruttó eszk'!BZ$2:BZ$34,0),"") -> 10 | CA9: =IF('Bruttó eszk'!CA9>0,_xlfn.RANK.EQ('Bruttó eszk'!CA9,'Bruttó eszk'!CA$2:CA$34,0),"") | CB9: =IF('Bruttó eszk'!CB9>0,_xlfn.RANK.EQ('Bruttó eszk'!CB9,'Bruttó eszk'!CB$2:CB$34,0),"") | CC9: =IF('Bruttó eszk'!CC9>0,_xlfn.RANK.EQ('Bruttó eszk'!CC9,'Bruttó eszk'!CC$2:CC$34,0),"") | CD9: =IF('Bruttó eszk'!CD9>0,_xlfn.RANK.EQ('Bruttó eszk'!CD9,'Bruttó eszk'!CD$2:CD$34,0),"") -> 3 | CE9: =IF('Bruttó eszk'!CE9>0,_xlfn.RANK.EQ('Bruttó eszk'!CE9,'Bruttó eszk'!CE$2:CE$34,0),"") -> 18 | CG9: =IF('Bruttó eszk'!CG9>0,_xlfn.RANK.EQ('Bruttó eszk'!CG9,'Bruttó eszk'!CG$2:CG$34,0),"") -> 15 | CH9: =IF('Bruttó eszk'!CH9>0,_xlfn.RANK.EQ('Bruttó eszk'!CH9,'Bruttó eszk'!CH$2:CH$34,0),"") -> 4 | CI9: =IF('Bruttó eszk'!CI9>0,_xlfn.RANK.EQ('Bruttó eszk'!CI9,'Bruttó eszk'!CI$2:CI$34,0),"") -> 7 | CJ9: =IF('Bruttó eszk'!CJ9>0,_xlfn.RANK.EQ('Bruttó eszk'!CJ9,'Bruttó eszk'!CJ$2:CJ$34,0),"") -> 11
A10: ='Bruttó eszk'!A10 -> UniCredit Leasing csoport | B10: =IF('Bruttó eszk'!B10>0,_xlfn.RANK.EQ('Bruttó eszk'!B10,'Bruttó eszk'!B$2:B$34,0),"") -> 2 | C10: =IF('Bruttó eszk'!C10>0,_xlfn.RANK.EQ('Bruttó eszk'!C10,'Bruttó eszk'!C$2:C$34,0),"") -> 3 | D10: =IF('Bruttó eszk'!D10>0,_xlfn.RANK.EQ('Bruttó eszk'!D10,'Bruttó eszk'!D$2:D$34,0),"") -> 7 | E10: =IF('Bruttó eszk'!E10>0,_xlfn.RANK.EQ('Bruttó eszk'!E10,'Bruttó eszk'!E$2:E$34,0),"") -> 5 | F10: =IF('Bruttó eszk'!F10>0,_xlfn.RANK.EQ('Bruttó eszk'!F10,'Bruttó eszk'!F$2:F$34,0),"") | G10: =IF('Bruttó eszk'!G10>0,_xlfn.RANK.EQ('Bruttó eszk'!G10,'Bruttó eszk'!G$2:G$34,0),"") | H10: =IF('Bruttó eszk'!H10>0,_xlfn.RANK.EQ('Bruttó eszk'!H10,'Bruttó eszk'!H$2:H$34,0),"") -> 9 | I10: =IF('Bruttó eszk'!I10>0,_xlfn.RANK.EQ('Bruttó eszk'!I10,'Bruttó eszk'!I$2:I$34,0),"") -> 5 | ... BJ10: =IF('Bruttó eszk'!BJ10>0,_xlfn.RANK.EQ('Bruttó eszk'!BJ10,'Bruttó eszk'!BJ$2:BJ$34,0),"") | BL10: =IF('Bruttó eszk'!BL10>0,_xlfn.RANK.EQ('Bruttó eszk'!BL10,'Bruttó eszk'!BL$2:BL$34,0),"") -> 3 | BM10: =IF('Bruttó eszk'!BM10>0,_xlfn.RANK.EQ('Bruttó eszk'!BM10,'Bruttó eszk'!BM$2:BM$34,0),"") | BN10: =IF('Bruttó eszk'!BN10>0,_xlfn.RANK.EQ('Bruttó eszk'!BN10,'Bruttó eszk'!BN$2:BN$34,0),"") -> 9 | BO10: =IF('Bruttó eszk'!BO10>0,_xlfn.RANK.EQ('Bruttó eszk'!BO10,'Bruttó eszk'!BO$2:BO$34,0),"") | BP10: =IF('Bruttó eszk'!BP10>0,_xlfn.RANK.EQ('Bruttó eszk'!BP10,'Bruttó eszk'!BP$2:BP$34,0),"") -> 9 | BQ10: =IF('Bruttó eszk'!BQ10>0,_xlfn.RANK.EQ('Bruttó eszk'!BQ10,'Bruttó eszk'!BQ$2:BQ$34,0),"") -> 7 | BR10: =IF('Bruttó eszk'!BR10>0,_xlfn.RANK.EQ('Bruttó eszk'!BR10,'Bruttó eszk'!BR$2:BR$34,0),"") -> 6 | BS10: =IF('Bruttó eszk'!BS10>0,_xlfn.RANK.EQ('Bruttó eszk'!BS10,'Bruttó eszk'!BS$2:BS$34,0),"") -> 3 | ... BX10: =IF('Bruttó eszk'!BX10>0,_xlfn.RANK.EQ('Bruttó eszk'!BX10,'Bruttó eszk'!BX$2:BX$34,0),"") | BZ10: =IF('Bruttó eszk'!BZ10>0,_xlfn.RANK.EQ('Bruttó eszk'!BZ10,'Bruttó eszk'!BZ$2:BZ$34,0),"") -> 4 | CA10: =IF('Bruttó eszk'!CA10>0,_xlfn.RANK.EQ('Bruttó eszk'!CA10,'Bruttó eszk'!CA$2:CA$34,0),"") -> 8 | CB10: =IF('Bruttó eszk'!CB10>0,_xlfn.RANK.EQ('Bruttó eszk'!CB10,'Bruttó eszk'!CB$2:CB$34,0),"") -> 1 | CC10: =IF('Bruttó eszk'!CC10>0,_xlfn.RANK.EQ('Bruttó eszk'!CC10,'Bruttó eszk'!CC$2:CC$34,0),"") | CD10: =IF('Bruttó eszk'!CD10>0,_xlfn.RANK.EQ('Bruttó eszk'!CD10,'Bruttó eszk'!CD$2:CD$34,0),"") | CE10: =IF('Bruttó eszk'!CE10>0,_xlfn.RANK.EQ('Bruttó eszk'!CE10,'Bruttó eszk'!CE$2:CE$34,0),"") -> 2 | CG10: =IF('Bruttó eszk'!CG10>0,_xlfn.RANK.EQ('Bruttó eszk'!CG10,'Bruttó eszk'!CG$2:CG$34,0),"") -> 2 | CH10: =IF('Bruttó eszk'!CH10>0,_xlfn.RANK.EQ('Bruttó eszk'!CH10,'Bruttó eszk'!CH$2:CH$34,0),"") -> 6 | CI10: =IF('Bruttó eszk'!CI10>0,_xlfn.RANK.EQ('Bruttó eszk'!CI10,'Bruttó eszk'!CI$2:CI$34,0),"") -> 2 | CJ10: =IF('Bruttó eszk'!CJ10>0,_xlfn.RANK.EQ('Bruttó eszk'!CJ10,'Bruttó eszk'!CJ$2:CJ$34,0),"") -> 3
A11: ='Bruttó eszk'!A11 -> Erste Leasing Cégcsoport | B11: =IF('Bruttó eszk'!B11>0,_xlfn.RANK.EQ('Bruttó eszk'!B11,'Bruttó eszk'!B$2:B$34,0),"") | C11: =IF('Bruttó eszk'!C11>0,_xlfn.RANK.EQ('Bruttó eszk'!C11,'Bruttó eszk'!C$2:C$34,0),"") -> 8 | D11: =IF('Bruttó eszk'!D11>0,_xlfn.RANK.EQ('Bruttó eszk'!D11,'Bruttó eszk'!D$2:D$34,0),"") | E11: =IF('Bruttó eszk'!E11>0,_xlfn.RANK.EQ('Bruttó eszk'!E11,'Bruttó eszk'!E$2:E$34,0),"") -> 8 | F11: =IF('Bruttó eszk'!F11>0,_xlfn.RANK.EQ('Bruttó eszk'!F11,'Bruttó eszk'!F$2:F$34,0),"") | G11: =IF('Bruttó eszk'!G11>0,_xlfn.RANK.EQ('Bruttó eszk'!G11,'Bruttó eszk'!G$2:G$34,0),"") | H11: =IF('Bruttó eszk'!H11>0,_xlfn.RANK.EQ('Bruttó eszk'!H11,'Bruttó eszk'!H$2:H$34,0),"") | I11: =IF('Bruttó eszk'!I11>0,_xlfn.RANK.EQ('Bruttó eszk'!I11,'Bruttó eszk'!I$2:I$34,0),"") | ... BJ11: =IF('Bruttó eszk'!BJ11>0,_xlfn.RANK.EQ('Bruttó eszk'!BJ11,'Bruttó eszk'!BJ$2:BJ$34,0),"") | BL11: =IF('Bruttó eszk'!BL11>0,_xlfn.RANK.EQ('Bruttó eszk'!BL11,'Bruttó eszk'!BL$2:BL$34,0),"") -> 9 | BM11: =IF('Bruttó eszk'!BM11>0,_xlfn.RANK.EQ('Bruttó eszk'!BM11,'Bruttó eszk'!BM$2:BM$34,0),"") | BN11: =IF('Bruttó eszk'!BN11>0,_xlfn.RANK.EQ('Bruttó eszk'!BN11,'Bruttó eszk'!BN$2:BN$34,0),"") | BO11: =IF('Bruttó eszk'!BO11>0,_xlfn.RANK.EQ('Bruttó eszk'!BO11,'Bruttó eszk'!BO$2:BO$34,0),"") -> 3 | BP11: =IF('Bruttó eszk'!BP11>0,_xlfn.RANK.EQ('Bruttó eszk'!BP11,'Bruttó eszk'!BP$2:BP$34,0),"") | BQ11: =IF('Bruttó eszk'!BQ11>0,_xlfn.RANK.EQ('Bruttó eszk'!BQ11,'Bruttó eszk'!BQ$2:BQ$34,0),"") -> 8 | BR11: =IF('Bruttó eszk'!BR11>0,_xlfn.RANK.EQ('Bruttó eszk'!BR11,'Bruttó eszk'!BR$2:BR$34,0),"") -> 12 | BS11: =IF('Bruttó eszk'!BS11>0,_xlfn.RANK.EQ('Bruttó eszk'!BS11,'Bruttó eszk'!BS$2:BS$34,0),"") -> 10 | ... BX11: =IF('Bruttó eszk'!BX11>0,_xlfn.RANK.EQ('Bruttó eszk'!BX11,'Bruttó eszk'!BX$2:BX$34,0),"") | BZ11: =IF('Bruttó eszk'!BZ11>0,_xlfn.RANK.EQ('Bruttó eszk'!BZ11,'Bruttó eszk'!BZ$2:BZ$34,0),"") -> 15 | CA11: =IF('Bruttó eszk'!CA11>0,_xlfn.RANK.EQ('Bruttó eszk'!CA11,'Bruttó eszk'!CA$2:CA$34,0),"") -> 9 | CB11: =IF('Bruttó eszk'!CB11>0,_xlfn.RANK.EQ('Bruttó eszk'!CB11,'Bruttó eszk'!CB$2:CB$34,0),"") -> 13 | CC11: =IF('Bruttó eszk'!CC11>0,_xlfn.RANK.EQ('Bruttó eszk'!CC11,'Bruttó eszk'!CC$2:CC$34,0),"") | CD11: =IF('Bruttó eszk'!CD11>0,_xlfn.RANK.EQ('Bruttó eszk'!CD11,'Bruttó eszk'!CD$2:CD$34,0),"") | CE11: =IF('Bruttó eszk'!CE11>0,_xlfn.RANK.EQ('Bruttó eszk'!CE11,'Bruttó eszk'!CE$2:CE$34,0),"") -> 14 | CG11: =IF('Bruttó eszk'!CG11>0,_xlfn.RANK.EQ('Bruttó eszk'!CG11,'Bruttó eszk'!CG$2:CG$34,0),"") -> 8 | CH11: =IF('Bruttó eszk'!CH11>0,_xlfn.RANK.EQ('Bruttó eszk'!CH11,'Bruttó eszk'!CH$2:CH$34,0),"") -> 8 | CI11: =IF('Bruttó eszk'!CI11>0,_xlfn.RANK.EQ('Bruttó eszk'!CI11,'Bruttó eszk'!CI$2:CI$34,0),"") | CJ11: =IF('Bruttó eszk'!CJ11>0,_xlfn.RANK.EQ('Bruttó eszk'!CJ11,'Bruttó eszk'!CJ$2:CJ$34,0),"") -> 8
A12: ='Bruttó eszk'!A12 -> Budapest Bank Zrt., Budapest Lízing Zrt. | B12: =IF('Bruttó eszk'!B12>0,_xlfn.RANK.EQ('Bruttó eszk'!B12,'Bruttó eszk'!B$2:B$34,0),"") -> 3 | C12: =IF('Bruttó eszk'!C12>0,_xlfn.RANK.EQ('Bruttó eszk'!C12,'Bruttó eszk'!C$2:C$34,0),"") -> 4 | D12: =IF('Bruttó eszk'!D12>0,_xlfn.RANK.EQ('Bruttó eszk'!D12,'Bruttó eszk'!D$2:D$34,0),"") -> 4 | E12: =IF('Bruttó eszk'!E12>0,_xlfn.RANK.EQ('Bruttó eszk'!E12,'Bruttó eszk'!E$2:E$34,0),"") -> 3 | F12: =IF('Bruttó eszk'!F12>0,_xlfn.RANK.EQ('Bruttó eszk'!F12,'Bruttó eszk'!F$2:F$34,0),"") | G12: =IF('Bruttó eszk'!G12>0,_xlfn.RANK.EQ('Bruttó eszk'!G12,'Bruttó eszk'!G$2:G$34,0),"") | H12: =IF('Bruttó eszk'!H12>0,_xlfn.RANK.EQ('Bruttó eszk'!H12,'Bruttó eszk'!H$2:H$34,0),"") | I12: =IF('Bruttó eszk'!I12>0,_xlfn.RANK.EQ('Bruttó eszk'!I12,'Bruttó eszk'!I$2:I$34,0),"") | ... BJ12: =IF('Bruttó eszk'!BJ12>0,_xlfn.RANK.EQ('Bruttó eszk'!BJ12,'Bruttó eszk'!BJ$2:BJ$34,0),"") | BL12: =IF('Bruttó eszk'!BL12>0,_xlfn.RANK.EQ('Bruttó eszk'!BL12,'Bruttó eszk'!BL$2:BL$34,0),"") -> 4 | BM12: =IF('Bruttó eszk'!BM12>0,_xlfn.RANK.EQ('Bruttó eszk'!BM12,'Bruttó eszk'!BM$2:BM$34,0),"") | BN12: =IF('Bruttó eszk'!BN12>0,_xlfn.RANK.EQ('Bruttó eszk'!BN12,'Bruttó eszk'!BN$2:BN$34,0),"") | BO12: =IF('Bruttó eszk'!BO12>0,_xlfn.RANK.EQ('Bruttó eszk'!BO12,'Bruttó eszk'!BO$2:BO$34,0),"") -> 1 | BP12: =IF('Bruttó eszk'!BP12>0,_xlfn.RANK.EQ('Bruttó eszk'!BP12,'Bruttó eszk'!BP$2:BP$34,0),"") -> 1 | BQ12: =IF('Bruttó eszk'!BQ12>0,_xlfn.RANK.EQ('Bruttó eszk'!BQ12,'Bruttó eszk'!BQ$2:BQ$34,0),"") -> 2 | BR12: =IF('Bruttó eszk'!BR12>0,_xlfn.RANK.EQ('Bruttó eszk'!BR12,'Bruttó eszk'!BR$2:BR$34,0),"") -> 4 | BS12: =IF('Bruttó eszk'!BS12>0,_xlfn.RANK.EQ('Bruttó eszk'!BS12,'Bruttó eszk'!BS$2:BS$34,0),"") -> 5 | ... BX12: =IF('Bruttó eszk'!BX12>0,_xlfn.RANK.EQ('Bruttó eszk'!BX12,'Bruttó eszk'!BX$2:BX$34,0),"") | BZ12: =IF('Bruttó eszk'!BZ12>0,_xlfn.RANK.EQ('Bruttó eszk'!BZ12,'Bruttó eszk'!BZ$2:BZ$34,0),"") -> 3 | CA12: =IF('Bruttó eszk'!CA12>0,_xlfn.RANK.EQ('Bruttó eszk'!CA12,'Bruttó eszk'!CA$2:CA$34,0),"") -> 1 | CB12: =IF('Bruttó eszk'!CB12>0,_xlfn.RANK.EQ('Bruttó eszk'!CB12,'Bruttó eszk'!CB$2:CB$34,0),"") -> 6 | CC12: =IF('Bruttó eszk'!CC12>0,_xlfn.RANK.EQ('Bruttó eszk'!CC12,'Bruttó eszk'!CC$2:CC$34,0),"") | CD12: =IF('Bruttó eszk'!CD12>0,_xlfn.RANK.EQ('Bruttó eszk'!CD12,'Bruttó eszk'!CD$2:CD$34,0),"") | CE12: =IF('Bruttó eszk'!CE12>0,_xlfn.RANK.EQ('Bruttó eszk'!CE12,'Bruttó eszk'!CE$2:CE$34,0),"") -> 3 | CG12: =IF('Bruttó eszk'!CG12>0,_xlfn.RANK.EQ('Bruttó eszk'!CG12,'Bruttó eszk'!CG$2:CG$34,0),"") -> 4 | CH12: =IF('Bruttó eszk'!CH12>0,_xlfn.RANK.EQ('Bruttó eszk'!CH12,'Bruttó eszk'!CH$2:CH$34,0),"") -> 3 | CI12: =IF('Bruttó eszk'!CI12>0,_xlfn.RANK.EQ('Bruttó eszk'!CI12,'Bruttó eszk'!CI$2:CI$34,0),"") -> 3 | CJ12: =IF('Bruttó eszk'!CJ12>0,_xlfn.RANK.EQ('Bruttó eszk'!CJ12,'Bruttó eszk'!CJ$2:CJ$34,0),"") -> 4
A13: ='Bruttó eszk'!A13 -> Régió Holding Kft. | B13: =IF('Bruttó eszk'!B13>0,_xlfn.RANK.EQ('Bruttó eszk'!B13,'Bruttó eszk'!B$2:B$34,0),"") | C13: =IF('Bruttó eszk'!C13>0,_xlfn.RANK.EQ('Bruttó eszk'!C13,'Bruttó eszk'!C$2:C$34,0),"") -> 14 | D13: =IF('Bruttó eszk'!D13>0,_xlfn.RANK.EQ('Bruttó eszk'!D13,'Bruttó eszk'!D$2:D$34,0),"") | E13: =IF('Bruttó eszk'!E13>0,_xlfn.RANK.EQ('Bruttó eszk'!E13,'Bruttó eszk'!E$2:E$34,0),"") -> 13 | F13: =IF('Bruttó eszk'!F13>0,_xlfn.RANK.EQ('Bruttó eszk'!F13,'Bruttó eszk'!F$2:F$34,0),"") | G13: =IF('Bruttó eszk'!G13>0,_xlfn.RANK.EQ('Bruttó eszk'!G13,'Bruttó eszk'!G$2:G$34,0),"") | H13: =IF('Bruttó eszk'!H13>0,_xlfn.RANK.EQ('Bruttó eszk'!H13,'Bruttó eszk'!H$2:H$34,0),"") | I13: =IF('Bruttó eszk'!I13>0,_xlfn.RANK.EQ('Bruttó eszk'!I13,'Bruttó eszk'!I$2:I$34,0),"") | ... BJ13: =IF('Bruttó eszk'!BJ13>0,_xlfn.RANK.EQ('Bruttó eszk'!BJ13,'Bruttó eszk'!BJ$2:BJ$34,0),"") -> 2 | BL13: =IF('Bruttó eszk'!BL13>0,_xlfn.RANK.EQ('Bruttó eszk'!BL13,'Bruttó eszk'!BL$2:BL$34,0),"") -> 15 | BM13: =IF('Bruttó eszk'!BM13>0,_xlfn.RANK.EQ('Bruttó eszk'!BM13,'Bruttó eszk'!BM$2:BM$34,0),"") | BN13: =IF('Bruttó eszk'!BN13>0,_xlfn.RANK.EQ('Bruttó eszk'!BN13,'Bruttó eszk'!BN$2:BN$34,0),"") | BO13: =IF('Bruttó eszk'!BO13>0,_xlfn.RANK.EQ('Bruttó eszk'!BO13,'Bruttó eszk'!BO$2:BO$34,0),"") | BP13: =IF('Bruttó eszk'!BP13>0,_xlfn.RANK.EQ('Bruttó eszk'!BP13,'Bruttó eszk'!BP$2:BP$34,0),"") -> 7 | BQ13: =IF('Bruttó eszk'!BQ13>0,_xlfn.RANK.EQ('Bruttó eszk'!BQ13,'Bruttó eszk'!BQ$2:BQ$34,0),"") -> 16 | BR13: =IF('Bruttó eszk'!BR13>0,_xlfn.RANK.EQ('Bruttó eszk'!BR13,'Bruttó eszk'!BR$2:BR$34,0),"") -> 14 | BS13: =IF('Bruttó eszk'!BS13>0,_xlfn.RANK.EQ('Bruttó eszk'!BS13,'Bruttó eszk'!BS$2:BS$34,0),"") -> 13 | ... BX13: =IF('Bruttó eszk'!BX13>0,_xlfn.RANK.EQ('Bruttó eszk'!BX13,'Bruttó eszk'!BX$2:BX$34,0),"") -> 2 | BZ13: =IF('Bruttó eszk'!BZ13>0,_xlfn.RANK.EQ('Bruttó eszk'!BZ13,'Bruttó eszk'!BZ$2:BZ$34,0),"") -> 23 | CA13: =IF('Bruttó eszk'!CA13>0,_xlfn.RANK.EQ('Bruttó eszk'!CA13,'Bruttó eszk'!CA$2:CA$34,0),"") -> 16 | CB13: =IF('Bruttó eszk'!CB13>0,_xlfn.RANK.EQ('Bruttó eszk'!CB13,'Bruttó eszk'!CB$2:CB$34,0),"") -> 14 | CC13: =IF('Bruttó eszk'!CC13>0,_xlfn.RANK.EQ('Bruttó eszk'!CC13,'Bruttó eszk'!CC$2:CC$34,0),"") | CD13: =IF('Bruttó eszk'!CD13>0,_xlfn.RANK.EQ('Bruttó eszk'!CD13,'Bruttó eszk'!CD$2:CD$34,0),"") -> 2 | CE13: =IF('Bruttó eszk'!CE13>0,_xlfn.RANK.EQ('Bruttó eszk'!CE13,'Bruttó eszk'!CE$2:CE$34,0),"") -> 20 | CG13: =IF('Bruttó eszk'!CG13>0,_xlfn.RANK.EQ('Bruttó eszk'!CG13,'Bruttó eszk'!CG$2:CG$34,0),"") -> 14 | CH13: =IF('Bruttó eszk'!CH13>0,_xlfn.RANK.EQ('Bruttó eszk'!CH13,'Bruttó eszk'!CH$2:CH$34,0),"") -> 13 | CI13: =IF('Bruttó eszk'!CI13>0,_xlfn.RANK.EQ('Bruttó eszk'!CI13,'Bruttó eszk'!CI$2:CI$34,0),"") | CJ13: =IF('Bruttó eszk'!CJ13>0,_xlfn.RANK.EQ('Bruttó eszk'!CJ13,'Bruttó eszk'!CJ$2:CJ$34,0),"") -> 15
... A34: ='Bruttó eszk'!A34 -> 0 | B34: =IF('Bruttó eszk'!B34>0,_xlfn.RANK.EQ('Bruttó eszk'!B34,'Bruttó eszk'!B$2:B$34,0),"") | C34: =IF('Bruttó eszk'!C34>0,_xlfn.RANK.EQ('Bruttó eszk'!C34,'Bruttó eszk'!C$2:C$34,0),"") | D34: =IF('Bruttó eszk'!D34>0,_xlfn.RANK.EQ('Bruttó eszk'!D34,'Bruttó eszk'!D$2:D$34,0),"") | E34: =IF('Bruttó eszk'!E34>0,_xlfn.RANK.EQ('Bruttó eszk'!E34,'Bruttó eszk'!E$2:E$34,0),"") | F34: =IF('Bruttó eszk'!F34>0,_xlfn.RANK.EQ('Bruttó eszk'!F34,'Bruttó eszk'!F$2:F$34,0),"") | G34: =IF('Bruttó eszk'!G34>0,_xlfn.RANK.EQ('Bruttó eszk'!G34,'Bruttó eszk'!G$2:G$34,0),"") | H34: =IF('Bruttó eszk'!H34>0,_xlfn.RANK.EQ('Bruttó eszk'!H34,'Bruttó eszk'!H$2:H$34,0),"") | I34: =IF('Bruttó eszk'!I34>0,_xlfn.RANK.EQ('Bruttó eszk'!I34,'Bruttó eszk'!I$2:I$34,0),"") | ... BJ34: =IF('Bruttó eszk'!BJ34>0,_xlfn.RANK.EQ('Bruttó eszk'!BJ34,'Bruttó eszk'!BJ$2:BJ$34,0),"") | BL34: =IF('Bruttó eszk'!BL34>0,_xlfn.RANK.EQ('Bruttó eszk'!BL34,'Bruttó eszk'!BL$2:BL$34,0),"") | BM34: =IF('Bruttó eszk'!BM34>0,_xlfn.RANK.EQ('Bruttó eszk'!BM34,'Bruttó eszk'!BM$2:BM$34,0),"") | BN34: =IF('Bruttó eszk'!BN34>0,_xlfn.RANK.EQ('Bruttó eszk'!BN34,'Bruttó eszk'!BN$2:BN$34,0),"") | BO34: =IF('Bruttó eszk'!BO34>0,_xlfn.RANK.EQ('Bruttó eszk'!BO34,'Bruttó eszk'!BO$2:BO$34,0),"") | BP34: =IF('Bruttó eszk'!BP34>0,_xlfn.RANK.EQ('Bruttó eszk'!BP34,'Bruttó eszk'!BP$2:BP$34,0),"") | BQ34: =IF('Bruttó eszk'!BQ34>0,_xlfn.RANK.EQ('Bruttó eszk'!BQ34,'Bruttó eszk'!BQ$2:BQ$34,0),"") | BR34: =IF('Bruttó eszk'!BR34>0,_xlfn.RANK.EQ('Bruttó eszk'!BR34,'Bruttó eszk'!BR$2:BR$34,0),"") | BS34: =IF('Bruttó eszk'!BS34>0,_xlfn.RANK.EQ('Bruttó eszk'!BS34,'Bruttó eszk'!BS$2:BS$34,0),"") | ... BX34: =IF('Bruttó eszk'!BX34>0,_xlfn.RANK.EQ('Bruttó eszk'!BX34,'Bruttó eszk'!BX$2:BX$34,0),"") | BZ34: =IF('Bruttó eszk'!BZ34>0,_xlfn.RANK.EQ('Bruttó eszk'!BZ34,'Bruttó eszk'!BZ$2:BZ$34,0),"") | CA34: =IF('Bruttó eszk'!CA34>0,_xlfn.RANK.EQ('Bruttó eszk'!CA34,'Bruttó eszk'!CA$2:CA$34,0),"") | CB34: =IF('Bruttó eszk'!CB34>0,_xlfn.RANK.EQ('Bruttó eszk'!CB34,'Bruttó eszk'!CB$2:CB$34,0),"") | CC34: =IF('Bruttó eszk'!CC34>0,_xlfn.RANK.EQ('Bruttó eszk'!CC34,'Bruttó eszk'!CC$2:CC$34,0),"") | CD34: =IF('Bruttó eszk'!CD34>0,_xlfn.RANK.EQ('Bruttó eszk'!CD34,'Bruttó eszk'!CD$2:CD$34,0),"") | CE34: =IF('Bruttó eszk'!CE34>0,_xlfn.RANK.EQ('Bruttó eszk'!CE34,'Bruttó eszk'!CE$2:CE$34,0),"") | CG34: =IF('Bruttó eszk'!CG34>0,_xlfn.RANK.EQ('Bruttó eszk'!CG34,'Bruttó eszk'!CG$2:CG$34,0),"") | CH34: =IF('Bruttó eszk'!CH34>0,_xlfn.RANK.EQ('Bruttó eszk'!CH34,'Bruttó eszk'!CH$2:CH$34,0),"") | CI34: =IF('Bruttó eszk'!CI34>0,_xlfn.RANK.EQ('Bruttó eszk'!CI34,'Bruttó eszk'!CI$2:CI$34,0),"") | CJ34: =IF('Bruttó eszk'!CJ34>0,_xlfn.RANK.EQ('Bruttó eszk'!CJ34,'Bruttó eszk'!CJ$2:CJ$34,0),"")
A35: ='Bruttó eszk'!A35 -> Összesen | B35: ='Bruttó eszk'!B35 -> 78665010305 | C35: ='Bruttó eszk'!C35 -> 1.7491107e+11 | D35: ='Bruttó eszk'!D35 -> 42694013891 | E35: ='Bruttó eszk'!E35 -> 4.3778586e+10 | F35: ='Bruttó eszk'!F35 -> 1385949942 | G35: ='Bruttó eszk'!G35 -> 466104633 | H35: ='Bruttó eszk'!H35 -> 8.2828846e+10 | ... BJ35: ='Bruttó eszk'!BJ35 -> 2341932931 | BL35: ='Bruttó eszk'!BL35 -> 3.4004868e+11 | BM35: ='Bruttó eszk'!BM35 -> 1852054575 | BN35: ='Bruttó eszk'!BN35 -> 8.5507505e+10 | BO35: ='Bruttó eszk'!BO35 -> 15658830180 | BP35: ='Bruttó eszk'!BP35 -> 32014640003 | BQ35: ='Bruttó eszk'!BQ35 -> 1.792242e+11 | BR35: ='Bruttó eszk'!BR35 -> 1.0337882e+11 | BS35: ='Bruttó eszk'!BS35 -> 2.3913333e+10 | ... BX35: ='Bruttó eszk'!BX35 -> 2389062537 | BZ35: ='Bruttó eszk'!BZ35 -> 4.4306707e+11 | CA35: ='Bruttó eszk'!CA35 -> 2.1123884e+11 | CB35: ='Bruttó eszk'!CB35 -> 2.8696531e+11 | CC35: ='Bruttó eszk'!CC35 -> 3895891744 | CD35: ='Bruttó eszk'!CD35 -> 2389062537 | CE35: ='Bruttó eszk'!CE35 -> 9.4755618e+11 | CG35: ='Bruttó eszk'!CG35 -> 2.5357608e+11 | CH35: ='Bruttó eszk'!CH35 -> 8.64726e+10 | CI35: ='Bruttó eszk'!CI35 -> 121359024196 | CJ35: ='Bruttó eszk'!CJ35 -> 2.1868966e+11
F36: =IF('Bruttó eszk'!F36>0,_xlfn.RANK.EQ('Bruttó eszk'!F36,'Bruttó eszk'!F$2:F$28,0),"") | G36: =IF('Bruttó eszk'!G36>0,_xlfn.RANK.EQ('Bruttó eszk'!G36,'Bruttó eszk'!G$2:G$28,0),"")
